BEGIN:VCALENDAR
VERSION:2.0
PRODID:-//Odessa Arts - ECPv6.15.20//NONSGML v1.0//EN
CALSCALE:GREGORIAN
METHOD:PUBLISH
X-WR-CALNAME:Odessa Arts
X-ORIGINAL-URL:https://odessaarts.org
X-WR-CALDESC:Events for Odessa Arts
REFRESH-INTERVAL;VALUE=DURATION:PT1H
X-Robots-Tag:noindex
X-PUBLISHED-TTL:PT1H
BEGIN:VTIMEZONE
TZID:America/Chicago
BEGIN:DAYLIGHT
TZOFFSETFROM:-0600
TZOFFSETTO:-0500
TZNAME:CDT
DTSTART:20240310T080000
END:DAYLIGHT
BEGIN:STANDARD
TZOFFSETFROM:-0500
TZOFFSETTO:-0600
TZNAME:CST
DTSTART:20241103T070000
END:STANDARD
BEGIN:DAYLIGHT
TZOFFSETFROM:-0600
TZOFFSETTO:-0500
TZNAME:CDT
DTSTART:20250309T080000
END:DAYLIGHT
BEGIN:STANDARD
TZOFFSETFROM:-0500
TZOFFSETTO:-0600
TZNAME:CST
DTSTART:20251102T070000
END:STANDARD
BEGIN:DAYLIGHT
TZOFFSETFROM:-0600
TZOFFSETTO:-0500
TZNAME:CDT
DTSTART:20260308T080000
END:DAYLIGHT
BEGIN:STANDARD
TZOFFSETFROM:-0500
TZOFFSETTO:-0600
TZNAME:CST
DTSTART:20261101T070000
END:STANDARD
END:VTIMEZONE
BEGIN:VEVENT
DTSTART;TZID=America/Chicago:20250405T190000
DTEND;TZID=America/Chicago:20250405T220000
DTSTAMP:20260424T214535
CREATED:20250320T141144Z
LAST-MODIFIED:20250320T141144Z
UID:75819-1743879600-1743890400@odessaarts.org
SUMMARY:Chris Cagle
DESCRIPTION:Born in De Ridder\, LA and raised in Houston\, TX\, Chris Cagle is an American Country Music Artist.  He moved to Nashville in 1994.\n\nWhile in Nashville\, the struggling Artist held down several jobs: nanny\, waiter\, prep chef and golf caddy\, among many others.  During that time\, he signed a publishing deal with Caliber Music.  He had his first song\, “I Breathe In\, I Breathe Out”\, cut by David Kersh within 8 months of signing his deal\, but he wanted more.  He wanted to be an Artist.\n\nThat dream came true in 2000 when he signed to Virgin Records.  Cagle co-wrote and co-produced his debut Gold record\, Play It Loud\, which produced a top 10 single\, “My Love Goes On & On”\, a top 5 single “Laredo” and the #1 single\, “I Breathe In\, I Breathe Out”.\n\nHis self-titled sophomore project debuted at #1 on the Billboard Country Albums chart and is certified Gold\, as well as yielding two Top 5 singles: “What A Beautiful Day” and “Chicks Dig It”.\n\nCagle penned additional albums that brought more success with hits like “Miss Me Baby”\, What Kinda Gone”\, “Got My Country On”\, “Let There Be Cowgirls” and “Country By The Grace Of God”.\n\nNominated for New Male Vocalist by the Academy of Country Music and Voted CMT’s Breakthrough Artist of the Year in 2002\, it is the stage where Cagle has always shined the brightest.  His passion for the performance of music is a rare find\, and this Artist isn’t afraid of giving everything he has to his fans.
URL:https://odessaarts.org/event/chris-cagle/
LOCATION:The Ector Theatre\, 500 N. Texas\, Odessa\, TX\, 79761\, United States
CATEGORIES:Music
END:VEVENT
BEGIN:VEVENT
DTSTART;TZID=America/Chicago:20250405T210000
DTEND;TZID=America/Chicago:20250405T210000
DTSTAMP:20260424T214535
CREATED:20250325T160246Z
LAST-MODIFIED:20250325T160246Z
UID:75927-1743886800-1743886800@odessaarts.org
SUMMARY:LOS CAPORALES
DESCRIPTION:¡La fiesta de este sábado está asegurada!Los Caporales de Chihuahua llegan a Dos Amigos para ponerle todo el sabor a la Noche Norteña.Si eres fan de la buena música\, este es tu plan. ¡Te esperamos para disfrutar de una noche inolvidable!Comienza a las 9 PM.  21+¡Súbele al ánimo y ven a disfrutar con nosotros! RSVP: (432) 582-0820Ubicación: 4700 N Golder Ave\, Odessa\, TX 79764
URL:https://odessaarts.org/event/los-caporales/
LOCATION:Dos Amigos\, 4700 N.Golder Ave\, Odessa\, TX\, 79764\, United States
CATEGORIES:Music
END:VEVENT
END:VCALENDAR