BEGIN:VCALENDAR
VERSION:2.0
PRODID:-//Odessa Arts - ECPv6.15.20//NONSGML v1.0//EN
CALSCALE:GREGORIAN
METHOD:PUBLISH
X-ORIGINAL-URL:https://odessaarts.org
X-WR-CALDESC:Events for Odessa Arts
REFRESH-INTERVAL;VALUE=DURATION:PT1H
X-Robots-Tag:noindex
X-PUBLISHED-TTL:PT1H
BEGIN:VTIMEZONE
TZID:America/Chicago
BEGIN:DAYLIGHT
TZOFFSETFROM:-0600
TZOFFSETTO:-0500
TZNAME:CDT
DTSTART:20240310T080000
END:DAYLIGHT
BEGIN:STANDARD
TZOFFSETFROM:-0500
TZOFFSETTO:-0600
TZNAME:CST
DTSTART:20241103T070000
END:STANDARD
BEGIN:DAYLIGHT
TZOFFSETFROM:-0600
TZOFFSETTO:-0500
TZNAME:CDT
DTSTART:20250309T080000
END:DAYLIGHT
BEGIN:STANDARD
TZOFFSETFROM:-0500
TZOFFSETTO:-0600
TZNAME:CST
DTSTART:20251102T070000
END:STANDARD
BEGIN:DAYLIGHT
TZOFFSETFROM:-0600
TZOFFSETTO:-0500
TZNAME:CDT
DTSTART:20260308T080000
END:DAYLIGHT
BEGIN:STANDARD
TZOFFSETFROM:-0500
TZOFFSETTO:-0600
TZNAME:CST
DTSTART:20261101T070000
END:STANDARD
END:VTIMEZONE
BEGIN:VEVENT
DTSTART;TZID=America/Chicago:20250413T143000
DTEND;TZID=America/Chicago:20250413T143000
DTSTAMP:20260424T214647
CREATED:20240307T201516Z
LAST-MODIFIED:20240307T201516Z
UID:72641-1744554600-1744554600@odessaarts.org
SUMMARY:Forever Simon & Garfunkel
DESCRIPTION:Forever Simon & Garfunkel celebrates the best selling duo in rock’n’roll history. With humor\, soaring energy\, charm\, and laser precise harmony\, Sean Altman & Jack Skuller lead the audience on a concert journey through Paul Simon and Art Garfunkel’s teenage roots\, their early success as a groovy folk act\, their global dominance as hit-makers\, and even some of Paul Simon’s solo career. The Sound Of Silence\, Bridge Over Troubled Water\, Mrs. Robinson\, I Am A Rock\, The Boxer\, Homeward Bound\, Cecilia\, Hazy Shade Of Winter\, Feeling Groovy\, Me & Julio Down by the Schoolyard\, Kodachrome\, and many more! \nAward-winning singer-songwriters Sean Altman (Rockapella) & Jack Skuller (Songwriters Hall Of Fame Buddy Holly Prize) met on stage in 2010\, when they were paired at a variety show to duet Mrs. Robinson. Jack had just celebrated his 14th birthday\, and Sean had just celebrated his shiny new AARP card\, but the audience found their December-January musical bromance and brotherly harmony to be enchanting and mesmerizing. The pair has toured as The Everly Set since 2016\, celebrating the hits of The Everly Brothers. They formed Forever Simon & Garfunkel in 2020\, and they tour both acts internationally.
URL:https://odessaarts.org/event/forever-simon-garfunkel/
LOCATION:Wagner Noël Performing Arts Center\, 1310 FM 1788\, Midland\, Texas
CATEGORIES:Music
END:VEVENT
BEGIN:VEVENT
DTSTART;TZID=America/Chicago:20250413T193000
DTEND;TZID=America/Chicago:20250413T193000
DTSTAMP:20260424T214647
CREATED:20240521T204809Z
LAST-MODIFIED:20240521T205408Z
UID:73355-1744572600-1744572600@odessaarts.org
SUMMARY:UTPB Jazz Kettle Concert
DESCRIPTION:
URL:https://odessaarts.org/event/utpb-jazz-kettle/
LOCATION:Rea-Greathouse Recital Hall\, 1310 Farm to Market 1788\, Midlan\, TX\, 79707\, United States
CATEGORIES:Music
END:VEVENT
END:VCALENDAR