BEGIN:VCALENDAR
VERSION:2.0
PRODID:-//Odessa Arts - ECPv6.15.20//NONSGML v1.0//EN
CALSCALE:GREGORIAN
METHOD:PUBLISH
X-ORIGINAL-URL:https://odessaarts.org
X-WR-CALDESC:Events for Odessa Arts
REFRESH-INTERVAL;VALUE=DURATION:PT1H
X-Robots-Tag:noindex
X-PUBLISHED-TTL:PT1H
BEGIN:VTIMEZONE
TZID:America/Chicago
BEGIN:DAYLIGHT
TZOFFSETFROM:-0600
TZOFFSETTO:-0500
TZNAME:CDT
DTSTART:20240310T080000
END:DAYLIGHT
BEGIN:STANDARD
TZOFFSETFROM:-0500
TZOFFSETTO:-0600
TZNAME:CST
DTSTART:20241103T070000
END:STANDARD
BEGIN:DAYLIGHT
TZOFFSETFROM:-0600
TZOFFSETTO:-0500
TZNAME:CDT
DTSTART:20250309T080000
END:DAYLIGHT
BEGIN:STANDARD
TZOFFSETFROM:-0500
TZOFFSETTO:-0600
TZNAME:CST
DTSTART:20251102T070000
END:STANDARD
BEGIN:DAYLIGHT
TZOFFSETFROM:-0600
TZOFFSETTO:-0500
TZNAME:CDT
DTSTART:20260308T080000
END:DAYLIGHT
BEGIN:STANDARD
TZOFFSETFROM:-0500
TZOFFSETTO:-0600
TZNAME:CST
DTSTART:20261101T070000
END:STANDARD
END:VTIMEZONE
BEGIN:VEVENT
DTSTART;TZID=America/Chicago:20250425T180000
DTEND;TZID=America/Chicago:20250425T180000
DTSTAMP:20260424T214554
CREATED:20250425T143711Z
LAST-MODIFIED:20250425T143711Z
UID:76272-1745604000-1745604000@odessaarts.org
SUMMARY:The Spazmatics
DESCRIPTION:**THIS IS AN 18 AND UP EVENT! $10 minor upcharge. 18-20 year olds will have to pay $10 at the door. Anyone below the age of 18 will not be allowed entry. \nTicket Prices:\n\n\n• General Admission – $20.00 / Day of Show $25.00\n\n• Couch Sectional (Price includes entry for 8 people) $500.00\n• Rectangle Table (Price includes entry for 8 people) $450.00\n• Round Table (Price includes entry for 8 people) $400.00\n\n• Table for 4 (Price includes entry for 4 people) $225.00\n• Standing VIP ticket $35.00\n\n\n\nDoors at 6pm. No re-entry. Clear bag policy. No lawn chairs permitted. Food trucks on site. \nThis is a rain or shine event. No refunds. \n\nTicket prices increase on the date of the performance. 
URL:https://odessaarts.org/event/the-spazmatics/
LOCATION:The Tailgate Midland\, 4401 N Big Spring\, Midland\, TX\, 79705\, United States
CATEGORIES:Music
END:VEVENT
BEGIN:VEVENT
DTSTART;TZID=America/Chicago:20250425T180000
DTEND;TZID=America/Chicago:20250425T220000
DTSTAMP:20260424T214554
CREATED:20250227T174543Z
LAST-MODIFIED:20250227T174543Z
UID:75418-1745604000-1745618400@odessaarts.org
SUMMARY:Permian Basin Opera Gala
DESCRIPTION:The Permian Basin Opera’s Gala is an annual event in Midland\, Texas\, that celebrates opera and supports the local arts community. The gala offers guests an elegant evening featuring live performances by talented local opera singers. \nWe will have six performers this year. \nSoprano Daniella Rodriguez \nSoprano Caroline Booth \nMezzo Soprano Jillian Pena \nTenor Zachery Douglas \nTenor Andrew Ellis \nBaritone Dirk Ross.
URL:https://odessaarts.org/event/permian-basin-opera-gala/
LOCATION:TBD
CATEGORIES:Music,Theatre & Literary Arts
END:VEVENT
BEGIN:VEVENT
DTSTART;TZID=America/Chicago:20250425T190000
DTEND;TZID=America/Chicago:20250425T190000
DTSTAMP:20260424T214554
CREATED:20250425T173636Z
LAST-MODIFIED:20250425T173636Z
UID:76312-1745607600-1745607600@odessaarts.org
SUMMARY:JON KOTT BAND
DESCRIPTION:The Jon Kott Band\, of Katy TX\, embodies the essence of Texas Red Dirt music with a refreshing Texas-Rock edge. Founded in early 2023 by Jon Kott. their heartfelt songwriting and rousing performances\, quickly earned them impressive following through the south. Named – Texas Country Association “2023 Artist To Watch”\, 3 Songs Broke into Texas Radio Top 100.   Live With Live Oak and The Venue at Live Oak (3201 Elkins Rd\, Midland\, TX) Proudly Present and Welcome The Jon Kott Band!
URL:https://odessaarts.org/event/jon-kott-band/
LOCATION:The Venue at Live Oak\, 3201 Elkins Rd\, Midland\, TX\, 79705\, United States
CATEGORIES:Music
END:VEVENT
BEGIN:VEVENT
DTSTART;TZID=America/Chicago:20250425T190000
DTEND;TZID=America/Chicago:20250426T000000
DTSTAMP:20260424T214554
CREATED:20250425T155505Z
LAST-MODIFIED:20250425T155505Z
UID:76300-1745607600-1745625600@odessaarts.org
SUMMARY:Friday Night Live: Pump Handle Vandals
DESCRIPTION:Friday Night Live is a show of support for local and regional bands. These events are free to the public.\nDoors open at 7 pm\, music starts at 8 pm. \nThis week’s featured act is: \nPUMP HANDLE VANDALS\, a country music cover band. \nBar service and a food truck vendor are always available on site. This week’s food truck will be TBD.
URL:https://odessaarts.org/event/friday-night-live-pump-handle-vandals/
LOCATION:The Destination\, 1705 W. Industrial Ave.\, Midland\, TX\, 79701
CATEGORIES:Music
END:VEVENT
END:VCALENDAR