BEGIN:VCALENDAR
VERSION:2.0
PRODID:-//Odessa Arts - ECPv6.15.20//NONSGML v1.0//EN
CALSCALE:GREGORIAN
METHOD:PUBLISH
X-ORIGINAL-URL:https://odessaarts.org
X-WR-CALDESC:Events for Odessa Arts
REFRESH-INTERVAL;VALUE=DURATION:PT1H
X-Robots-Tag:noindex
X-PUBLISHED-TTL:PT1H
BEGIN:VTIMEZONE
TZID:America/Chicago
BEGIN:DAYLIGHT
TZOFFSETFROM:-0600
TZOFFSETTO:-0500
TZNAME:CDT
DTSTART:20240310T080000
END:DAYLIGHT
BEGIN:STANDARD
TZOFFSETFROM:-0500
TZOFFSETTO:-0600
TZNAME:CST
DTSTART:20241103T070000
END:STANDARD
BEGIN:DAYLIGHT
TZOFFSETFROM:-0600
TZOFFSETTO:-0500
TZNAME:CDT
DTSTART:20250309T080000
END:DAYLIGHT
BEGIN:STANDARD
TZOFFSETFROM:-0500
TZOFFSETTO:-0600
TZNAME:CST
DTSTART:20251102T070000
END:STANDARD
BEGIN:DAYLIGHT
TZOFFSETFROM:-0600
TZOFFSETTO:-0500
TZNAME:CDT
DTSTART:20260308T080000
END:DAYLIGHT
BEGIN:STANDARD
TZOFFSETFROM:-0500
TZOFFSETTO:-0600
TZNAME:CST
DTSTART:20261101T070000
END:STANDARD
END:VTIMEZONE
BEGIN:VEVENT
DTSTART;TZID=America/Chicago:20250427T143000
DTEND;TZID=America/Chicago:20250427T143000
DTSTAMP:20260424T202709
CREATED:20241024T212139Z
LAST-MODIFIED:20241024T212139Z
UID:74230-1745764200-1745764200@odessaarts.org
SUMMARY:Sixtiesmania
DESCRIPTION:Sixtiesmania is one of the leading 60s tribute band in the USA today.  Having performed all over the world the band is now based full time in Las Vegas Nevada\, but still travels all over the country to perform their incredible salute to the greatest music of all time. Sixtiesmania\, a sixties tribute band\, covers everything from the Beatles British invasion to the music of Woodstock and everything in between\, and after! Stones\, CCR\, Doors\, Monkees\, Beach Boys\, Kinks\, Free\, Cream\, the Vietnam anthem songs\, Summer of love\, etc. etc. If you want a band that covers all these great groups\, and does them in the original spirit and energy\, Sixtiesmania is the perfect choice for your event. \n\n\n\n\n\n 
URL:https://odessaarts.org/event/sixtiesmania-2/
LOCATION:Wagner Noël Performing Arts Center\, 1310 FM 1788\, Midland\, Texas
CATEGORIES:Humanities,Music
END:VEVENT
END:VCALENDAR