BEGIN:VCALENDAR
VERSION:2.0
PRODID:-//Odessa Arts - ECPv6.15.20//NONSGML v1.0//EN
CALSCALE:GREGORIAN
METHOD:PUBLISH
X-ORIGINAL-URL:https://odessaarts.org
X-WR-CALDESC:Events for Odessa Arts
REFRESH-INTERVAL;VALUE=DURATION:PT1H
X-Robots-Tag:noindex
X-PUBLISHED-TTL:PT1H
BEGIN:VTIMEZONE
TZID:America/Chicago
BEGIN:DAYLIGHT
TZOFFSETFROM:-0600
TZOFFSETTO:-0500
TZNAME:CDT
DTSTART:20240310T080000
END:DAYLIGHT
BEGIN:STANDARD
TZOFFSETFROM:-0500
TZOFFSETTO:-0600
TZNAME:CST
DTSTART:20241103T070000
END:STANDARD
BEGIN:DAYLIGHT
TZOFFSETFROM:-0600
TZOFFSETTO:-0500
TZNAME:CDT
DTSTART:20250309T080000
END:DAYLIGHT
BEGIN:STANDARD
TZOFFSETFROM:-0500
TZOFFSETTO:-0600
TZNAME:CST
DTSTART:20251102T070000
END:STANDARD
BEGIN:DAYLIGHT
TZOFFSETFROM:-0600
TZOFFSETTO:-0500
TZNAME:CDT
DTSTART:20260308T080000
END:DAYLIGHT
BEGIN:STANDARD
TZOFFSETFROM:-0500
TZOFFSETTO:-0600
TZNAME:CST
DTSTART:20261101T070000
END:STANDARD
END:VTIMEZONE
BEGIN:VEVENT
DTSTART;TZID=America/Chicago:20250501T000000
DTEND;TZID=America/Chicago:20250503T000000
DTSTAMP:20260424T202106
CREATED:20250421T201858Z
LAST-MODIFIED:20250421T201858Z
UID:76071-1746057600-1746230400@odessaarts.org
SUMMARY:Absolute Dance Recital 2025
DESCRIPTION:May 1 / Thursday 7:00 PM\nMay 2 / Friday 7:00 PM\nMay 3 / Saturday 10:00 AM\nMay 3 / Saturday 2:00 PM\nMay 3 / Saturday 6:00 PM\n\nThis year\, we’re celebrating vibrant moves\, bold energy\, and bright moments that bring the stage to life! Bursting with dynamic colors\, get ready for a show that POPS as Absolute Dance presents Living Color! \nPlease note for all events we have a clear bag policy with a size limit of 12x6x12″ or a non-clear bag/wallet with a size limit of 8x3x5″. This policy includes diaper bags. \nItems NOT Allowed \n\nBalloons\nGlass (flower or candy vases)\nWrapped gifts (gift bags allowed – subject to search)\nNoisemakers\nLaser pointers\nLarge signs\nStrollers
URL:https://odessaarts.org/event/absolute-dance-recital-2025/
LOCATION:Wagner Noël Performing Arts Center\, 1310 FM 1788\, Midland\, Texas
CATEGORIES:Music
END:VEVENT
BEGIN:VEVENT
DTSTART;TZID=America/Chicago:20250501T173000
DTEND;TZID=America/Chicago:20250501T200000
DTSTAMP:20260424T202106
CREATED:20250425T195416Z
LAST-MODIFIED:20250425T195416Z
UID:76349-1746120600-1746129600@odessaarts.org
SUMMARY:Poetry\, Art and Music Night
DESCRIPTION:Midland College is celebrating the accomplishments of students in Fine Arts & Communications with the Hilda Simmons Levitt Poetry Contest\, the Student Art Show\, and a Student Music Concert! \n\nEach event will be held in the Allison Fine Arts Building\, on Thursday\, May 1st! The times for each are as follows:\n\n\n5:30 P.M. – Hilda Simmons Levitt Poetry Contest\n6:00 P.M. – 8:00 P.M. – Student Art Show Reception\n7:00 P.M. – Student Music Performance
URL:https://odessaarts.org/event/poetry-art-and-music-night/
LOCATION:Allison Fine Arts Building\, 3600 N Garfield St\, Midland\, TX\, 79705\, United States
CATEGORIES:Humanities,Music,Theatre & Literary Arts,Visual Arts
END:VEVENT
BEGIN:VEVENT
DTSTART;TZID=America/Chicago:20250501T180000
DTEND;TZID=America/Chicago:20250501T180000
DTSTAMP:20260424T202106
CREATED:20250425T144348Z
LAST-MODIFIED:20250425T144348Z
UID:76274-1746122400-1746122400@odessaarts.org
SUMMARY:Kolby Cooper
DESCRIPTION:**THIS IS AN 18 AND UP EVENT! $10 minor upcharge. 18-20 year olds will have to pay $10 at the door. Anyone below the age of 18 will not be allowed entry. \nTicket Prices:\n\n\n• General Admission – $15.00 / Day of Show $20.00\n\n• Couch Sectional (Price includes entry for 8 people) $325.00\n• Rectangle Table (Price includes entry for 8 people) $300.00\n• Round Table (Price includes entry for 8 people) $275.00\n\n• Table for 4 (Price includes entry for 4 people) $150.00\n• Standing VIP ticket $35.00\n\n\n\nDoors at 6pm. No re-entry. No lawn chairs permitted. Food trucks on site. \nThis is a rain or shine event. No refunds. \n\nTicket prices increase on the date of the performance. 
URL:https://odessaarts.org/event/kolby-cooper/
LOCATION:The Tailgate Midland\, 4401 N Big Spring\, Midland\, TX\, 79705\, United States
CATEGORIES:Music
END:VEVENT
BEGIN:VEVENT
DTSTART;TZID=America/Chicago:20250501T180000
DTEND;TZID=America/Chicago:20250501T230000
DTSTAMP:20260424T202106
CREATED:20250425T155809Z
LAST-MODIFIED:20250425T155809Z
UID:76302-1746122400-1746140400@odessaarts.org
SUMMARY:Tejano Thirsty Thursday’s
DESCRIPTION:A FREE community event\, hosted by DJ Picasso spinning all your favorite Tejano jams plus so much more! \nDoors open at 6 PM. Family and pet friendly. Bar service and a food truck vendor are always available on site. \nTejano Thirsty Thursday’s season is sponsored by Basin Sales & Service.
URL:https://odessaarts.org/event/tejano-thirsty-thursdays-2/
LOCATION:The Destination\, 1705 W. Industrial Ave.\, Midland\, TX\, 79701
CATEGORIES:Music
END:VEVENT
BEGIN:VEVENT
DTSTART;TZID=America/Chicago:20250501T190000
DTEND;TZID=America/Chicago:20250501T190000
DTSTAMP:20260424T202106
CREATED:20250225T173505Z
LAST-MODIFIED:20250225T173505Z
UID:75375-1746126000-1746126000@odessaarts.org
SUMMARY:Voices of the Permian Basin - Spring Concert
DESCRIPTION:ADULT $25.00 \nSTUDENT $12.00 (with purchase of Adult Ticket or Valid College ID)
URL:https://odessaarts.org/event/voices-of-the-permian-basin-spring-concert/
LOCATION:Wagner Noël Performing Arts Center\, 1310 FM 1788\, Midland\, Texas
CATEGORIES:Music
END:VEVENT
BEGIN:VEVENT
DTSTART;TZID=America/Chicago:20250501T193000
DTEND;TZID=America/Chicago:20250501T193000
DTSTAMP:20260424T202106
CREATED:20240521T210041Z
LAST-MODIFIED:20240521T210041Z
UID:73362-1746127800-1746127800@odessaarts.org
SUMMARY:UTPB Choir Concert
DESCRIPTION:
URL:https://odessaarts.org/event/utpb-choir-concert-4/
LOCATION:TBD
CATEGORIES:Music
END:VEVENT
END:VCALENDAR