BEGIN:VCALENDAR
VERSION:2.0
PRODID:-//Odessa Arts - ECPv6.15.20//NONSGML v1.0//EN
CALSCALE:GREGORIAN
METHOD:PUBLISH
X-ORIGINAL-URL:https://odessaarts.org
X-WR-CALDESC:Events for Odessa Arts
REFRESH-INTERVAL;VALUE=DURATION:PT1H
X-Robots-Tag:noindex
X-PUBLISHED-TTL:PT1H
BEGIN:VTIMEZONE
TZID:America/Chicago
BEGIN:DAYLIGHT
TZOFFSETFROM:-0600
TZOFFSETTO:-0500
TZNAME:CDT
DTSTART:20240310T080000
END:DAYLIGHT
BEGIN:STANDARD
TZOFFSETFROM:-0500
TZOFFSETTO:-0600
TZNAME:CST
DTSTART:20241103T070000
END:STANDARD
BEGIN:DAYLIGHT
TZOFFSETFROM:-0600
TZOFFSETTO:-0500
TZNAME:CDT
DTSTART:20250309T080000
END:DAYLIGHT
BEGIN:STANDARD
TZOFFSETFROM:-0500
TZOFFSETTO:-0600
TZNAME:CST
DTSTART:20251102T070000
END:STANDARD
BEGIN:DAYLIGHT
TZOFFSETFROM:-0600
TZOFFSETTO:-0500
TZNAME:CDT
DTSTART:20260308T080000
END:DAYLIGHT
BEGIN:STANDARD
TZOFFSETFROM:-0500
TZOFFSETTO:-0600
TZNAME:CST
DTSTART:20261101T070000
END:STANDARD
END:VTIMEZONE
BEGIN:VEVENT
DTSTART;TZID=America/Chicago:20250503T050000
DTEND;TZID=America/Chicago:20250503T190000
DTSTAMP:20260424T202704
CREATED:20240520T193028Z
LAST-MODIFIED:20240520T193438Z
UID:73292-1746248400-1746298800@odessaarts.org
SUMMARY:Lone Star Brass - Spring Recital
DESCRIPTION:
URL:https://odessaarts.org/event/lone-star-brass-spring-recital-2/
LOCATION:TX
CATEGORIES:Music
ORGANIZER;CN="West Texas Symphony":MAILTO:symphony@wtxs.org
END:VEVENT
BEGIN:VEVENT
DTSTART;TZID=America/Chicago:20250503T090000
DTEND;TZID=America/Chicago:20250503T150000
DTSTAMP:20260424T202704
CREATED:20250425T184731Z
LAST-MODIFIED:20250425T184731Z
UID:76327-1746262800-1746284400@odessaarts.org
SUMMARY:The Block Party Popup Fiesta
DESCRIPTION:
URL:https://odessaarts.org/event/the-block-party-popup-fiesta/
LOCATION:Devoted Grind\, 1831 E 87th St\, Odess\, TX\, 79765\, United States
CATEGORIES:Music
END:VEVENT
BEGIN:VEVENT
DTSTART;TZID=America/Chicago:20250503T120000
DTEND;TZID=America/Chicago:20250503T120000
DTSTAMP:20260424T202704
CREATED:20250425T185239Z
LAST-MODIFIED:20250425T185239Z
UID:76330-1746273600-1746273600@odessaarts.org
SUMMARY:Viva La Fiesta: Luis Angel “El Flaco”
DESCRIPTION:Get ready for the 2025 Viva La Fiesta Odessa! This year’s celebration is bigger than ever – kicking off on Friday\, May 2nd\, and running through Sunday\, May 5th at the Ector County Coliseum.\nEnjoy concerts from artists like Grupo el Duelo\, Luis Angel El Flaco\, La Maquinaria Nortena & more!\nPlus\, explore 100+ vendors\, delicious food trucks\, a petting zoo\, carnival rides\, and even pig & duck racing.\nDaily tickets start at $20\, and three-day passes are $55.\nVisit VivaFiestaOdessa.com for tickets and details.
URL:https://odessaarts.org/event/viva-la-fiesta-luis-angel-el-flaco/
LOCATION:Ector County Coliseum\, 4201 Andrews Highway\, Odessa\, TX\, 79762\, United States
CATEGORIES:Music
END:VEVENT
BEGIN:VEVENT
DTSTART;TZID=America/Chicago:20250503T170000
DTEND;TZID=America/Chicago:20250503T170000
DTSTAMP:20260424T202704
CREATED:20250424T144242Z
LAST-MODIFIED:20250424T144242Z
UID:76124-1746291600-1746291600@odessaarts.org
SUMMARY:Suites & Streets
DESCRIPTION:Suite from the Fitzwilliam Virginal Book – Giles Farnaby\nStreet Song – Michael Tilson Thomas\nSuite Americana No. 1 – Enrique Crespo\nDos Tangos Nuevos – Astor Piazzolla \n$25 General Admission\, Students $12
URL:https://odessaarts.org/event/suites-streets/
LOCATION:Basin PBS Studio\, 203 N Main\, Midland\, TX\, 79705\, United States
CATEGORIES:Music
END:VEVENT
BEGIN:VEVENT
DTSTART;TZID=America/Chicago:20250503T170000
DTEND;TZID=America/Chicago:20250503T190000
DTSTAMP:20260424T202704
CREATED:20250425T200022Z
LAST-MODIFIED:20250425T200022Z
UID:76353-1746291600-1746298800@odessaarts.org
SUMMARY:West Texas Symphony Permian Basin String Quartet
DESCRIPTION:The West Texas Symphony invites all to the spring recital of the Permian Basin String Quartet. Enjoy lovely chamber music in an intimate setting
URL:https://odessaarts.org/event/west-texas-symphony-permian-basin-string-quartet/
LOCATION:Allison Fine Arts Building\, 3600 N Garfield St\, Midland\, TX\, 79705\, United States
CATEGORIES:Music
END:VEVENT
BEGIN:VEVENT
DTSTART;TZID=America/Chicago:20250503T190000
DTEND;TZID=America/Chicago:20250503T235900
DTSTAMP:20260424T202704
CREATED:20250425T161027Z
LAST-MODIFIED:20250425T161027Z
UID:76306-1746298800-1746316740@odessaarts.org
SUMMARY:THE BAND BIG SPRING
DESCRIPTION:The Band Big Spring lives to perform\, so don’t expect a typical bar band.  Their Texas country and rock music will keep you dancing under the stars all night long.  The evening will be filled with good vibes and high energy.  The Band Big Spring will put on a great show for you! \nReserve your table today!  Call 432-352-0913.  Tickets pre-sale $10\, $12 at the door. \nDoors open at 7 pm\, music starts at 8 pm.  Bar service and food truck always available.
URL:https://odessaarts.org/event/the-band-big-spring/
LOCATION:The Destination\, 1705 W. Industrial Ave.\, Midland\, TX\, 79701
CATEGORIES:Music
END:VEVENT
BEGIN:VEVENT
DTSTART;TZID=America/Chicago:20250503T200000
DTEND;TZID=America/Chicago:20250503T200000
DTSTAMP:20260424T202704
CREATED:20250325T152730Z
LAST-MODIFIED:20250325T152730Z
UID:75914-1746302400-1746302400@odessaarts.org
SUMMARY:Gente de Zona
DESCRIPTION:
URL:https://odessaarts.org/event/gente-de-zona/
LOCATION:La Hacienda Event Center\, 12600 TX-191 Hwy\, Midland\, TX\, 79705\, United States
CATEGORIES:Music
END:VEVENT
BEGIN:VEVENT
DTSTART;TZID=America/Chicago:20250503T200000
DTEND;TZID=America/Chicago:20250503T200000
DTSTAMP:20260424T202704
CREATED:20250424T171210Z
LAST-MODIFIED:20250424T171210Z
UID:76248-1746302400-1746302400@odessaarts.org
SUMMARY:Gente de Zona
DESCRIPTION:
URL:https://odessaarts.org/event/gente-de-zona-2/
LOCATION:La Hacienda Event Center\, 12600 TX-191 Hwy\, Midland\, TX\, 79705\, United States
CATEGORIES:Music
END:VEVENT
END:VCALENDAR