BEGIN:VCALENDAR
VERSION:2.0
PRODID:-//Odessa Arts - ECPv6.15.20//NONSGML v1.0//EN
CALSCALE:GREGORIAN
METHOD:PUBLISH
X-ORIGINAL-URL:https://odessaarts.org
X-WR-CALDESC:Events for Odessa Arts
REFRESH-INTERVAL;VALUE=DURATION:PT1H
X-Robots-Tag:noindex
X-PUBLISHED-TTL:PT1H
BEGIN:VTIMEZONE
TZID:America/Chicago
BEGIN:DAYLIGHT
TZOFFSETFROM:-0600
TZOFFSETTO:-0500
TZNAME:CDT
DTSTART:20240310T080000
END:DAYLIGHT
BEGIN:STANDARD
TZOFFSETFROM:-0500
TZOFFSETTO:-0600
TZNAME:CST
DTSTART:20241103T070000
END:STANDARD
BEGIN:DAYLIGHT
TZOFFSETFROM:-0600
TZOFFSETTO:-0500
TZNAME:CDT
DTSTART:20250309T080000
END:DAYLIGHT
BEGIN:STANDARD
TZOFFSETFROM:-0500
TZOFFSETTO:-0600
TZNAME:CST
DTSTART:20251102T070000
END:STANDARD
BEGIN:DAYLIGHT
TZOFFSETFROM:-0600
TZOFFSETTO:-0500
TZNAME:CDT
DTSTART:20260308T080000
END:DAYLIGHT
BEGIN:STANDARD
TZOFFSETFROM:-0500
TZOFFSETTO:-0600
TZNAME:CST
DTSTART:20261101T070000
END:STANDARD
END:VTIMEZONE
BEGIN:VEVENT
DTSTART;TZID=America/Chicago:20250504T120000
DTEND;TZID=America/Chicago:20250504T120000
DTSTAMP:20260424T202709
CREATED:20250425T185602Z
LAST-MODIFIED:20250425T185602Z
UID:76332-1746360000-1746360000@odessaarts.org
SUMMARY:Viva La Fiesta: La Maquinaria Nortena
DESCRIPTION:Get ready for the 2025 Viva La Fiesta Odessa! This year’s celebration is bigger than ever – kicking off on Friday\, May 2nd\, and running through Sunday\, May 5th at the Ector County Coliseum.\nEnjoy concerts from artists like Grupo el Duelo\, Luis Angel El Flaco\, La Maquinaria Nortena & more!\nPlus\, explore 100+ vendors\, delicious food trucks\, a petting zoo\, carnival rides\, and even pig & duck racing.\nDaily tickets start at $20\, and three-day passes are $55.\nVisit VivaFiestaOdessa.com for tickets and details.
URL:https://odessaarts.org/event/viva-la-fiesta-la-maquinaria-nortena/
LOCATION:Ector County Coliseum\, 4201 Andrews Highway\, Odessa\, TX\, 79762\, United States
CATEGORIES:Music
END:VEVENT
BEGIN:VEVENT
DTSTART;TZID=America/Chicago:20250504T200000
DTEND;TZID=America/Chicago:20250504T200000
DTSTAMP:20260424T202709
CREATED:20250307T232055Z
LAST-MODIFIED:20250307T232055Z
UID:75791-1746388800-1746388800@odessaarts.org
SUMMARY:Primavera\, Rieleros y Los Pescadores en el 2do Gran Aniversario de La Invasora 94.7FM
DESCRIPTION:
URL:https://odessaarts.org/event/primavera-rieleros-y-los-pescadores-en-el-2do-gran-aniversario-de-la-invasora-94-7fm/
LOCATION:La Hacienda Event Center\, 12600 TX-191 Hwy\, Midland\, TX\, 79705\, United States
CATEGORIES:Music
END:VEVENT
BEGIN:VEVENT
DTSTART;TZID=America/Chicago:20250504T200000
DTEND;TZID=America/Chicago:20250504T200000
DTSTAMP:20260424T202709
CREATED:20250424T172433Z
LAST-MODIFIED:20250424T172433Z
UID:76250-1746388800-1746388800@odessaarts.org
SUMMARY:Primavera\, Rieleros y Los Pescadores en el 2do Gran Aniversario de La Invasora 94.7FM
DESCRIPTION: 
URL:https://odessaarts.org/event/primavera-rieleros-y-los-pescadores-en-el-2do-gran-aniversario-de-la-invasora-94-7fm-2/
LOCATION:La Hacienda Event Center\, 12600 TX-191 Hwy\, Midland\, TX\, 79705\, United States
CATEGORIES:Music
END:VEVENT
END:VCALENDAR