BEGIN:VCALENDAR
VERSION:2.0
PRODID:-//Odessa Arts - ECPv6.15.20//NONSGML v1.0//EN
CALSCALE:GREGORIAN
METHOD:PUBLISH
X-WR-CALNAME:Odessa Arts
X-ORIGINAL-URL:https://odessaarts.org
X-WR-CALDESC:Events for Odessa Arts
REFRESH-INTERVAL;VALUE=DURATION:PT1H
X-Robots-Tag:noindex
X-PUBLISHED-TTL:PT1H
BEGIN:VTIMEZONE
TZID:America/Chicago
BEGIN:DAYLIGHT
TZOFFSETFROM:-0600
TZOFFSETTO:-0500
TZNAME:CDT
DTSTART:20240310T080000
END:DAYLIGHT
BEGIN:STANDARD
TZOFFSETFROM:-0500
TZOFFSETTO:-0600
TZNAME:CST
DTSTART:20241103T070000
END:STANDARD
BEGIN:DAYLIGHT
TZOFFSETFROM:-0600
TZOFFSETTO:-0500
TZNAME:CDT
DTSTART:20250309T080000
END:DAYLIGHT
BEGIN:STANDARD
TZOFFSETFROM:-0500
TZOFFSETTO:-0600
TZNAME:CST
DTSTART:20251102T070000
END:STANDARD
BEGIN:DAYLIGHT
TZOFFSETFROM:-0600
TZOFFSETTO:-0500
TZNAME:CDT
DTSTART:20260308T080000
END:DAYLIGHT
BEGIN:STANDARD
TZOFFSETFROM:-0500
TZOFFSETTO:-0600
TZNAME:CST
DTSTART:20261101T070000
END:STANDARD
END:VTIMEZONE
BEGIN:VEVENT
DTSTART;TZID=America/Chicago:20250508T180000
DTEND;TZID=America/Chicago:20250508T230000
DTSTAMP:20260424T213754
CREATED:20250425T161200Z
LAST-MODIFIED:20250425T161200Z
UID:76308-1746727200-1746745200@odessaarts.org
SUMMARY:Karaoke Night
DESCRIPTION:Join us for the FREE community karaoke night\, hosted by Average DJ Jake.  All you need to do is sign up\, choose your song\, and shine on stage! \nDoors open at 6 PM. Family and pet friendly.  Bar service and food always available on-site. \nKaraoke night season is sponsored by Patriot Cleaning Systems\, LLC.
URL:https://odessaarts.org/event/karaoke-night/
LOCATION:The Destination\, 1705 W. Industrial Ave.\, Midland\, TX\, 79701
CATEGORIES:Music
END:VEVENT
BEGIN:VEVENT
DTSTART;TZID=America/Chicago:20250508T193000
DTEND;TZID=America/Chicago:20250508T193000
DTSTAMP:20260424T213754
CREATED:20250421T202632Z
LAST-MODIFIED:20250421T202632Z
UID:76073-1746732600-1746732600@odessaarts.org
SUMMARY:Chamber Chorale - Spring Recital
DESCRIPTION:ADULT $25.00 \nSTUDENT $12.00 (with purchase of Adult Ticket or Valid College ID)
URL:https://odessaarts.org/event/chamber-chorale-spring-recital/
LOCATION:Rea-Greathouse Recital Hall\, 1310 Farm to Market 1788\, Midlan\, TX\, 79707\, United States
CATEGORIES:Music
END:VEVENT
END:VCALENDAR