BEGIN:VCALENDAR
VERSION:2.0
PRODID:-//Odessa Arts - ECPv6.15.20//NONSGML v1.0//EN
CALSCALE:GREGORIAN
METHOD:PUBLISH
X-ORIGINAL-URL:https://odessaarts.org
X-WR-CALDESC:Events for Odessa Arts
REFRESH-INTERVAL;VALUE=DURATION:PT1H
X-Robots-Tag:noindex
X-PUBLISHED-TTL:PT1H
BEGIN:VTIMEZONE
TZID:America/Chicago
BEGIN:DAYLIGHT
TZOFFSETFROM:-0600
TZOFFSETTO:-0500
TZNAME:CDT
DTSTART:20240310T080000
END:DAYLIGHT
BEGIN:STANDARD
TZOFFSETFROM:-0500
TZOFFSETTO:-0600
TZNAME:CST
DTSTART:20241103T070000
END:STANDARD
BEGIN:DAYLIGHT
TZOFFSETFROM:-0600
TZOFFSETTO:-0500
TZNAME:CDT
DTSTART:20250309T080000
END:DAYLIGHT
BEGIN:STANDARD
TZOFFSETFROM:-0500
TZOFFSETTO:-0600
TZNAME:CST
DTSTART:20251102T070000
END:STANDARD
BEGIN:DAYLIGHT
TZOFFSETFROM:-0600
TZOFFSETTO:-0500
TZNAME:CDT
DTSTART:20260308T080000
END:DAYLIGHT
BEGIN:STANDARD
TZOFFSETFROM:-0500
TZOFFSETTO:-0600
TZNAME:CST
DTSTART:20261101T070000
END:STANDARD
END:VTIMEZONE
BEGIN:VEVENT
DTSTART;TZID=America/Chicago:20250509T180000
DTEND;TZID=America/Chicago:20250509T180000
DTSTAMP:20260424T202151
CREATED:20250425T144515Z
LAST-MODIFIED:20250425T144515Z
UID:76276-1746813600-1746813600@odessaarts.org
SUMMARY:The Four Horsemen - A Celebration of Metallica
DESCRIPTION:**THIS IS AN 18 AND UP EVENT! $10 minor upcharge. 18-20 year olds will have to pay $10 at the door. Anyone below the age of 18 will not be allowed entry. \nTicket Prices:\n\n\n• General Admission – $15.00 / Day of Show $20.00\n\n• Couch Sectional (Price includes entry for 8 people) $450.00\n• Rectangle Table (Price includes entry for 8 people) $425.00\n• Round Table (Price includes entry for 8 people) $400.00\n\n• Table for 4 (Price includes entry for 4 people) $215.00\n• Standing VIP ticket $35.00\n\n\n\nDoors at 6pm. No re-entry. Clear bag policy. No lawn chairs permitted. Food trucks on site. \nThis is a rain or shine event. No refunds. \n\nTicket prices increase on the date of the performance.
URL:https://odessaarts.org/event/the-four-horsemen-a-celebration-of-metallica/
LOCATION:The Tailgate Midland\, 4401 N Big Spring\, Midland\, TX\, 79705\, United States
CATEGORIES:Music
END:VEVENT
BEGIN:VEVENT
DTSTART;TZID=America/Chicago:20250509T190000
DTEND;TZID=America/Chicago:20250509T210000
DTSTAMP:20260424T202151
CREATED:20250421T190138Z
LAST-MODIFIED:20250421T190138Z
UID:76037-1746817200-1746824400@odessaarts.org
SUMMARY:Music in the Garden
DESCRIPTION:DATE: May 2\, 9\, 16\, 23\, 30\nTIME: 7-9 p.m.\, doors open at 6 p.m.\nPRICE: Members: $32.95 | General Admission: $36.95 | This event is 21+. No infants or children permitted. \nEnjoy a stunning Garden backdrop as you experience local bands during this Friday night series. This 35-year-old tradition returns with concerts January through May. Food and beverages available for purchase. This event is 21+. IDs will be checked\, No infants or children permitted. \nMay 2: DeGrazia & Barajas | Classical and Flamenco Guitar\nMay 9: Carmela y Más | Latin Jazz & Salsa\nMay 16: True Flavor Blues | Slightly Jazzy Traditional Blues\nMay 23: YACHTZILLA! Monsters of Soft Rock | Yacht Rock 70s-80s\nMay 30: Cisco and the Racecars | Bluegrass folk old-time music \nChef Specials available for purchase \nMay 2: Carnitas Tacos: Braised Pork Carnitas\, Corn Tortillas\, Avocado Crema\, Salsa Fresca\, Refried Beans\, Calabacitas\nMay 9: Beef Sopes: Beef Machaca\, Pinto Beans\, Shredded Lettuce\, Tomatoes\, Crema\, Queso Fresco\, Arroz Verde\nMay 16: Chili Con Carne Dog: All Beef Hot Dog on a Brioche Bun\, Topped with Beef Chili\, Cheddar Cheese\, and Onions\, Served with Tater Tots\nMay 23: Gyro: Traditional Gyro with Tzatziki Sauce\, Fresh Pita\, Pickled Onion\, Garlic Hummus\, Cherry Tomatoes\, Cucumber\, Feta\nMay 30: Pulled Pork Sandwich: Slow Roasted Pulled Pork on a Brioche Bun\, Creamy Coleslaw\, Fresh Dill Potato Salad\, Grilled Watermelon\, and Carolina BBQ Sauce
URL:https://odessaarts.org/event/music-in-the-garden/2025-05-09/
LOCATION:Desert Botanical Garden\, 1201 N. GALVIN PARKWAY\, Phoenix\, AZ\, 85008\, United States
CATEGORIES:Humanities,Music
END:VEVENT
BEGIN:VEVENT
DTSTART;TZID=America/Chicago:20250509T190000
DTEND;TZID=America/Chicago:20250509T235900
DTSTAMP:20260424T202151
CREATED:20250425T161416Z
LAST-MODIFIED:20250425T161416Z
UID:76310-1746817200-1746835140@odessaarts.org
SUMMARY:Friday Night Live: Chandler Pearson Band
DESCRIPTION:Friday Night Live is a show of support for local and regional bands. These events are free to the public.\nDoors open at 7 pm\, music starts at 8 pm. \nThis week’s featured act is: \nThe Chandler Pearson Band\, a Texas Tech University Alumni from Lubbock brings you country music you can dance to featuring his brand new Single\, “Heavy Foot Throttle”. \nBar service and a food truck vendor are always available on site.
URL:https://odessaarts.org/event/friday-night-live-chandler-pearson-band/
LOCATION:The Destination\, 1705 W. Industrial Ave.\, Midland\, TX\, 79701
CATEGORIES:Music
END:VEVENT
END:VCALENDAR