BEGIN:VCALENDAR
VERSION:2.0
PRODID:-//Odessa Arts - ECPv6.15.20//NONSGML v1.0//EN
CALSCALE:GREGORIAN
METHOD:PUBLISH
X-ORIGINAL-URL:https://odessaarts.org
X-WR-CALDESC:Events for Odessa Arts
REFRESH-INTERVAL;VALUE=DURATION:PT1H
X-Robots-Tag:noindex
X-PUBLISHED-TTL:PT1H
BEGIN:VTIMEZONE
TZID:America/Chicago
BEGIN:DAYLIGHT
TZOFFSETFROM:-0600
TZOFFSETTO:-0500
TZNAME:CDT
DTSTART:20240310T080000
END:DAYLIGHT
BEGIN:STANDARD
TZOFFSETFROM:-0500
TZOFFSETTO:-0600
TZNAME:CST
DTSTART:20241103T070000
END:STANDARD
BEGIN:DAYLIGHT
TZOFFSETFROM:-0600
TZOFFSETTO:-0500
TZNAME:CDT
DTSTART:20250309T080000
END:DAYLIGHT
BEGIN:STANDARD
TZOFFSETFROM:-0500
TZOFFSETTO:-0600
TZNAME:CST
DTSTART:20251102T070000
END:STANDARD
BEGIN:DAYLIGHT
TZOFFSETFROM:-0600
TZOFFSETTO:-0500
TZNAME:CDT
DTSTART:20260308T080000
END:DAYLIGHT
BEGIN:STANDARD
TZOFFSETFROM:-0500
TZOFFSETTO:-0600
TZNAME:CST
DTSTART:20261101T070000
END:STANDARD
END:VTIMEZONE
BEGIN:VEVENT
DTSTART;TZID=America/Chicago:20250517T180000
DTEND;TZID=America/Chicago:20250517T180000
DTSTAMP:20260424T202109
CREATED:20250425T151417Z
LAST-MODIFIED:20250425T151417Z
UID:76280-1747504800-1747504800@odessaarts.org
SUMMARY:Basin Brunch ft. Sommer Ray + the Montana Boyz
DESCRIPTION:Basin Brunch ft. Sommer Ray + the Montana Boyz! This event is 21 & up. Uber/rideshare encouraged. \n\nTicket Prices:\n\n\n• General Admission – $20.00 / Week of Show $25 / Day of Show $30.00\n\n• Couch Sectional on Concrete (Price includes entry for 15 people) $2\,250.00\n\n• Couch Sectional on Turf (Price includes entry for 15 people) $1\,500.00\n\n• Standing VIP ticket $75.00 / Day of Show $100\n\n• Meet & Greet with the Montana Boyz $100\n\n\n\nClear bag policy. Doors at 6pm. No re-entry. No lawn chairs permitted. Food trucks on site. \nThis is a rain or shine event. No refunds. \n\nTicket prices increase the week of the show and on the date of the performance. 
URL:https://odessaarts.org/event/basin-brunch-ft-sommer-ray-the-montana-boyz/
LOCATION:The Tailgate Midland\, 4401 N Big Spring\, Midland\, TX\, 79705\, United States
CATEGORIES:Music
END:VEVENT
BEGIN:VEVENT
DTSTART;TZID=America/Chicago:20250517T193000
DTEND;TZID=America/Chicago:20250517T193000
DTSTAMP:20260424T202109
CREATED:20240520T204425Z
LAST-MODIFIED:20240520T205856Z
UID:73310-1747510200-1747510200@odessaarts.org
SUMMARY:Superman in Concert
DESCRIPTION:You’ll believe a man can fly as Superman in Concert arrives in concert halls around the world\, accompanied by the power of a full symphony orchestra performing John Williams’ triumphant original score live to picture! Directed by Richard Donner\, and showcasing a young Christopher Reeve in a breakout performance that would make him an international superstar\, Superman relays the hero’s inspiring origins\, from his narrow escape as an infant from the doomed planet Krypton\, to his formative years on a farm in Smallville\, Kansas\, and finally to his arrival in Metropolis\, where he leads dual lives as mild-mannered reporter Clark Kent and as the mythic Man of Steel. Don’t miss this exciting chance to experience the film that started it all in a way you’ve never seen it before!
URL:https://odessaarts.org/event/superman-in-concert/
LOCATION:Wagner Noël Performing Arts Center\, 1310 FM 1788\, Midland\, Texas
CATEGORIES:Music
ORGANIZER;CN="West Texas Symphony":MAILTO:symphony@wtxs.org
END:VEVENT
BEGIN:VEVENT
DTSTART;TZID=America/Chicago:20250517T200000
DTEND;TZID=America/Chicago:20250517T200000
DTSTAMP:20260424T202109
CREATED:20250325T160832Z
LAST-MODIFIED:20250325T160832Z
UID:75931-1747512000-1747512000@odessaarts.org
SUMMARY:MISS LATINA 2025
DESCRIPTION:¡La emoción está por comenzar en Dos Amigos! \n\n\n\n Miss Latina West Texas llega con un evento espectacular este 17 de Mayo de 2025 a las 8:00 PM. Lo que podrás vivir:  ¡Una competencia de belleza y talento! Las participantes se batirán por la corona en una elección de Miss Latina con mucho glamour y energía.  Banda 614 pondrá el ritmo para que disfrutes de la mejor música en vivo mientras las chicas compiten por ser Miss Latina West Texas. Dónde:Dos Amigos4700 N Golder Ave\, Odessa\, TX 79764Ven a disfrutar de esta noche única\, llena de talento\, belleza y diversión. ¡Nos vemos en Dos Amigos para apoyar a nuestras participantes y vivir una noche llena de sorpresas!
URL:https://odessaarts.org/event/miss-latina-2025/
LOCATION:Dos Amigos\, 4700 N.Golder Ave\, Odessa\, TX\, 79764\, United States
CATEGORIES:Humanities,Music
END:VEVENT
END:VCALENDAR