BEGIN:VCALENDAR
VERSION:2.0
PRODID:-//Odessa Arts - ECPv6.15.20//NONSGML v1.0//EN
CALSCALE:GREGORIAN
METHOD:PUBLISH
X-ORIGINAL-URL:https://odessaarts.org
X-WR-CALDESC:Events for Odessa Arts
REFRESH-INTERVAL;VALUE=DURATION:PT1H
X-Robots-Tag:noindex
X-PUBLISHED-TTL:PT1H
BEGIN:VTIMEZONE
TZID:America/Chicago
BEGIN:DAYLIGHT
TZOFFSETFROM:-0600
TZOFFSETTO:-0500
TZNAME:CDT
DTSTART:20240310T080000
END:DAYLIGHT
BEGIN:STANDARD
TZOFFSETFROM:-0500
TZOFFSETTO:-0600
TZNAME:CST
DTSTART:20241103T070000
END:STANDARD
BEGIN:DAYLIGHT
TZOFFSETFROM:-0600
TZOFFSETTO:-0500
TZNAME:CDT
DTSTART:20250309T080000
END:DAYLIGHT
BEGIN:STANDARD
TZOFFSETFROM:-0500
TZOFFSETTO:-0600
TZNAME:CST
DTSTART:20251102T070000
END:STANDARD
BEGIN:DAYLIGHT
TZOFFSETFROM:-0600
TZOFFSETTO:-0500
TZNAME:CDT
DTSTART:20260308T080000
END:DAYLIGHT
BEGIN:STANDARD
TZOFFSETFROM:-0500
TZOFFSETTO:-0600
TZNAME:CST
DTSTART:20261101T070000
END:STANDARD
END:VTIMEZONE
BEGIN:VEVENT
DTSTART;TZID=America/Chicago:20250523T180000
DTEND;TZID=America/Chicago:20250523T180000
DTSTAMP:20260424T202103
CREATED:20250221T223918Z
LAST-MODIFIED:20250221T223918Z
UID:75364-1748023200-1748023200@odessaarts.org
SUMMARY:Main Street Live - Basin PBS
DESCRIPTION:Basin PBS is proud to announce our 2025 MAIN STREET LIVE!\nHeadlining this year’s event is none other than country music legendWynonna Judd! \nTickets & Sponsorship Opportunities \n\nEarly Bird Tickets go on sale March 2 for $100 each.\nTickets At-the-Door will increase to $125 each.\nSponsorships Available Now!\nContact Erica Thomas at ethomas@basinpbs.org or Laura Wolf at lwolf@basinpbs.org or call 432-563-5728 to secure your spot.\n\nGeneral admission does not include food or drinks. Cash bar will be available.\nNo outside food or drinks\, no coolers permitted. \nTables are also available in all price ranges.
URL:https://odessaarts.org/event/main-street-live-basin-pbs/
LOCATION:Basin PBS Studio\, 203 N Main\, Midland\, TX\, 79705\, United States
CATEGORIES:Humanities,Music
END:VEVENT
BEGIN:VEVENT
DTSTART;TZID=America/Chicago:20250523T190000
DTEND;TZID=America/Chicago:20250523T190000
DTSTAMP:20260424T202103
CREATED:20250425T174007Z
LAST-MODIFIED:20250425T174007Z
UID:76316-1748026800-1748026800@odessaarts.org
SUMMARY:7 BRIDGES (EAGLES TRIBUTE BAND)
DESCRIPTION:🎸 Experience the Ultimate Eagles Tribute! 🎸 \nGet ready for 7 Bridges: The Ultimate EAGLES Experience – a stunningly accurate tribute to the legendary band! No backing tracks\, no harmonizers—just pure\, authentic Eagles sound. 🎸✨ \n📅 Date: Friday\, May 23\, 2025⏰ Showtime: 7:00 PM (Doors open at 5:30 PM)📍 Venue: The Venue at Live Oak\, 3201 Elkins Rd\, Midland\, Texas🌦 Rain or Shine – No Refunds \n🎟️ Get your tickets now: www.liveoak.events 📞 Contact: 432-219-7922 \nDon’t miss this incredible night of classic hits! Tag your concert crew and get ready to rock! 🎸🔥 #EaglesTribute #7Bridges #LiveMusic #MidlandTX
URL:https://odessaarts.org/event/7-bridges-eagles-tribute-band/
LOCATION:The Venue at Live Oak\, 3201 Elkins Rd\, Midland\, TX\, 79705\, United States
CATEGORIES:Music
END:VEVENT
BEGIN:VEVENT
DTSTART;TZID=America/Chicago:20250523T190000
DTEND;TZID=America/Chicago:20250523T210000
DTSTAMP:20260424T202103
CREATED:20250421T190138Z
LAST-MODIFIED:20250421T190138Z
UID:76039-1748026800-1748034000@odessaarts.org
SUMMARY:Music in the Garden
DESCRIPTION:DATE: May 2\, 9\, 16\, 23\, 30\nTIME: 7-9 p.m.\, doors open at 6 p.m.\nPRICE: Members: $32.95 | General Admission: $36.95 | This event is 21+. No infants or children permitted. \nEnjoy a stunning Garden backdrop as you experience local bands during this Friday night series. This 35-year-old tradition returns with concerts January through May. Food and beverages available for purchase. This event is 21+. IDs will be checked\, No infants or children permitted. \nMay 2: DeGrazia & Barajas | Classical and Flamenco Guitar\nMay 9: Carmela y Más | Latin Jazz & Salsa\nMay 16: True Flavor Blues | Slightly Jazzy Traditional Blues\nMay 23: YACHTZILLA! Monsters of Soft Rock | Yacht Rock 70s-80s\nMay 30: Cisco and the Racecars | Bluegrass folk old-time music \nChef Specials available for purchase \nMay 2: Carnitas Tacos: Braised Pork Carnitas\, Corn Tortillas\, Avocado Crema\, Salsa Fresca\, Refried Beans\, Calabacitas\nMay 9: Beef Sopes: Beef Machaca\, Pinto Beans\, Shredded Lettuce\, Tomatoes\, Crema\, Queso Fresco\, Arroz Verde\nMay 16: Chili Con Carne Dog: All Beef Hot Dog on a Brioche Bun\, Topped with Beef Chili\, Cheddar Cheese\, and Onions\, Served with Tater Tots\nMay 23: Gyro: Traditional Gyro with Tzatziki Sauce\, Fresh Pita\, Pickled Onion\, Garlic Hummus\, Cherry Tomatoes\, Cucumber\, Feta\nMay 30: Pulled Pork Sandwich: Slow Roasted Pulled Pork on a Brioche Bun\, Creamy Coleslaw\, Fresh Dill Potato Salad\, Grilled Watermelon\, and Carolina BBQ Sauce
URL:https://odessaarts.org/event/music-in-the-garden/2025-05-23/
LOCATION:Desert Botanical Garden\, 1201 N. GALVIN PARKWAY\, Phoenix\, AZ\, 85008\, United States
CATEGORIES:Humanities,Music
END:VEVENT
END:VCALENDAR