BEGIN:VCALENDAR
VERSION:2.0
PRODID:-//Odessa Arts - ECPv6.15.20//NONSGML v1.0//EN
CALSCALE:GREGORIAN
METHOD:PUBLISH
X-WR-CALNAME:Odessa Arts
X-ORIGINAL-URL:https://odessaarts.org
X-WR-CALDESC:Events for Odessa Arts
REFRESH-INTERVAL;VALUE=DURATION:PT1H
X-Robots-Tag:noindex
X-PUBLISHED-TTL:PT1H
BEGIN:VTIMEZONE
TZID:America/Chicago
BEGIN:DAYLIGHT
TZOFFSETFROM:-0600
TZOFFSETTO:-0500
TZNAME:CDT
DTSTART:20240310T080000
END:DAYLIGHT
BEGIN:STANDARD
TZOFFSETFROM:-0500
TZOFFSETTO:-0600
TZNAME:CST
DTSTART:20241103T070000
END:STANDARD
BEGIN:DAYLIGHT
TZOFFSETFROM:-0600
TZOFFSETTO:-0500
TZNAME:CDT
DTSTART:20250309T080000
END:DAYLIGHT
BEGIN:STANDARD
TZOFFSETFROM:-0500
TZOFFSETTO:-0600
TZNAME:CST
DTSTART:20251102T070000
END:STANDARD
BEGIN:DAYLIGHT
TZOFFSETFROM:-0600
TZOFFSETTO:-0500
TZNAME:CDT
DTSTART:20260308T080000
END:DAYLIGHT
BEGIN:STANDARD
TZOFFSETFROM:-0500
TZOFFSETTO:-0600
TZNAME:CST
DTSTART:20261101T070000
END:STANDARD
END:VTIMEZONE
BEGIN:VEVENT
DTSTART;TZID=America/Chicago:20250524T210000
DTEND;TZID=America/Chicago:20250524T210000
DTSTAMP:20260424T213903
CREATED:20250425T142425Z
LAST-MODIFIED:20250425T142425Z
UID:76265-1748120400-1748120400@odessaarts.org
SUMMARY:GRUPO NOCIVO
DESCRIPTION:¡Este 24 de mayo prepárate para una noche norteña que no olvidarás!\nVen a disfrutar de NOCIVO en Dos Amigos\, donde la música norteña hará vibrar la pista.\n¡Es la oportunidad perfecta para echarte unos buenos bailes con los mejores éxitos!\nHora: 9:00 PM\nFecha: sábado\, 24 de mayo\nUbicación: 4700 N Golder Ave\, Odessa\, TX 21+\nReservaciones: (432) 888-0877\nCon DJ para seguir la fiesta\n¡No faltes\, será una fiesta de altura con la mejor música!\n#NocheNorteña #Nocivo #DosAmigos #FiestaMexicana #MúsicaEnVivo #OdessaTX\n#SábadoDeBanda #VivaMéxico #NocheDeDiversión
URL:https://odessaarts.org/event/grupo-nocivo/
LOCATION:Dos Amigos\, 4700 N.Golder Ave\, Odessa\, TX\, 79764\, United States
CATEGORIES:Music
END:VEVENT
END:VCALENDAR