BEGIN:VCALENDAR
VERSION:2.0
PRODID:-//Odessa Arts - ECPv6.15.20//NONSGML v1.0//EN
CALSCALE:GREGORIAN
METHOD:PUBLISH
X-ORIGINAL-URL:https://odessaarts.org
X-WR-CALDESC:Events for Odessa Arts
REFRESH-INTERVAL;VALUE=DURATION:PT1H
X-Robots-Tag:noindex
X-PUBLISHED-TTL:PT1H
BEGIN:VTIMEZONE
TZID:America/Chicago
BEGIN:DAYLIGHT
TZOFFSETFROM:-0600
TZOFFSETTO:-0500
TZNAME:CDT
DTSTART:20240310T080000
END:DAYLIGHT
BEGIN:STANDARD
TZOFFSETFROM:-0500
TZOFFSETTO:-0600
TZNAME:CST
DTSTART:20241103T070000
END:STANDARD
BEGIN:DAYLIGHT
TZOFFSETFROM:-0600
TZOFFSETTO:-0500
TZNAME:CDT
DTSTART:20250309T080000
END:DAYLIGHT
BEGIN:STANDARD
TZOFFSETFROM:-0500
TZOFFSETTO:-0600
TZNAME:CST
DTSTART:20251102T070000
END:STANDARD
BEGIN:DAYLIGHT
TZOFFSETFROM:-0600
TZOFFSETTO:-0500
TZNAME:CDT
DTSTART:20260308T080000
END:DAYLIGHT
BEGIN:STANDARD
TZOFFSETFROM:-0500
TZOFFSETTO:-0600
TZNAME:CST
DTSTART:20261101T070000
END:STANDARD
END:VTIMEZONE
BEGIN:VEVENT
DTSTART;TZID=America/Chicago:20250527T193000
DTEND;TZID=America/Chicago:20250527T193000
DTSTAMP:20260424T202102
CREATED:20250425T151632Z
LAST-MODIFIED:20250425T151632Z
UID:76282-1748374200-1748374200@odessaarts.org
SUMMARY:Seether: The Surface Seems So Far Tour
DESCRIPTION:DIN Productions presents Seether: The Surface Seems So Far Tour with P.O.D. and Nonpoint at The Tailgate in Midland\, Texas! \nDoors: 6:00 PM \n\nDoors at 6pm. No re-entry. No lawn chairs permitted. No outside food or alcohol. Food trucks on site. Clear bag policy.  \nThis is a rain or shine event. No refunds. \n\nTicket prices increase on the date of the performance.
URL:https://odessaarts.org/event/seether-the-surface-seems-so-far-tour/
LOCATION:The Tailgate Midland\, 4401 N Big Spring\, Midland\, TX\, 79705\, United States
CATEGORIES:Music
END:VEVENT
END:VCALENDAR