BEGIN:VCALENDAR
VERSION:2.0
PRODID:-//Odessa Arts - ECPv6.15.20//NONSGML v1.0//EN
CALSCALE:GREGORIAN
METHOD:PUBLISH
X-ORIGINAL-URL:https://odessaarts.org
X-WR-CALDESC:Events for Odessa Arts
REFRESH-INTERVAL;VALUE=DURATION:PT1H
X-Robots-Tag:noindex
X-PUBLISHED-TTL:PT1H
BEGIN:VTIMEZONE
TZID:America/Chicago
BEGIN:DAYLIGHT
TZOFFSETFROM:-0600
TZOFFSETTO:-0500
TZNAME:CDT
DTSTART:20240310T080000
END:DAYLIGHT
BEGIN:STANDARD
TZOFFSETFROM:-0500
TZOFFSETTO:-0600
TZNAME:CST
DTSTART:20241103T070000
END:STANDARD
BEGIN:DAYLIGHT
TZOFFSETFROM:-0600
TZOFFSETTO:-0500
TZNAME:CDT
DTSTART:20250309T080000
END:DAYLIGHT
BEGIN:STANDARD
TZOFFSETFROM:-0500
TZOFFSETTO:-0600
TZNAME:CST
DTSTART:20251102T070000
END:STANDARD
BEGIN:DAYLIGHT
TZOFFSETFROM:-0600
TZOFFSETTO:-0500
TZNAME:CDT
DTSTART:20260308T080000
END:DAYLIGHT
BEGIN:STANDARD
TZOFFSETFROM:-0500
TZOFFSETTO:-0600
TZNAME:CST
DTSTART:20261101T070000
END:STANDARD
END:VTIMEZONE
BEGIN:VEVENT
DTSTART;TZID=America/Chicago:20250531T200000
DTEND;TZID=America/Chicago:20250531T200000
DTSTAMP:20260424T202104
CREATED:20250425T142901Z
LAST-MODIFIED:20250425T142901Z
UID:76268-1748721600-1748721600@odessaarts.org
SUMMARY:LOS ROJOS
DESCRIPTION:🌵🎉 ¡Este 31 de mayo\, la fiesta en Dos Amigos se va a desbordar de música\, baile y pura tradición! 💃🏽🎸 \nA partir de las 8:00 PM\, prepárate para disfrutar de una Noche Norteña que va a poner a todos a bailar. Los Rojos estarán en el escenario con su increíble energía\, mientras que Grupo Elocuencia le pondrá el toque único para que no pares de moverte. 🎤🔥 \nY si eso no es suficiente\, un DJ en vivo se encargará de cerrar con broche de oro\, ¡porque la fiesta no termina hasta que tú digas! 🎧💥 \n🕺💃🏽 ¿Qué tienes que hacer? Muy fácil\, solo asegurarte de tener la mejor actitud\, tus amigos más fiesteros y tus botas bien puestas para una noche que se va a recordar. \n📲 Para reservar\, llama al 432-582-0820 y asegura tu lugar en la mejor fiesta de Odessa\, en Dos Amigos \, ¡el lugar donde siempre se vive la mejor música y ambiente! 🎉 \n#NocheNorteña #LosRojos #GrupoElocuencia #FiestaConSabor #DosAmigosTeEspera
URL:https://odessaarts.org/event/los-rojos/
LOCATION:Dos Amigos\, 4700 N.Golder Ave\, Odessa\, TX\, 79764\, United States
CATEGORIES:Music
END:VEVENT
END:VCALENDAR