BEGIN:VCALENDAR
VERSION:2.0
PRODID:-//Odessa Arts - ECPv6.15.20//NONSGML v1.0//EN
CALSCALE:GREGORIAN
METHOD:PUBLISH
X-ORIGINAL-URL:https://odessaarts.org
X-WR-CALDESC:Events for Odessa Arts
REFRESH-INTERVAL;VALUE=DURATION:PT1H
X-Robots-Tag:noindex
X-PUBLISHED-TTL:PT1H
BEGIN:VTIMEZONE
TZID:America/Chicago
BEGIN:DAYLIGHT
TZOFFSETFROM:-0600
TZOFFSETTO:-0500
TZNAME:CDT
DTSTART:20240310T080000
END:DAYLIGHT
BEGIN:STANDARD
TZOFFSETFROM:-0500
TZOFFSETTO:-0600
TZNAME:CST
DTSTART:20241103T070000
END:STANDARD
BEGIN:DAYLIGHT
TZOFFSETFROM:-0600
TZOFFSETTO:-0500
TZNAME:CDT
DTSTART:20250309T080000
END:DAYLIGHT
BEGIN:STANDARD
TZOFFSETFROM:-0500
TZOFFSETTO:-0600
TZNAME:CST
DTSTART:20251102T070000
END:STANDARD
BEGIN:DAYLIGHT
TZOFFSETFROM:-0600
TZOFFSETTO:-0500
TZNAME:CDT
DTSTART:20260308T080000
END:DAYLIGHT
BEGIN:STANDARD
TZOFFSETFROM:-0500
TZOFFSETTO:-0600
TZNAME:CST
DTSTART:20261101T070000
END:STANDARD
END:VTIMEZONE
BEGIN:VEVENT
DTSTART;VALUE=DATE:20250605
DTEND;VALUE=DATE:20250608
DTSTAMP:20260424T185232
CREATED:20250110T202927Z
LAST-MODIFIED:20250110T202927Z
UID:75134-1749081600-1749340799@odessaarts.org
SUMMARY:59th Annual West Texas Jazz Party
DESCRIPTION:2025 marks the 59th annual West Texas Jazz Party. The longest-running jazz party in the world! \nReserve your seats now for the world-famous West Texas Jazz Party\, June 5-7\, 2025 in Odessa! \n\n\n\nWe need your support to reach our 60th year\, and we can’t wait to bring the finest musicians in the world to West Texas! \nSponsor tables are available and be sure to get a Patron Pass to get the full experience! \nSchedule: \n\nThursday\, June 5 – Reception for Patrons and Musicians – 6:00 pm\nThursday\, June 5 – Concert 7 – 11 pm in the Devonian Ballroom “Music for Dancing!”\nFriday\, June 6 – Dinner for Patrons and Musicians – 6:00 pm\nFriday\, June 6 – Concert 7 – 11 pm in the Devonian Ballroom\nSaturday\, June 7 – Brunch concert 11 am – 3 pm in the Devonian Ballroom\nSaturday\, June 7 – Concert 7 – 11 pm in the Devonian Ballroom\n\nArtists scheduled to perform: \nJon Erik Kellso\, Peter Anderson\, John Allred\, Dan Barrett\, Daniela Soledade\, Nate Najar\, Frank Tate\, Richard Simon\, Chuck Redd\, Ricky Malichi\, Johnny Varro\, Brian Piper\, and more! \nSee you there! \n\n\n\n\n\nGET JAZZ PARTY TICKETS!
URL:https://odessaarts.org/event/59th-annual-west-texas-jazz-party-2/
LOCATION:Odessa Marriott Hotel & Conference Center\, 305 E. 5th Street\, Odessa\, Texas\, 79761
CATEGORIES:Music
END:VEVENT
BEGIN:VEVENT
DTSTART;TZID=America/Chicago:20250606T180000
DTEND;TZID=America/Chicago:20250606T180000
DTSTAMP:20260424T185232
CREATED:20250425T152152Z
LAST-MODIFIED:20250425T152152Z
UID:76284-1749232800-1749232800@odessaarts.org
SUMMARY:Aaron Watson
DESCRIPTION:**THIS IS AN 18 AND UP EVENT! $10 minor upcharge. 18-20 year olds will have to pay $10 at the door. Anyone below the age of 18 will not be allowed entry. \nTicket Prices:\n\n\n• General Admission – $25.00 / Day of Show $35.00\n\n• Couch Sectional (Price includes entry for 8 people) $575.00\n• Rectangle Table (Price includes entry for 8 people) $550.00\n• Round Table (Price includes entry for 8 people) $525.00\n\n• Table for 4 (Price includes entry for 4 people) $325.00\n• Standing VIP ticket $50.00\n\n\n\nDoors at 6pm. No re-entry. Clear bag policy. No lawn chairs permitted. Food trucks on site. \nThis is a rain or shine event. No refunds. \n\nTicket prices increase on the date of the performance. 
URL:https://odessaarts.org/event/aaron-watson/
LOCATION:The Tailgate Midland\, 4401 N Big Spring\, Midland\, TX\, 79705\, United States
CATEGORIES:Music
END:VEVENT
END:VCALENDAR