BEGIN:VCALENDAR
VERSION:2.0
PRODID:-//Odessa Arts - ECPv6.15.20//NONSGML v1.0//EN
CALSCALE:GREGORIAN
METHOD:PUBLISH
X-ORIGINAL-URL:https://odessaarts.org
X-WR-CALDESC:Events for Odessa Arts
REFRESH-INTERVAL;VALUE=DURATION:PT1H
X-Robots-Tag:noindex
X-PUBLISHED-TTL:PT1H
BEGIN:VTIMEZONE
TZID:America/Chicago
BEGIN:DAYLIGHT
TZOFFSETFROM:-0600
TZOFFSETTO:-0500
TZNAME:CDT
DTSTART:20240310T080000
END:DAYLIGHT
BEGIN:STANDARD
TZOFFSETFROM:-0500
TZOFFSETTO:-0600
TZNAME:CST
DTSTART:20241103T070000
END:STANDARD
BEGIN:DAYLIGHT
TZOFFSETFROM:-0600
TZOFFSETTO:-0500
TZNAME:CDT
DTSTART:20250309T080000
END:DAYLIGHT
BEGIN:STANDARD
TZOFFSETFROM:-0500
TZOFFSETTO:-0600
TZNAME:CST
DTSTART:20251102T070000
END:STANDARD
BEGIN:DAYLIGHT
TZOFFSETFROM:-0600
TZOFFSETTO:-0500
TZNAME:CDT
DTSTART:20260308T080000
END:DAYLIGHT
BEGIN:STANDARD
TZOFFSETFROM:-0500
TZOFFSETTO:-0600
TZNAME:CST
DTSTART:20261101T070000
END:STANDARD
END:VTIMEZONE
BEGIN:VEVENT
DTSTART;TZID=America/Chicago:20250612T200000
DTEND;TZID=America/Chicago:20250612T200000
DTSTAMP:20260424T185227
CREATED:20250122T161336Z
LAST-MODIFIED:20250122T161336Z
UID:75184-1749758400-1749758400@odessaarts.org
SUMMARY:Blue October: Argue With A Tree 2025 Tour
DESCRIPTION:  \nBlue October\, the Houston-born\, San Marcos\, Texas-based alternative rock band\, has become a beacon of emotional transparency and artistic transformation. Led by Justin Furstenfeld (vocals\, guitar\, songwriter) and joined by Jeremy Furstenfeld (drums\, percussion)\, Ryan Delahoussaye (violin\, mandolin\, piano\, backing vocals)\, Matt Noveskey (bass guitar\, backing vocals)\, and Steve Schiltz (lead guitar)\, the multi-platinum group is known for their deeply personal lyrics\, cinematic soundscapes\, and electrifying live performances. With over a billion streams and eighteen Top 40 singles\, including hits like “Hate Me\,” “Into the Ocean\,” “Oh My My\,” and “I Hope You’re Happy\,” Blue October has cultivated a fiercely loyal global fanbase. \nFrom their platinum-certified album Foiled (2006) to the uplifting optimism of Home (2016) and the reflective poignancy of This Is What I Live For (2020)\, Blue October’s catalog chronicles a remarkable journey through struggle\, redemption\, and hope. Justin Furstenfeld’s advocacy for mental health and recovery has further cemented the band’s legacy as a voice for resilience\, inspiring fans worldwide with his openness about addiction and sobriety\, most notably captured in the acclaimed documentary Get Back Up. \nHailed for their unparalleled ability to connect and inspire through music\, Blue October’s live performances are a testament to the transformative power of vulnerability\, positivity\, and raw emotion. Whether performing anthems or intimate ballads\, the band continues to push boundaries and create music that resonates deeply\, offering listeners a soundtrack for healing\, celebration\, and everything in between. The band is currently in the studio recording their thirteenth studio album to be released Fall 2025.
URL:https://odessaarts.org/event/blue-october-argue-with-a-tree-2025-tour/
LOCATION:Wagner Noël Performing Arts Center\, 1310 FM 1788\, Midland\, Texas
CATEGORIES:Music
END:VEVENT
END:VCALENDAR