BEGIN:VCALENDAR
VERSION:2.0
PRODID:-//Odessa Arts - ECPv6.15.20//NONSGML v1.0//EN
CALSCALE:GREGORIAN
METHOD:PUBLISH
X-ORIGINAL-URL:https://odessaarts.org
X-WR-CALDESC:Events for Odessa Arts
REFRESH-INTERVAL;VALUE=DURATION:PT1H
X-Robots-Tag:noindex
X-PUBLISHED-TTL:PT1H
BEGIN:VTIMEZONE
TZID:America/Chicago
BEGIN:DAYLIGHT
TZOFFSETFROM:-0600
TZOFFSETTO:-0500
TZNAME:CDT
DTSTART:20240310T080000
END:DAYLIGHT
BEGIN:STANDARD
TZOFFSETFROM:-0500
TZOFFSETTO:-0600
TZNAME:CST
DTSTART:20241103T070000
END:STANDARD
BEGIN:DAYLIGHT
TZOFFSETFROM:-0600
TZOFFSETTO:-0500
TZNAME:CDT
DTSTART:20250309T080000
END:DAYLIGHT
BEGIN:STANDARD
TZOFFSETFROM:-0500
TZOFFSETTO:-0600
TZNAME:CST
DTSTART:20251102T070000
END:STANDARD
BEGIN:DAYLIGHT
TZOFFSETFROM:-0600
TZOFFSETTO:-0500
TZNAME:CDT
DTSTART:20260308T080000
END:DAYLIGHT
BEGIN:STANDARD
TZOFFSETFROM:-0500
TZOFFSETTO:-0600
TZNAME:CST
DTSTART:20261101T070000
END:STANDARD
END:VTIMEZONE
BEGIN:VEVENT
DTSTART;VALUE=DATE:20250613
DTEND;VALUE=DATE:20250615
DTSTAMP:20260424T185227
CREATED:20250320T144234Z
LAST-MODIFIED:20250320T144234Z
UID:75823-1749772800-1749945599@odessaarts.org
SUMMARY:Frozen Jr.
DESCRIPTION:This summer\, dive into the magical world of Frozen Jr. summer camp. In Frozen Jr. follow the beloved sisters\, Anna and Elsa\, as they navigate love\, friendship and the journey to embracing one’s true self\, all set against the stunning back drop of Arendelle. This camp is for Jr. High and High School students. Don’t miss the chance to participate in the camps by registering below. Tickets for performances will be available soon.
URL:https://odessaarts.org/event/frozen-jr/
LOCATION:Basin Theatre Works\, 310 W. 42nd Street\, Odessa\, TX\, 79764\, United States
CATEGORIES:Music,Theatre & Literary Arts
END:VEVENT
BEGIN:VEVENT
DTSTART;TZID=America/Chicago:20250613T130000
DTEND;TZID=America/Chicago:20250613T130000
DTSTAMP:20260424T185227
CREATED:20250425T152508Z
LAST-MODIFIED:20250425T152508Z
UID:76286-1749819600-1749819600@odessaarts.org
SUMMARY:DPS Foundation BBQ Cook-off ft. Wade Bowen
DESCRIPTION:**THIS IS AN ALL AGES EVENT!\n\nTicket Prices:\n\n\n• General Admission All Day Pass – $30.00 / Day of Show $40.00\n• Concert Only Pass – $20.00 / Day of Show $25.00\n• Standing VIP ticket (All day)  $75.00 / Day of Show $85.00\n\n• Couch Sectional (Price includes entry for 8 people) $1\,500.00\n• Rectangle Table (Price includes entry for 8 people) $1\,400.00\n• Round Table (Price includes entry for 8 people) $1\,300.00\n\n• Table for 4 (Price includes entry for 4 people) $700.00\n\n*Interested in particicating as a cooking team or sponsoring this event? Please reach out to ariel@thetailgatemidland.com for more information! \n\n\n\n\nDoors at 1pm. Cook-off from 1pm-7pm. Concert only passes will be allowed entry at 7pm.\n\nWinners of cook-off will be announced between 7:30-8:30pm. Music starts at 8:30pm. Event ends at 11:30pm.\n\nClear bag policy. No lawn chairs permitted. Food trucks on site.\n\nThis is a rain or shine event. No refunds. \n\nTicket prices increase on the date of the performance. 
URL:https://odessaarts.org/event/dps-foundation-bbq-cook-off-ft-wade-bowen/
LOCATION:The Tailgate Midland\, 4401 N Big Spring\, Midland\, TX\, 79705\, United States
CATEGORIES:Music
END:VEVENT
END:VCALENDAR