BEGIN:VCALENDAR
VERSION:2.0
PRODID:-//Odessa Arts - ECPv6.15.20//NONSGML v1.0//EN
CALSCALE:GREGORIAN
METHOD:PUBLISH
X-WR-CALNAME:Odessa Arts
X-ORIGINAL-URL:https://odessaarts.org
X-WR-CALDESC:Events for Odessa Arts
REFRESH-INTERVAL;VALUE=DURATION:PT1H
X-Robots-Tag:noindex
X-PUBLISHED-TTL:PT1H
BEGIN:VTIMEZONE
TZID:America/Chicago
BEGIN:DAYLIGHT
TZOFFSETFROM:-0600
TZOFFSETTO:-0500
TZNAME:CDT
DTSTART:20240310T080000
END:DAYLIGHT
BEGIN:STANDARD
TZOFFSETFROM:-0500
TZOFFSETTO:-0600
TZNAME:CST
DTSTART:20241103T070000
END:STANDARD
BEGIN:DAYLIGHT
TZOFFSETFROM:-0600
TZOFFSETTO:-0500
TZNAME:CDT
DTSTART:20250309T080000
END:DAYLIGHT
BEGIN:STANDARD
TZOFFSETFROM:-0500
TZOFFSETTO:-0600
TZNAME:CST
DTSTART:20251102T070000
END:STANDARD
BEGIN:DAYLIGHT
TZOFFSETFROM:-0600
TZOFFSETTO:-0500
TZNAME:CDT
DTSTART:20260308T080000
END:DAYLIGHT
BEGIN:STANDARD
TZOFFSETFROM:-0500
TZOFFSETTO:-0600
TZNAME:CST
DTSTART:20261101T070000
END:STANDARD
END:VTIMEZONE
BEGIN:VEVENT
DTSTART;TZID=America/Chicago:20250718T200000
DTEND;TZID=America/Chicago:20250718T200000
DTSTAMP:20260424T171200
CREATED:20250325T153813Z
LAST-MODIFIED:20250325T153813Z
UID:75921-1752868800-1752868800@odessaarts.org
SUMMARY:Polo Urias y La Maquina Norteña\, Los Jilgueros\, Los Marineros y Adolfo Urias
DESCRIPTION:
URL:https://odessaarts.org/event/polo-urias-y-la-maquina-nortena-los-jilgueros-los-marineros-y-adolfo-urias/
LOCATION:La Hacienda Event Center\, 12600 TX-191 Hwy\, Midland\, TX\, 79705\, United States
CATEGORIES:Music
END:VEVENT
BEGIN:VEVENT
DTSTART;TZID=America/Chicago:20250718T200000
DTEND;TZID=America/Chicago:20250718T200000
DTSTAMP:20260424T171200
CREATED:20250425T141517Z
LAST-MODIFIED:20250425T141517Z
UID:76259-1752868800-1752868800@odessaarts.org
SUMMARY:Polo Urias y La Maquina Norteña\, Los Jilgueros\, Los Marineros y Adolfo Urias
DESCRIPTION:
URL:https://odessaarts.org/event/polo-urias-y-la-maquina-nortena-los-jilgueros-los-marineros-y-adolfo-urias-2/
LOCATION:La Hacienda Event Center\, 12600 TX-191 Hwy\, Midland\, TX\, 79705\, United States
CATEGORIES:Music
END:VEVENT
END:VCALENDAR