BEGIN:VCALENDAR
VERSION:2.0
PRODID:-//Odessa Arts - ECPv6.15.20//NONSGML v1.0//EN
CALSCALE:GREGORIAN
METHOD:PUBLISH
X-WR-CALNAME:Odessa Arts
X-ORIGINAL-URL:https://odessaarts.org
X-WR-CALDESC:Events for Odessa Arts
REFRESH-INTERVAL;VALUE=DURATION:PT1H
X-Robots-Tag:noindex
X-PUBLISHED-TTL:PT1H
BEGIN:VTIMEZONE
TZID:America/Chicago
BEGIN:DAYLIGHT
TZOFFSETFROM:-0600
TZOFFSETTO:-0500
TZNAME:CDT
DTSTART:20240310T080000
END:DAYLIGHT
BEGIN:STANDARD
TZOFFSETFROM:-0500
TZOFFSETTO:-0600
TZNAME:CST
DTSTART:20241103T070000
END:STANDARD
BEGIN:DAYLIGHT
TZOFFSETFROM:-0600
TZOFFSETTO:-0500
TZNAME:CDT
DTSTART:20250309T080000
END:DAYLIGHT
BEGIN:STANDARD
TZOFFSETFROM:-0500
TZOFFSETTO:-0600
TZNAME:CST
DTSTART:20251102T070000
END:STANDARD
BEGIN:DAYLIGHT
TZOFFSETFROM:-0600
TZOFFSETTO:-0500
TZNAME:CDT
DTSTART:20260308T080000
END:DAYLIGHT
BEGIN:STANDARD
TZOFFSETFROM:-0500
TZOFFSETTO:-0600
TZNAME:CST
DTSTART:20261101T070000
END:STANDARD
END:VTIMEZONE
BEGIN:VEVENT
DTSTART;TZID=America/Chicago:20250911T180000
DTEND;TZID=America/Chicago:20250911T230000
DTSTAMP:20260424T075900
CREATED:20250819T200414Z
LAST-MODIFIED:20250819T200414Z
UID:76604-1757613600-1757631600@odessaarts.org
SUMMARY:Karaoke Night
DESCRIPTION:September 11 @ 6:00 pm – 11:00 pm\n\n\n\n\nJoin us for the FREE community karaoke night\, hosted by Average DJ Jake.  All you need to do is sign up\, choose your song\, and shine on stage! \nDoors open at 6 PM. Family and pet friendly.  Bar service and food always available on-site. \nKaraoke night season is sponsored by Patriot Cleaning Systems\, LLC.
URL:https://odessaarts.org/event/karaoke-night-2/
LOCATION:The Destination\, 1705 W. Industrial Ave.\, Midland\, TX\, 79701
CATEGORIES:Music
END:VEVENT
BEGIN:VEVENT
DTSTART;TZID=America/Chicago:20250911T203000
DTEND;TZID=America/Chicago:20250911T203000
DTSTAMP:20260424T075900
CREATED:20250813T163808Z
LAST-MODIFIED:20250813T163808Z
UID:76549-1757622600-1757622600@odessaarts.org
SUMMARY:Trace Adkins
DESCRIPTION:Benefiting Education Foundation! This private fundraising event promises to be an incredible experience while making a difference in our community. Don’t miss out on this fantastic opportunity to enjoy great music for a worthy cause! \n\n\n\n\n­\n\n\n\n\n\n\n\n\n\n\nPurchase your tickets at theector.com
URL:https://odessaarts.org/event/trace-adkins/
LOCATION:TX
CATEGORIES:Music
END:VEVENT
END:VCALENDAR