BEGIN:VCALENDAR
VERSION:2.0
PRODID:-//Odessa Arts - ECPv6.15.20//NONSGML v1.0//EN
CALSCALE:GREGORIAN
METHOD:PUBLISH
X-WR-CALNAME:Odessa Arts
X-ORIGINAL-URL:https://odessaarts.org
X-WR-CALDESC:Events for Odessa Arts
REFRESH-INTERVAL;VALUE=DURATION:PT1H
X-Robots-Tag:noindex
X-PUBLISHED-TTL:PT1H
BEGIN:VTIMEZONE
TZID:America/Chicago
BEGIN:DAYLIGHT
TZOFFSETFROM:-0600
TZOFFSETTO:-0500
TZNAME:CDT
DTSTART:20240310T080000
END:DAYLIGHT
BEGIN:STANDARD
TZOFFSETFROM:-0500
TZOFFSETTO:-0600
TZNAME:CST
DTSTART:20241103T070000
END:STANDARD
BEGIN:DAYLIGHT
TZOFFSETFROM:-0600
TZOFFSETTO:-0500
TZNAME:CDT
DTSTART:20250309T080000
END:DAYLIGHT
BEGIN:STANDARD
TZOFFSETFROM:-0500
TZOFFSETTO:-0600
TZNAME:CST
DTSTART:20251102T070000
END:STANDARD
BEGIN:DAYLIGHT
TZOFFSETFROM:-0600
TZOFFSETTO:-0500
TZNAME:CDT
DTSTART:20260308T080000
END:DAYLIGHT
BEGIN:STANDARD
TZOFFSETFROM:-0500
TZOFFSETTO:-0600
TZNAME:CST
DTSTART:20261101T070000
END:STANDARD
END:VTIMEZONE
BEGIN:VEVENT
DTSTART;TZID=America/Chicago:20250913T180000
DTEND;TZID=America/Chicago:20250913T180000
DTSTAMP:20260424T075947
CREATED:20250911T184521Z
LAST-MODIFIED:20250911T184521Z
UID:76791-1757786400-1757786400@odessaarts.org
SUMMARY:Pat Green performs live at The Tailgate
DESCRIPTION:Pat Green performs live at The Tailgate on Saturday\, September 13th for the Best of the West Benefit Concert! A night where great music meets incredible causes.\n\n\n Tickets and VIP tables available now at thetailgatemidland.com\n\n\nProceeds from this event benefit:\n-The Scharbauer Wikse Ace Outreach Program\n-Permian Warrior Partnership\n-Racfit Foundation\n-Special Olympics\n-Midland Humane Coalition\n-Mary Ann Casey Breast Cancer Fund
URL:https://odessaarts.org/event/pat-green-performs-live-at-the-tailgate/
LOCATION:The Tailgate Midland\, 4401 N Big Spring\, Midland\, TX\, 79705\, United States
CATEGORIES:Music
END:VEVENT
BEGIN:VEVENT
DTSTART;TZID=America/Chicago:20250913T193000
DTEND;TZID=America/Chicago:20250913T193000
DTSTAMP:20260424T075947
CREATED:20250818T141613Z
LAST-MODIFIED:20250818T141613Z
UID:76562-1757791800-1757791800@odessaarts.org
SUMMARY:Elvis Back In The Building
DESCRIPTION:Legends in Concert and King Center presents Back in the Building- The Ultimate Elvis Tribute Musical. The King is back on the stage with all of the bedazzled jumpsuits\, leather\, swiveling hips\, and leg-shaking\, presenting their newest retrospective of Elvis’ life in music told through the eyes of the world’s best tribute artists. Featuring Leo Days\, Daniel Durston and Carol Maccri Gossamer with a fantastic live band and ensemble. \n 
URL:https://odessaarts.org/event/elvis-back-in-the-building/
LOCATION:Wagner Noël Performing Arts Center\, 1310 FM 1788\, Midland\, Texas
CATEGORIES:Music,Theatre & Literary Arts
END:VEVENT
END:VCALENDAR