BEGIN:VCALENDAR
VERSION:2.0
PRODID:-//Odessa Arts - ECPv6.15.20//NONSGML v1.0//EN
CALSCALE:GREGORIAN
METHOD:PUBLISH
X-WR-CALNAME:Odessa Arts
X-ORIGINAL-URL:https://odessaarts.org
X-WR-CALDESC:Events for Odessa Arts
REFRESH-INTERVAL;VALUE=DURATION:PT1H
X-Robots-Tag:noindex
X-PUBLISHED-TTL:PT1H
BEGIN:VTIMEZONE
TZID:America/Chicago
BEGIN:DAYLIGHT
TZOFFSETFROM:-0600
TZOFFSETTO:-0500
TZNAME:CDT
DTSTART:20240310T080000
END:DAYLIGHT
BEGIN:STANDARD
TZOFFSETFROM:-0500
TZOFFSETTO:-0600
TZNAME:CST
DTSTART:20241103T070000
END:STANDARD
BEGIN:DAYLIGHT
TZOFFSETFROM:-0600
TZOFFSETTO:-0500
TZNAME:CDT
DTSTART:20250309T080000
END:DAYLIGHT
BEGIN:STANDARD
TZOFFSETFROM:-0500
TZOFFSETTO:-0600
TZNAME:CST
DTSTART:20251102T070000
END:STANDARD
BEGIN:DAYLIGHT
TZOFFSETFROM:-0600
TZOFFSETTO:-0500
TZNAME:CDT
DTSTART:20260308T080000
END:DAYLIGHT
BEGIN:STANDARD
TZOFFSETFROM:-0500
TZOFFSETTO:-0600
TZNAME:CST
DTSTART:20261101T070000
END:STANDARD
END:VTIMEZONE
BEGIN:VEVENT
DTSTART;TZID=America/Chicago:20250927T180000
DTEND;TZID=America/Chicago:20250927T180000
DTSTAMP:20260424T075900
CREATED:20250425T153024Z
LAST-MODIFIED:20250425T153024Z
UID:76291-1758996000-1758996000@odessaarts.org
SUMMARY:La Mafia
DESCRIPTION:**THIS IS AN 18 AND UP EVENT! Anyone below the age of 18 will not be allowed entry. \nTicket Prices:\n\n\n• General Admission – $35.00 / Day of Show $45.00\n\n• Couch Sectional (Price includes entry for 8 people) $1\,150.00\n• Rectangle Table (Price includes entry for 8 people) $1\,050.00\n• Round Table (Price includes entry for 8 people) $950.00\n\n• Table for 4 (Price includes entry for 4 people) $525.00\n• Standing VIP ticket $75.00\n\n\n\nDoors at 6pm. No re-entry. Clear bag policy. No lawn chairs permitted. Food trucks on site. \nThis is a rain or shine event. No refunds. \n\nTicket prices increase on the date of the performance. 
URL:https://odessaarts.org/event/la-mafia/
LOCATION:The Tailgate Midland\, 4401 N Big Spring\, Midland\, TX\, 79705\, United States
CATEGORIES:Music
END:VEVENT
BEGIN:VEVENT
DTSTART;TZID=America/Chicago:20250927T190000
DTEND;TZID=America/Chicago:20250927T230000
DTSTAMP:20260424T075900
CREATED:20250923T190817Z
LAST-MODIFIED:20250923T190817Z
UID:76865-1758999600-1759014000@odessaarts.org
SUMMARY:
DESCRIPTION:Date & Location\n \n\nSat\, 27 Sep\, 2025 at 07:00 pm to 11:00 pm (CDT)  \nAdd to Calendar\n\n\n \n\nEctor County Coliseum \nEctor County Coliseum\, Odessa\, TX\, United States \nView on map\n\n\n\nAbout the event\nOscar Maydon in Odessa \n\n🎶 Don’t Miss Oscar Maydon Live in Odessa on Saturday\, September 27\, 2025! 🎶\nAre you ready to experience Oscar Maydon like never before? With chart-topping hits like Madonna\, SANTAL 33 and Giza and 2M+ devoted fans\, Oscar Maydon is taking over Ector County Coliseum this Saturday\, September 27\, 2025\, and trust us\, you don’t want to miss this. \nWith multiple shows lined up\, this one ensures to be the ultimate musical experience\, where the energy of Oscar Maydon will make you dance\, sing\, and maybe even cry (in a good way). \nEvent Details: \n📅 Date: Saturday\, September 27\, 2025\n⏰ Time: 7:00 PM\n📍 Venue: Ector County Coliseum \nExpect an unforgettable performance featuring all your favorite songs and some surprises you’ve never heard before. So\, If you’re discovering Oscar Maydon for the first time\, this show will blow your mind. \nWhy This Show is Unmissable\nWith over 19.2M+ fans streaming their music monthly and viral singles in every playlist\, Oscar Maydon is at the peak of their career. If you’re a long-time fan or just love the buzz\, this show will be one for the books. \nP.S. – You don’t want to be that person who hears about it later! We will not let you miss this in any way!🎉 \nArtist’s Power Move\nOscar Maydon has been setting the stage on fire with performances that leave fans begging for more. With an incredible setlist and live versions of your favorite songs\, you’ll leave with stories to tell (and maybe a few epic selfies). Follow Oscar Maydon on AllEvents to get hyped for the event! \n🎟️ Book Your Tickets Now! 🎟️\nThis is your chance to witness Oscar Maydon live and in their element. Grab your tickets now for Oscar Maydon in Odessa at Ector County Coliseum and be part of a night that everyone will be talking about. Don’t wait—tickets are selling fast. \n  \n 
URL:https://odessaarts.org/event/76865/
LOCATION:TX
CATEGORIES:Music
END:VEVENT
END:VCALENDAR