BEGIN:VCALENDAR
VERSION:2.0
PRODID:-//Odessa Arts - ECPv6.15.20//NONSGML v1.0//EN
CALSCALE:GREGORIAN
METHOD:PUBLISH
X-WR-CALNAME:Odessa Arts
X-ORIGINAL-URL:https://odessaarts.org
X-WR-CALDESC:Events for Odessa Arts
REFRESH-INTERVAL;VALUE=DURATION:PT1H
X-Robots-Tag:noindex
X-PUBLISHED-TTL:PT1H
BEGIN:VTIMEZONE
TZID:America/Chicago
BEGIN:DAYLIGHT
TZOFFSETFROM:-0600
TZOFFSETTO:-0500
TZNAME:CDT
DTSTART:20240310T080000
END:DAYLIGHT
BEGIN:STANDARD
TZOFFSETFROM:-0500
TZOFFSETTO:-0600
TZNAME:CST
DTSTART:20241103T070000
END:STANDARD
BEGIN:DAYLIGHT
TZOFFSETFROM:-0600
TZOFFSETTO:-0500
TZNAME:CDT
DTSTART:20250309T080000
END:DAYLIGHT
BEGIN:STANDARD
TZOFFSETFROM:-0500
TZOFFSETTO:-0600
TZNAME:CST
DTSTART:20251102T070000
END:STANDARD
BEGIN:DAYLIGHT
TZOFFSETFROM:-0600
TZOFFSETTO:-0500
TZNAME:CDT
DTSTART:20260308T080000
END:DAYLIGHT
BEGIN:STANDARD
TZOFFSETFROM:-0500
TZOFFSETTO:-0600
TZNAME:CST
DTSTART:20261101T070000
END:STANDARD
END:VTIMEZONE
BEGIN:VEVENT
DTSTART;TZID=America/Chicago:20251001T080000
DTEND;TZID=America/Chicago:20251004T170000
DTSTAMP:20260424T062755
CREATED:20250909T154716Z
LAST-MODIFIED:20250909T154716Z
UID:76741-1759305600-1759597200@odessaarts.org
SUMMARY:Cassatt Quartet Residency
DESCRIPTION:We bring the Cassatt String Quartet to West Texas bi-annually to inspire and work intensively with our students (elementary to college students)\, expand students’ horizons\, and give cultural awareness and higher education guidance. We enrich and develop people through music. Students learn life lessons via chamber music and orchestral playing such as teamwork\, verbal and non-verbal communication\, and respect for one another. \nYou can see the full list of event dates\, locations and times\, on the website. \n 
URL:https://odessaarts.org/event/cassatt-quartet-residency/
LOCATION:TX
CATEGORIES:Humanities,Museum,Music
END:VEVENT
BEGIN:VEVENT
DTSTART;TZID=America/Chicago:20251002T190000
DTEND;TZID=America/Chicago:20251002T190000
DTSTAMP:20260424T062755
CREATED:20250923T193017Z
LAST-MODIFIED:20250923T193017Z
UID:76871-1759431600-1759431600@odessaarts.org
SUMMARY:Live 2025 - Zach Williams at Ector County Coliseum
DESCRIPTION:Date & Location\n \n\nThu\, 02 Oct\, 2025 at 07:00 pm (CDT)  \nAdd to Calendar\n\n\n \n\nEctor County Coliseum \n4201 Andrews Highway\, Odessa\, TX 79761\, United States
URL:https://odessaarts.org/event/live-2025-zach-williams-at-ector-county-coliseum/
LOCATION:Ector County Coliseum\, 4201 Andrews Highway\, Odessa\, TX\, 79762\, United States
CATEGORIES:Music
END:VEVENT
BEGIN:VEVENT
DTSTART;TZID=America/Chicago:20251002T193000
DTEND;TZID=America/Chicago:20251002T193000
DTSTAMP:20260424T062755
CREATED:20250924T212216Z
LAST-MODIFIED:20250924T212216Z
UID:76888-1759433400-1759433400@odessaarts.org
SUMMARY:Jazz & Beyond: a legendary concert experience!
DESCRIPTION:We are thrilled to invite you to Jazz & Beyond 2025\, a free concert presented by the West Texas Jazz Society\, Thursday\, October 2 at 7:30 pm at the Wagner-Noël Performing Arts Center (1310 FM 1788\, Midland).\n\nThis year’s lineup brings together a stellar roster of Grammy-level talent. You won’t want to miss:\n\n\n\nDan Fornero — celebrated lead trumpet player whose credits include Woody Herman\, Brian Setzer\, and film work on La La Land\, Coco\, Frozen\, and more\n\n\n\nJarrett Johnson — Grammy® nominated vocalist\, arranger\, and songwriter whose performances span from The Tonight Show to Carnegie Hall\, tours with Michael Bublé\, and Benson Boone\n\n\n\nDavid Zarlenga — touring drummer and music director who has worked with Tom Jones\, played on The Tonight Show\, etc.\n\n\n\nErnest Tibbs — bassist with a broad recording and touring career\, including work with Natalie Cole\, Gladys Knight\, and more\n\n\n\nWally Minko — Grammy-nominated composer/keyboardist whose credits include Barry Manilow\, Jean-Luc Ponty\, Arturo Sandoval\, and producing/arranging for top artists\n\n\n\nAndy Martin — world-class trombonist with deep ties to the L.A. jazz and big-band scene\, performed on Family Guy\, and Pixar’s Soul\n\n\n\nGary Meek — multi-instrumentalist (sax\, flute\, keyboards)\, producer\, and sideman on over 200 records\n\n\n\nAaron Janik — trumpet virtuoso who has performed with Earth\, Wind & Fire\, Lady Gaga\, gospel legends\, and others\n\n\n\nThis concert is not just about enjoying incredible music — it’s about community. The West Texas Jazz Society is a local nonprofit whose mission is to enrich the cultural life of the Permian Basin through jazz education\, events\, and outreach. We believe that bringing world-class jazz artists to Midland/Odessa strengthens our region\, inspires young musicians\, and helps make this place better.\n\nThere is no charge to attend — the concert is FREE for all. Seating is first come\, first served. Bring friends\, family\, and anyone who loves music. Doors will open early so you can get good seats.\n\nWe hope to see you there\, ready to soak in great music and support jazz in our community. Please share this invitation with others who might enjoy it.\n\nIf you have any questions (parking\, seating\, etc.)\, just reply to this email or check our website.
URL:https://odessaarts.org/event/jazz-beyond-a-legendary-concert-experience/
LOCATION:Wagner Noël Performing Arts Center\, 1310 FM 1788\, Midland\, Texas
CATEGORIES:Music
END:VEVENT
END:VCALENDAR