BEGIN:VCALENDAR
VERSION:2.0
PRODID:-//Odessa Arts - ECPv6.15.20//NONSGML v1.0//EN
CALSCALE:GREGORIAN
METHOD:PUBLISH
X-WR-CALNAME:Odessa Arts
X-ORIGINAL-URL:https://odessaarts.org
X-WR-CALDESC:Events for Odessa Arts
REFRESH-INTERVAL;VALUE=DURATION:PT1H
X-Robots-Tag:noindex
X-PUBLISHED-TTL:PT1H
BEGIN:VTIMEZONE
TZID:America/Chicago
BEGIN:DAYLIGHT
TZOFFSETFROM:-0600
TZOFFSETTO:-0500
TZNAME:CDT
DTSTART:20240310T080000
END:DAYLIGHT
BEGIN:STANDARD
TZOFFSETFROM:-0500
TZOFFSETTO:-0600
TZNAME:CST
DTSTART:20241103T070000
END:STANDARD
BEGIN:DAYLIGHT
TZOFFSETFROM:-0600
TZOFFSETTO:-0500
TZNAME:CDT
DTSTART:20250309T080000
END:DAYLIGHT
BEGIN:STANDARD
TZOFFSETFROM:-0500
TZOFFSETTO:-0600
TZNAME:CST
DTSTART:20251102T070000
END:STANDARD
BEGIN:DAYLIGHT
TZOFFSETFROM:-0600
TZOFFSETTO:-0500
TZNAME:CDT
DTSTART:20260308T080000
END:DAYLIGHT
BEGIN:STANDARD
TZOFFSETFROM:-0500
TZOFFSETTO:-0600
TZNAME:CST
DTSTART:20261101T070000
END:STANDARD
END:VTIMEZONE
BEGIN:VEVENT
DTSTART;TZID=America/Chicago:20251001T080000
DTEND;TZID=America/Chicago:20251004T170000
DTSTAMP:20260424T075823
CREATED:20250909T154716Z
LAST-MODIFIED:20250909T154716Z
UID:76741-1759305600-1759597200@odessaarts.org
SUMMARY:Cassatt Quartet Residency
DESCRIPTION:We bring the Cassatt String Quartet to West Texas bi-annually to inspire and work intensively with our students (elementary to college students)\, expand students’ horizons\, and give cultural awareness and higher education guidance. We enrich and develop people through music. Students learn life lessons via chamber music and orchestral playing such as teamwork\, verbal and non-verbal communication\, and respect for one another. \nYou can see the full list of event dates\, locations and times\, on the website. \n 
URL:https://odessaarts.org/event/cassatt-quartet-residency/
LOCATION:TX
CATEGORIES:Humanities,Museum,Music
END:VEVENT
BEGIN:VEVENT
DTSTART;TZID=America/Chicago:20251003T180000
DTEND;TZID=America/Chicago:20251003T180000
DTSTAMP:20260424T075823
CREATED:20250908T164614Z
LAST-MODIFIED:20250908T164614Z
UID:76734-1759514400-1759514400@odessaarts.org
SUMMARY:West Texas Sound-Off: Battle of the Bands
DESCRIPTION:Friday\, October 3\, 2025 • The Tailgate Midland\n\n\nTen bands. One stage. One incredible night for West Texas local music \n\n\n Here’s the breakdown:\n\n\n1. Enter Your Band → thetailgatemidland.com/bands\nDeadline: Monday\, Sept 15\, 2025 at 11:59pm\n\n\n2. Top 10 Selected → Judges select the top 10 bands to perform live on The Tailgate stage\n\n\n3.  Battle of the Bands → 10 bands perform live. 5 judges crown the winner (Plus\, a crowd favorite award!)\n\n\n All Ages Event • Tickets at thetailgatemidland.com\nProceeds support local musicians.
URL:https://odessaarts.org/event/west-texas-sound-off-battle-of-the-bands/
LOCATION:The Tailgate Midland\, 4401 N Big Spring\, Midland\, TX\, 79705\, United States
CATEGORIES:Music
END:VEVENT
END:VCALENDAR