BEGIN:VCALENDAR
VERSION:2.0
PRODID:-//Odessa Arts - ECPv6.15.20//NONSGML v1.0//EN
CALSCALE:GREGORIAN
METHOD:PUBLISH
X-ORIGINAL-URL:https://odessaarts.org
X-WR-CALDESC:Events for Odessa Arts
REFRESH-INTERVAL;VALUE=DURATION:PT1H
X-Robots-Tag:noindex
X-PUBLISHED-TTL:PT1H
BEGIN:VTIMEZONE
TZID:America/Chicago
BEGIN:DAYLIGHT
TZOFFSETFROM:-0600
TZOFFSETTO:-0500
TZNAME:CDT
DTSTART:20240310T080000
END:DAYLIGHT
BEGIN:STANDARD
TZOFFSETFROM:-0500
TZOFFSETTO:-0600
TZNAME:CST
DTSTART:20241103T070000
END:STANDARD
BEGIN:DAYLIGHT
TZOFFSETFROM:-0600
TZOFFSETTO:-0500
TZNAME:CDT
DTSTART:20250309T080000
END:DAYLIGHT
BEGIN:STANDARD
TZOFFSETFROM:-0500
TZOFFSETTO:-0600
TZNAME:CST
DTSTART:20251102T070000
END:STANDARD
BEGIN:DAYLIGHT
TZOFFSETFROM:-0600
TZOFFSETTO:-0500
TZNAME:CDT
DTSTART:20260308T080000
END:DAYLIGHT
BEGIN:STANDARD
TZOFFSETFROM:-0500
TZOFFSETTO:-0600
TZNAME:CST
DTSTART:20261101T070000
END:STANDARD
END:VTIMEZONE
BEGIN:VEVENT
DTSTART;TZID=America/Chicago:20251001T080000
DTEND;TZID=America/Chicago:20251004T170000
DTSTAMP:20260424T062936
CREATED:20250909T154716Z
LAST-MODIFIED:20250909T154716Z
UID:76741-1759305600-1759597200@odessaarts.org
SUMMARY:Cassatt Quartet Residency
DESCRIPTION:We bring the Cassatt String Quartet to West Texas bi-annually to inspire and work intensively with our students (elementary to college students)\, expand students’ horizons\, and give cultural awareness and higher education guidance. We enrich and develop people through music. Students learn life lessons via chamber music and orchestral playing such as teamwork\, verbal and non-verbal communication\, and respect for one another. \nYou can see the full list of event dates\, locations and times\, on the website. \n 
URL:https://odessaarts.org/event/cassatt-quartet-residency/
LOCATION:TX
CATEGORIES:Humanities,Museum,Music
END:VEVENT
BEGIN:VEVENT
DTSTART;TZID=America/Chicago:20251004T190000
DTEND;TZID=America/Chicago:20251004T190000
DTSTAMP:20260424T062936
CREATED:20250813T175132Z
LAST-MODIFIED:20250813T175132Z
UID:76555-1759604400-1759604400@odessaarts.org
SUMMARY:Ladies Night
DESCRIPTION:Ladies\, this night is for YOU! Experience a night of great vibes and music with the talented Paula DeAnda & Amanda Perez! \n\n\n\n\n­\n\n\n\n\n\n\n\n\n\n\nPurchase your tickets at theector.com
URL:https://odessaarts.org/event/ladies-night-2/
LOCATION:The Ector Theatre\, 500 N. Texas\, Odessa\, TX\, 79761\, United States
CATEGORIES:Music
END:VEVENT
BEGIN:VEVENT
DTSTART;TZID=America/Chicago:20251004T193000
DTEND;TZID=America/Chicago:20251004T193000
DTSTAMP:20260424T062936
CREATED:20250422T155229Z
LAST-MODIFIED:20250422T155229Z
UID:76089-1759606200-1759606200@odessaarts.org
SUMMARY:Steven Page with the West Texas Symphony
DESCRIPTION:We welcome Steven Page “formerly of Barenaked Ladies” for a collaboration of beauty and orchestration! Songs include selections from his BNL era as well as his solo career. \n\n\n\n\n\n 
URL:https://odessaarts.org/event/steven-page-with-the-west-texas-symphony/
LOCATION:Wagner Noël Performing Arts Center\, 1310 FM 1788\, Midland\, Texas
CATEGORIES:Music
END:VEVENT
BEGIN:VEVENT
DTSTART;TZID=America/Chicago:20251004T193000
DTEND;TZID=America/Chicago:20251004T193000
DTSTAMP:20260424T062936
CREATED:20250825T184541Z
LAST-MODIFIED:20250825T184541Z
UID:76639-1759606200-1759606200@odessaarts.org
SUMMARY:STEVEN PAGE WITH THE WEST TEXAS SYMPHONY
DESCRIPTION:Saturday\, October 4\, 2025\n7:30 PM | Wagner Noël Performing Arts Center\nGary Lewis\, Conductor \nWe welcome Steven Page “formerly of Barenaked Ladies” for a collaboration of beauty and orchestration! Songs include selections from his BNL era as well as his solo career. \nTickets $46 – $83\, Students $12\nCLICK TO PURCHASE TICKETS ONLINE\n800-514-3848
URL:https://odessaarts.org/event/steven-page-with-the-west-texas-symphony-2/
LOCATION:Wagner Noël Performing Arts Center\, 1310 FM 1788\, Midland\, Texas
CATEGORIES:Music
END:VEVENT
BEGIN:VEVENT
DTSTART;TZID=America/Chicago:20251004T193000
DTEND;TZID=America/Chicago:20251004T193000
DTSTAMP:20260424T062936
CREATED:20250923T191435Z
LAST-MODIFIED:20250923T191435Z
UID:76868-1759606200-1759606200@odessaarts.org
SUMMARY:Steven Page with the West Texas Symphony
DESCRIPTION:
URL:https://odessaarts.org/event/steven-page-with-the-west-texas-symphony-3/
LOCATION:Wagner Noël Performing Arts Center\, 1310 FM 1788\, Midland\, Texas
CATEGORIES:Music
END:VEVENT
END:VCALENDAR