BEGIN:VCALENDAR
VERSION:2.0
PRODID:-//Odessa Arts - ECPv6.15.20//NONSGML v1.0//EN
CALSCALE:GREGORIAN
METHOD:PUBLISH
X-ORIGINAL-URL:https://odessaarts.org
X-WR-CALDESC:Events for Odessa Arts
REFRESH-INTERVAL;VALUE=DURATION:PT1H
X-Robots-Tag:noindex
X-PUBLISHED-TTL:PT1H
BEGIN:VTIMEZONE
TZID:America/Chicago
BEGIN:DAYLIGHT
TZOFFSETFROM:-0600
TZOFFSETTO:-0500
TZNAME:CDT
DTSTART:20240310T080000
END:DAYLIGHT
BEGIN:STANDARD
TZOFFSETFROM:-0500
TZOFFSETTO:-0600
TZNAME:CST
DTSTART:20241103T070000
END:STANDARD
BEGIN:DAYLIGHT
TZOFFSETFROM:-0600
TZOFFSETTO:-0500
TZNAME:CDT
DTSTART:20250309T080000
END:DAYLIGHT
BEGIN:STANDARD
TZOFFSETFROM:-0500
TZOFFSETTO:-0600
TZNAME:CST
DTSTART:20251102T070000
END:STANDARD
BEGIN:DAYLIGHT
TZOFFSETFROM:-0600
TZOFFSETTO:-0500
TZNAME:CDT
DTSTART:20260308T080000
END:DAYLIGHT
BEGIN:STANDARD
TZOFFSETFROM:-0500
TZOFFSETTO:-0600
TZNAME:CST
DTSTART:20261101T070000
END:STANDARD
END:VTIMEZONE
BEGIN:VEVENT
DTSTART;TZID=America/Chicago:20251011T180000
DTEND;TZID=America/Chicago:20251011T180000
DTSTAMP:20260424T063028
CREATED:20250908T163746Z
LAST-MODIFIED:20250908T163746Z
UID:76732-1760205600-1760205600@odessaarts.org
SUMMARY:Randall King returns to The Tailgate
DESCRIPTION:Event by The Tailgate Midland TX\n\n\n\n\n\n\n\n\n\n\n\n\n4401 N Big Spring\, Midland\, TX\, United States\, Texas 79705\n\n\n\n\n\n\n\n\n\n\n\n\n\nPublic  · Anyone on or off Facebook\n\n\n\n\n\n\n\nRandall King returns to The Tailgate on Saturday\, October 11!\n**THIS IS AN 18 AND UP EVENT! Anyone below the age of 18 will not be allowed entry.\nTicket Prices:• General Admission – $20.00 / Day of Show $30.00• Couch Sectional (Price includes entry for 8 people) $600.00• Rectangle Table (Price includes entry for 8 people) $575.00• Round Table (Price includes entry for 8 people) $550.00• Table for 4 (Price includes entry for 4 people) $300.00• Standing VIP ticket $50.00 / Day of Show $60\nDoors at 6pm. No re-entry. Clear bag policy. No lawn chairs permitted. Food trucks on site.\nThis is a rain or shine event. No refunds.\nTicket prices increase on the date of the performance.\n\n\ncon Saturday\, October 11! \n**THIS IS AN 18 AND UP EVENT! Anyone below the age of 18 will not be allowed entry.\nTicket Prices:• General Admission – $20.00 / Day of Show $30.00• Couch Sectional (Price includes entry for 8 people) $600.00• Rectangle Table (Price includes entry for 8 people) $575.00• Round Table (Price includes entry for 8 people) $550.00• Table for 4 (Price includes entry for 4 people) $300.00• Standing VIP ticket $50.00 / Day of Show $60\nDoors at 6pm. No re-entry. Clear bag policy. No lawn chairs permitted. Food trucks on site.\nThis is a rain or shine event. No refunds.\nTicket prices increase on the date of the performance.
URL:https://odessaarts.org/event/randall-king-returns-to-the-tailgate/
LOCATION:The Tailgate Midland\, 4401 N Big Spring\, Midland\, TX\, 79705\, United States
CATEGORIES:Music
END:VEVENT
BEGIN:VEVENT
DTSTART;TZID=America/Chicago:20251011T193000
DTEND;TZID=America/Chicago:20251011T193000
DTSTAMP:20260424T063028
CREATED:20250911T164400Z
LAST-MODIFIED:20250911T164400Z
UID:76756-1760211000-1760211000@odessaarts.org
SUMMARY:iLuminate
DESCRIPTION:From the moment the lights fade to darkness\, you are transported into another world…another dimension\, where the music moves you and the visuals are unlike anything you’ve ever seen. Welcome to the world of iLuminate\, named “Best New Act in America” by America’s Got Talent in 2011. A fantastic fusion of cutting edge technology and dance that has been wowing the world ever since appearing on AGT over a decade ago…to performing one of Las Vegas’ top shows to this day. iLuminate features a brilliant cast of the country’s top dancers performing to energetic music – including top Pop and Rock hits from the 70s\, 80s\, and 90s\, a little jazz\, a little Latin\, a little hip hop and more. The dancers are outfitted with customized LED suits synced to iLuminate’s proprietary software to create extraordinary lighting effects with each of the phenomenally choreographed dance moves. \nThis mind-blowing\, multi-sensory experience is completely unique and incomparable to any other stage spectacular as the dancers perform dynamic routines and illusions on a darkened stage. The touring show for the 23-24 season is brand new – featuring new stories\, new music\, new dances and new suits! As the show progresses\, each scene creates a new “room” inside “Club iLuminate” where an exhilarating blend of music\, dance\, illusion\, technology and comedy comes to life for an experience that’s sure to be the most fun you’ll ever have in the dark.
URL:https://odessaarts.org/event/iluminate/
LOCATION:Wagner Noël Performing Arts Center\, 1310 FM 1788\, Midland\, Texas
CATEGORIES:Humanities,Music,Theatre & Literary Arts,Visual Arts
END:VEVENT
END:VCALENDAR