BEGIN:VCALENDAR
VERSION:2.0
PRODID:-//Odessa Arts - ECPv6.15.20//NONSGML v1.0//EN
CALSCALE:GREGORIAN
METHOD:PUBLISH
X-ORIGINAL-URL:https://odessaarts.org
X-WR-CALDESC:Events for Odessa Arts
REFRESH-INTERVAL;VALUE=DURATION:PT1H
X-Robots-Tag:noindex
X-PUBLISHED-TTL:PT1H
BEGIN:VTIMEZONE
TZID:America/Chicago
BEGIN:DAYLIGHT
TZOFFSETFROM:-0600
TZOFFSETTO:-0500
TZNAME:CDT
DTSTART:20240310T080000
END:DAYLIGHT
BEGIN:STANDARD
TZOFFSETFROM:-0500
TZOFFSETTO:-0600
TZNAME:CST
DTSTART:20241103T070000
END:STANDARD
BEGIN:DAYLIGHT
TZOFFSETFROM:-0600
TZOFFSETTO:-0500
TZNAME:CDT
DTSTART:20250309T080000
END:DAYLIGHT
BEGIN:STANDARD
TZOFFSETFROM:-0500
TZOFFSETTO:-0600
TZNAME:CST
DTSTART:20251102T070000
END:STANDARD
BEGIN:DAYLIGHT
TZOFFSETFROM:-0600
TZOFFSETTO:-0500
TZNAME:CDT
DTSTART:20260308T080000
END:DAYLIGHT
BEGIN:STANDARD
TZOFFSETFROM:-0500
TZOFFSETTO:-0600
TZNAME:CST
DTSTART:20261101T070000
END:STANDARD
END:VTIMEZONE
BEGIN:VEVENT
DTSTART;TZID=America/Chicago:20251015T190000
DTEND;TZID=America/Chicago:20251015T190000
DTSTAMP:20260424T063102
CREATED:20250911T164643Z
LAST-MODIFIED:20250911T164643Z
UID:76758-1760554800-1760554800@odessaarts.org
SUMMARY:The Waddington Brothers
DESCRIPTION:Please note for all events we have a clear bag policy with a size limit of 12x6x12″ or a non-clear bag/wallet with a size limit of 8x3x5″. This policy includes diaper bags. \nThe Waddington Brothers\, a band of four brothers from rural North Dakota\, perform what they live: music that is real to them\, that takes listeners on a journey through the heart of the American West. \nSeth\, Ethan\, Jacob\, and Job Waddington skillfully blend cowboy and bluegrass music\, creating a style that’s timelessly classic and yet refreshingly new and unique. With their rich\, stirring vocal harmonies and instrumental versatility that ranges from hard-driving bluegrass to more mellow acoustic tones\, this quartet has developed a sound that is truly as strong as it is special. And their gift for captivating an audience comes naturally to these men. Whether they’re singing about cowboys or cabins\, hunting or horseback riding\, ranches or Indian reservations\, The Waddington Brothers share heartfelt songs that evoke feelings of warmth\, appreciation\, and a genuine connection to the way life was lived by our country’s pioneers. \nThis group shares their music as a well-polished craft: one that’s been cultivated by four siblings who have been playing and singing together their entire lives. While their performing experience together traces back to 2004\, the band officially came together as The Waddington Brothers in 2019. Their musical inspiration today is drawn from many pools of influences. Their sound might be described as a mixture of traditional bluegrass\, gospel music\, and Western strains reminiscent of The Sons of the Pioneers. Even more accurately\, though\, it can be described as something brand new—something powerfully different—a breath of fresh air to their audiences\, that could only be created by four brothers with such an authentic synergy and blend. And it’s been proven: in 2023 at the annual SPBGMA (Society for the Preservation of Bluegrass Music of America) Convention in Nashville\, Tennessee\, The Waddington Brothers took first place in the International Bluegrass Band Competition. \n\n\n 
URL:https://odessaarts.org/event/the-waddington-brothers/
LOCATION:Wagner Noël Performing Arts Center\, 1310 FM 1788\, Midland\, Texas
CATEGORIES:Humanities,Music,Public Art
END:VEVENT
END:VCALENDAR