BEGIN:VCALENDAR
VERSION:2.0
PRODID:-//Odessa Arts - ECPv6.15.20//NONSGML v1.0//EN
CALSCALE:GREGORIAN
METHOD:PUBLISH
X-WR-CALNAME:Odessa Arts
X-ORIGINAL-URL:https://odessaarts.org
X-WR-CALDESC:Events for Odessa Arts
REFRESH-INTERVAL;VALUE=DURATION:PT1H
X-Robots-Tag:noindex
X-PUBLISHED-TTL:PT1H
BEGIN:VTIMEZONE
TZID:America/Chicago
BEGIN:DAYLIGHT
TZOFFSETFROM:-0600
TZOFFSETTO:-0500
TZNAME:CDT
DTSTART:20240310T080000
END:DAYLIGHT
BEGIN:STANDARD
TZOFFSETFROM:-0500
TZOFFSETTO:-0600
TZNAME:CST
DTSTART:20241103T070000
END:STANDARD
BEGIN:DAYLIGHT
TZOFFSETFROM:-0600
TZOFFSETTO:-0500
TZNAME:CDT
DTSTART:20250309T080000
END:DAYLIGHT
BEGIN:STANDARD
TZOFFSETFROM:-0500
TZOFFSETTO:-0600
TZNAME:CST
DTSTART:20251102T070000
END:STANDARD
BEGIN:DAYLIGHT
TZOFFSETFROM:-0600
TZOFFSETTO:-0500
TZNAME:CDT
DTSTART:20260308T080000
END:DAYLIGHT
BEGIN:STANDARD
TZOFFSETFROM:-0500
TZOFFSETTO:-0600
TZNAME:CST
DTSTART:20261101T070000
END:STANDARD
END:VTIMEZONE
BEGIN:VEVENT
DTSTART;TZID=America/Chicago:20251025T170000
DTEND;TZID=America/Chicago:20251025T170000
DTSTAMP:20260424T062828
CREATED:20250422T160723Z
LAST-MODIFIED:20250422T160723Z
UID:76093-1761411600-1761411600@odessaarts.org
SUMMARY:West Texas Winds\, Permian Basin String Quartet\, and Friends
DESCRIPTION:
URL:https://odessaarts.org/event/west-texas-winds-permian-basin-string-quartet-and-friends/
LOCATION:Rea-Greathouse Recital Hall\, 1310 Farm to Market 1788\, Midlan\, TX\, 79707\, United States
CATEGORIES:Music
END:VEVENT
BEGIN:VEVENT
DTSTART;TZID=America/Chicago:20251025T170000
DTEND;TZID=America/Chicago:20251025T170000
DTSTAMP:20260424T062828
CREATED:20251020T143319Z
LAST-MODIFIED:20251020T143319Z
UID:76925-1761411600-1761411600@odessaarts.org
SUMMARY:WEST TEXAS WINDS & PERMIAN BASIN STRING QUARTET WITH FRIENDS
DESCRIPTION:October 25\, 2025 5:00 PM \n\n\n+Google\n+iCal\n\n\nDoors Open: 4:00 PM \n\n\n\n\n\nADULT $33.99All In Pricing Includes Convenience Fees \nSTUDENT $20.60 (with purchase of Adult Ticket or Valid College ID)All In Pricing Includes Convenience Fees \nGENERAL ADMISSION SEATING  ||  THE REA GREATHOUSE HALL \nPerformance will be held at: \nTHE REA GREATHOUSE HALL\nWAGNER NOEL PAC \n1310 N FM 1788\, MIDLAND\n 
URL:https://odessaarts.org/event/west-texas-winds-permian-basin-string-quartet-with-friends/
LOCATION:Wagner Noël Performing Arts Center\, 1310 FM 1788\, Midland\, Texas
CATEGORIES:Music
END:VEVENT
BEGIN:VEVENT
DTSTART;TZID=America/Chicago:20251025T170000
DTEND;TZID=America/Chicago:20251025T170000
DTSTAMP:20260424T062828
CREATED:20251020T203733Z
LAST-MODIFIED:20251020T203733Z
UID:76929-1761411600-1761411600@odessaarts.org
SUMMARY:
DESCRIPTION:Don’t miss the West Texas Winds and Permian Basin String Quartet’s Fall Recital on Saturday\, October 25th at 5:00pm at the Rea-Greathouse Recital Hall at the Wagner Noel PAC.\n\nAttached please find the flyer and group photo. Tickets and program information are available on our website athttps://www.wtxs.org/concerts/wtw-fall.html\n  \nWe would appreciate you sharing our event information in print\, online\, calendars\, social media\, etc.\n\nThank you!
URL:https://odessaarts.org/event/76929/
LOCATION:Wagner Noël Performing Arts Center\, 1310 FM 1788\, Midland\, Texas
CATEGORIES:Music
END:VEVENT
END:VCALENDAR