BEGIN:VCALENDAR
VERSION:2.0
PRODID:-//Odessa Arts - ECPv6.15.20//NONSGML v1.0//EN
CALSCALE:GREGORIAN
METHOD:PUBLISH
X-ORIGINAL-URL:https://odessaarts.org
X-WR-CALDESC:Events for Odessa Arts
REFRESH-INTERVAL;VALUE=DURATION:PT1H
X-Robots-Tag:noindex
X-PUBLISHED-TTL:PT1H
BEGIN:VTIMEZONE
TZID:America/Chicago
BEGIN:DAYLIGHT
TZOFFSETFROM:-0600
TZOFFSETTO:-0500
TZNAME:CDT
DTSTART:20240310T080000
END:DAYLIGHT
BEGIN:STANDARD
TZOFFSETFROM:-0500
TZOFFSETTO:-0600
TZNAME:CST
DTSTART:20241103T070000
END:STANDARD
BEGIN:DAYLIGHT
TZOFFSETFROM:-0600
TZOFFSETTO:-0500
TZNAME:CDT
DTSTART:20250309T080000
END:DAYLIGHT
BEGIN:STANDARD
TZOFFSETFROM:-0500
TZOFFSETTO:-0600
TZNAME:CST
DTSTART:20251102T070000
END:STANDARD
BEGIN:DAYLIGHT
TZOFFSETFROM:-0600
TZOFFSETTO:-0500
TZNAME:CDT
DTSTART:20260308T080000
END:DAYLIGHT
BEGIN:STANDARD
TZOFFSETFROM:-0500
TZOFFSETTO:-0600
TZNAME:CST
DTSTART:20261101T070000
END:STANDARD
END:VTIMEZONE
BEGIN:VEVENT
DTSTART;TZID=America/Chicago:20251031T180000
DTEND;TZID=America/Chicago:20251031T180000
DTSTAMP:20260424T045724
CREATED:20250827T194638Z
LAST-MODIFIED:20250827T194638Z
UID:76667-1761933600-1761933600@odessaarts.org
SUMMARY:THE GUCCIE MANE HALLOWEEN CONCERT
DESCRIPTION:Your Halloween plans are officially here!\nGucci Mane hits The Tailgate stage Friday\, October 31 for a Halloween concert!\n– Costume Contest: $1\,000 to 1st place\, $750 to 2nd place\, $500 to 3rd place (arrive by 8:30pm)\n– Halloween drinks all night\n– Pre-show basketball shot contest\n**THIS IS AN 18 AND UP EVENT! $10 minor upcharge. 18-20 year olds will have to pay $10 at the door. Anyone below the age of 18 will not be allowed entry.\nTicket Prices:\n• General Admission – $40.00 / Week of Show $50.00 / Day of Show $60.00\n• Couch Sectional (Price includes entry for 16 people) $2\,250.00\n• Rectangle Table (Price includes entry for 8 people) $1\,250.00\n• Standing VIP ticket $100.00 / Day of Show $130.00\nDoors at 6pm. No re-entry. Clear bag policy. No lawn chairs permitted. Food trucks on site.\nThis is a rain or shine event. No refunds.\nTicket prices increase on the week and date of the performance.
URL:https://odessaarts.org/event/the-guccie-mane-halloween-concert/
LOCATION:The Tailgate Midland\, 4401 N Big Spring\, Midland\, TX\, 79705\, United States
CATEGORIES:Music
END:VEVENT
BEGIN:VEVENT
DTSTART;TZID=America/Chicago:20251031T180000
DTEND;TZID=America/Chicago:20251031T180000
DTSTAMP:20260424T045724
CREATED:20251031T162757Z
LAST-MODIFIED:20251031T163116Z
UID:76958-1761933600-1761933600@odessaarts.org
SUMMARY:TONIGHT! Halloween at The Tailgate with Gucci Mane!
DESCRIPTION:TONIGHT! Halloween at The Tailgate with Gucci Mane!\n\n\n Get your tickets or VIP couch now at thetailgatemidland.com\n\n\nDOORS: 6pm\nClear bag policy. 18+ event. Food trucks on-site.\n\n\nCOSTUME CONTEST:\nMust be in the venue by 8:30pm\n• 1st Place: $1\,000 cash\n• 2nd Place: $750 cash\n• 3rd Place: $500 cash\nSponsored by Vibe City @myvibecity\n\n\nHALLOWEEN DRINKS\n• Gucci Goo – Liquid Mary Jane\n• So Icy Bomb – Vegas Bomb\n• Boojee Bucket – Dos XX Bucket\n\n\n$31 FLASH TATTOOS @blackcattattooco
URL:https://odessaarts.org/event/76958/
LOCATION:The Tailgate Midland\, 4401 N Big Spring\, Midland\, TX\, 79705\, United States
CATEGORIES:Music
END:VEVENT
END:VCALENDAR