BEGIN:VCALENDAR
VERSION:2.0
PRODID:-//Odessa Arts - ECPv6.15.20//NONSGML v1.0//EN
CALSCALE:GREGORIAN
METHOD:PUBLISH
X-WR-CALNAME:Odessa Arts
X-ORIGINAL-URL:https://odessaarts.org
X-WR-CALDESC:Events for Odessa Arts
REFRESH-INTERVAL;VALUE=DURATION:PT1H
X-Robots-Tag:noindex
X-PUBLISHED-TTL:PT1H
BEGIN:VTIMEZONE
TZID:America/Chicago
BEGIN:DAYLIGHT
TZOFFSETFROM:-0600
TZOFFSETTO:-0500
TZNAME:CDT
DTSTART:20240310T080000
END:DAYLIGHT
BEGIN:STANDARD
TZOFFSETFROM:-0500
TZOFFSETTO:-0600
TZNAME:CST
DTSTART:20241103T070000
END:STANDARD
BEGIN:DAYLIGHT
TZOFFSETFROM:-0600
TZOFFSETTO:-0500
TZNAME:CDT
DTSTART:20250309T080000
END:DAYLIGHT
BEGIN:STANDARD
TZOFFSETFROM:-0500
TZOFFSETTO:-0600
TZNAME:CST
DTSTART:20251102T070000
END:STANDARD
BEGIN:DAYLIGHT
TZOFFSETFROM:-0600
TZOFFSETTO:-0500
TZNAME:CDT
DTSTART:20260308T080000
END:DAYLIGHT
BEGIN:STANDARD
TZOFFSETFROM:-0500
TZOFFSETTO:-0600
TZNAME:CST
DTSTART:20261101T070000
END:STANDARD
END:VTIMEZONE
BEGIN:VEVENT
DTSTART;TZID=America/Chicago:20251119T190000
DTEND;TZID=America/Chicago:20251119T190000
DTSTAMP:20260424T045425
CREATED:20250911T170726Z
LAST-MODIFIED:20250911T170726Z
UID:76768-1763578800-1763578800@odessaarts.org
SUMMARY:Nutcracker! Magical Christmas Ballet
DESCRIPTION:Share the joy of NUTCRACKER! Magical Christmas Ballet with family and friends. Give the gift of a spectacular holiday experience featuring an international cast\, whimsical puppetry and opulent costumes and sets\, hand-crafted by the finest artisans of Europe. Go back to a simpler time and make memories your family will cherish forever. Celebrate the season with America’s most beloved Nutcracker tradition! Tchaikovsky’s timeless score sets the stage for a Christmas your family will never forget. Get tickets today! \n 
URL:https://odessaarts.org/event/nutcracker-magical-christmas-ballet-3/
LOCATION:Wagner Noël Performing Arts Center\, 1310 FM 1788\, Midland\, Texas
CATEGORIES:Humanities,Music,Public Art,Theatre & Literary Arts,Visual Arts
END:VEVENT
END:VCALENDAR