BEGIN:VCALENDAR
VERSION:2.0
PRODID:-//Odessa Arts - ECPv6.15.20//NONSGML v1.0//EN
CALSCALE:GREGORIAN
METHOD:PUBLISH
X-WR-CALNAME:Odessa Arts
X-ORIGINAL-URL:https://odessaarts.org
X-WR-CALDESC:Events for Odessa Arts
REFRESH-INTERVAL;VALUE=DURATION:PT1H
X-Robots-Tag:noindex
X-PUBLISHED-TTL:PT1H
BEGIN:VTIMEZONE
TZID:America/Chicago
BEGIN:DAYLIGHT
TZOFFSETFROM:-0600
TZOFFSETTO:-0500
TZNAME:CDT
DTSTART:20240310T080000
END:DAYLIGHT
BEGIN:STANDARD
TZOFFSETFROM:-0500
TZOFFSETTO:-0600
TZNAME:CST
DTSTART:20241103T070000
END:STANDARD
BEGIN:DAYLIGHT
TZOFFSETFROM:-0600
TZOFFSETTO:-0500
TZNAME:CDT
DTSTART:20250309T080000
END:DAYLIGHT
BEGIN:STANDARD
TZOFFSETFROM:-0500
TZOFFSETTO:-0600
TZNAME:CST
DTSTART:20251102T070000
END:STANDARD
BEGIN:DAYLIGHT
TZOFFSETFROM:-0600
TZOFFSETTO:-0500
TZNAME:CDT
DTSTART:20260308T080000
END:DAYLIGHT
BEGIN:STANDARD
TZOFFSETFROM:-0500
TZOFFSETTO:-0600
TZNAME:CST
DTSTART:20261101T070000
END:STANDARD
END:VTIMEZONE
BEGIN:VEVENT
DTSTART;TZID=America/Chicago:20251204T193000
DTEND;TZID=America/Chicago:20251204T193000
DTSTAMP:20260424T032701
CREATED:20251202T170040Z
LAST-MODIFIED:20251202T170040Z
UID:77007-1764876600-1764876600@odessaarts.org
SUMMARY:A VERY MERRY MOJO CHRISTMAS CONCERT A VERY MERRY MOJO CHRISTMAS CONCERT
DESCRIPTION:featuring the Permian Band\, Choir & Orchestra\n\n\n\n\n\n\nWagner Noël Performing Arts Center\n\n  December 4\, 2025 7:30 PM\nDoors Open: 6:30 PM\n\n\n\n\n\nRESERVED SEATING – $22.40($15.00 Ticket price + $7.40 fees)All In Pricing Includes Convenience Fees \n\n\n\n \n\nALL PATRONS\, INCLUDING LAP CHILDREN\, INFANTS & BABIES\, WILL REQUIRE A TICKET FOR ENTRY FOR ALL TICKETED PERFORMANCES. \n\nPLEASE REVIEW CART CAREFULLY BEFORE COMPLETING YOUR PURCHASE\nALL SALES FINAL. NO REFUNDS OR EXCHANGES
URL:https://odessaarts.org/event/a-very-merry-mojo-christmas-concert-a-very-merry-mojo-christmas-concert/
LOCATION:Wagner Noël Performing Arts Center\, 1310 FM 1788\, Midland\, Texas
CATEGORIES:Music
END:VEVENT
END:VCALENDAR