BEGIN:VCALENDAR
VERSION:2.0
PRODID:-//Odessa Arts - ECPv6.15.20//NONSGML v1.0//EN
CALSCALE:GREGORIAN
METHOD:PUBLISH
X-ORIGINAL-URL:https://odessaarts.org
X-WR-CALDESC:Events for Odessa Arts
REFRESH-INTERVAL;VALUE=DURATION:PT1H
X-Robots-Tag:noindex
X-PUBLISHED-TTL:PT1H
BEGIN:VTIMEZONE
TZID:America/Chicago
BEGIN:DAYLIGHT
TZOFFSETFROM:-0600
TZOFFSETTO:-0500
TZNAME:CDT
DTSTART:20240310T080000
END:DAYLIGHT
BEGIN:STANDARD
TZOFFSETFROM:-0500
TZOFFSETTO:-0600
TZNAME:CST
DTSTART:20241103T070000
END:STANDARD
BEGIN:DAYLIGHT
TZOFFSETFROM:-0600
TZOFFSETTO:-0500
TZNAME:CDT
DTSTART:20250309T080000
END:DAYLIGHT
BEGIN:STANDARD
TZOFFSETFROM:-0500
TZOFFSETTO:-0600
TZNAME:CST
DTSTART:20251102T070000
END:STANDARD
BEGIN:DAYLIGHT
TZOFFSETFROM:-0600
TZOFFSETTO:-0500
TZNAME:CDT
DTSTART:20260308T080000
END:DAYLIGHT
BEGIN:STANDARD
TZOFFSETFROM:-0500
TZOFFSETTO:-0600
TZNAME:CST
DTSTART:20261101T070000
END:STANDARD
END:VTIMEZONE
BEGIN:VEVENT
DTSTART;TZID=America/Chicago:20251221T140000
DTEND;TZID=America/Chicago:20251221T140000
DTSTAMP:20260424T045557
CREATED:20250911T174623Z
LAST-MODIFIED:20250911T174623Z
UID:76778-1766325600-1766325600@odessaarts.org
SUMMARY:The Nutcracker
DESCRIPTION:Epic battles\, lands made of sweets\, living toys and even fairies\, there’s something for the whole family to enjoy! \nSince 1994\, Midland Festival Ballet’s annual production of The Nutcracker has been a culmination of the community’s effort and talent. While MFB facilitates the production\, the cast is comprised of over a hundred students from dance studios all over West Texas. (Midland\, Odessa\, Andrews\, Greenwood\, even Big Spring!) The principal roles are filled by dancers from premiere professional ballet companies across the country\, a treat for both the students and the audience. (Guests TBA.) Live orchestral accompaniment\, provided by the West Texas Symphony\, takes the performance to another level. \nExperience the magic and make Midland Festival Ballet’s The Nutcracker part of your holiday plans!
URL:https://odessaarts.org/event/the-nutcracker-3/
LOCATION:Wagner Noël Performing Arts Center\, 1310 FM 1788\, Midland\, Texas
CATEGORIES:Humanities,Music,Public Art,Theatre & Literary Arts,Visual Arts
END:VEVENT
END:VCALENDAR