BEGIN:VCALENDAR
VERSION:2.0
PRODID:-//Odessa Arts - ECPv6.15.20//NONSGML v1.0//EN
CALSCALE:GREGORIAN
METHOD:PUBLISH
X-WR-CALNAME:Odessa Arts
X-ORIGINAL-URL:https://odessaarts.org
X-WR-CALDESC:Events for Odessa Arts
REFRESH-INTERVAL;VALUE=DURATION:PT1H
X-Robots-Tag:noindex
X-PUBLISHED-TTL:PT1H
BEGIN:VTIMEZONE
TZID:America/Chicago
BEGIN:DAYLIGHT
TZOFFSETFROM:-0600
TZOFFSETTO:-0500
TZNAME:CDT
DTSTART:20250309T080000
END:DAYLIGHT
BEGIN:STANDARD
TZOFFSETFROM:-0500
TZOFFSETTO:-0600
TZNAME:CST
DTSTART:20251102T070000
END:STANDARD
BEGIN:DAYLIGHT
TZOFFSETFROM:-0600
TZOFFSETTO:-0500
TZNAME:CDT
DTSTART:20260308T080000
END:DAYLIGHT
BEGIN:STANDARD
TZOFFSETFROM:-0500
TZOFFSETTO:-0600
TZNAME:CST
DTSTART:20261101T070000
END:STANDARD
BEGIN:DAYLIGHT
TZOFFSETFROM:-0600
TZOFFSETTO:-0500
TZNAME:CDT
DTSTART:20270314T080000
END:DAYLIGHT
BEGIN:STANDARD
TZOFFSETFROM:-0500
TZOFFSETTO:-0600
TZNAME:CST
DTSTART:20271107T070000
END:STANDARD
END:VTIMEZONE
BEGIN:VEVENT
DTSTART;VALUE=DATE:20260121
DTEND;VALUE=DATE:20260131
DTSTAMP:20260424T020234
CREATED:20260121T165224Z
LAST-MODIFIED:20260121T165224Z
UID:77698-1768953600-1769817599@odessaarts.org
SUMMARY:Theatre Network of Texas College Paid Internship Program
DESCRIPTION:DESCRIPTION \nTheatre Network of Texas\, Inc (TNT) is a nonprofit organization dedicated to serving the theatres and artists of Texas and the communities they serve. TNT\, with the support of the the Jack K. Ayre and Frank Ayre Lee Theatre Foundation\, sponsors college internships to address the needs of theatres and students in the discipline of live theatre. \nGOAL \nThe goal of the program is to expose students to the theatre profession by: \n\nproviding firsthand experience working with and in theatres;\ngiving an overview of current issues in the profession;\nfacilitating job opportunities through contacts made in the Texas theatre community.\n\nELIGIBILITY\n \n\nMust have graduated  / completed high school course work and received high school diploma.\nCompleted Sophomore year of college after high school graduation. (Advanced placement and completion of college courses while still enrolled in high school does NOT qualify as completion.)\nMajoring in any aspect of theatre i.e. education\, administration\, etc.\nGraduate Students are eligible\nStudents of every race\, religion\, gender\, ethnic and economic background and sexual preference are eligible to apply.\nMust be a member of TNT at the Student ($20) level at the time of application\nMust be available to attend TEXFest in Odessa for interviews – March 11 – 15\, 2026\nMust be a resident of Texas or attend a Texas university with a Texas address\nMust have a drivers license and reliable transportation\nMust be available for orientation\, the internship and the debriefing from May 15\, 2026 – July 27\, 2026\n\nApplicants must submit all application attachments (Transcript\, Resumé\, Letter of Recommendation\, Essay) to be considered. \nPERIOD AND SITES OF INTERNSHIP\nTen weeks beginning with orientation – May 15\, 2026 and finishing with a debriefing on July 27\, 2026 both in Fort Worth\, Texas (THESE ARE IN PERSON AND NOT OPTIONAL.) Following orientation\, interns will have five week residencies at two different theatres culminating in a debriefing. Please note: the host theatre chooses the intern they want\, as opposed to the intern choosing the theatre. \nInterns will get the opportunity to learn about administrative\, artistic and technical aspects of working in theatre. Each theatre determines what work interns will do. Past interns have worked backstage and in administrative offices\, helped with summer theatre camps\, performed in shows\, constructed costumes\, etc. \n\nPLEASE NOTE: THIS IS NOT A PERFORMANCE INTERNSHIP. \nCOMPENSATION\nSelected interns will receive $3\,000 for the ten weeks. Lodging will be provided by the host theatres during the residencies. Lodging could consist of an apartment\, a room in someone’s home\, a dorm room\, etc. \n\nJOB DESCRIPTION \nDepending on the theatres chosen for placements\, the residencies may include artistic\, technical and administrative experiences and duties. The focus of the internship is determined by the individual theatres. Interns will be mentored during their placements by the heads of the divisions in which they work. PLEASE NOTE: THIS IS NOT A PERFORMANCE-BASED INTERNSHIP. \nSome previous placements have included: Theatre Three\, Shakespeare Dallas\, Dallas Summer Musicals\, Dallas Children’s Theater\, Kitchen Dog Theater\, Amarillo Little Theatre\, Stage West\, Hip Pocket Theatre\, Theatre Arlington\, S.T.A.G.E. Bulverde\, WaterTower Theatre\, Unity Theatre\, Ensemble Theatre\, ACE Theatre\, Stages Repertory Theatre\,  The Alley Theatre\, The Point Theatre\, Hill Country Community Theatre\, Temple Civic Theatre\, Plaza Theatre Company\, ArtsView Children’s Theatre\, Baytown Little Theater\, Rover Dramawerks\, Fredericksburg Theater Company\, Vive Les Artes\, Playhouse 2000 and Beaumont Community Players. \nTERMS OF INTERNSHIP / REQUIREMENTS \n\nInterns must have a valid drivers license. Interns are responsible for their own transportation to / from interviews\, orientation\, placement and debriefing.\nInterns must be available for travel throughout the period. \nInterns must be able to commit to the completion of the ten week program. Exceptions may be made with advance notice.\nInterns must have demonstrated communication skills.\n\n\nSELECTION PROCESS \nApplications will be reviewed by TNT staff and Executive Director. Interviews will take place in March at TEXFest 2026. \nApplicants are required to submit the following materials: \n\nTNT Membership at the Student Level – $20\nApplication Form\nMost current college transcript (official copy or web PDF copy)\nLetter of recommendation from a college professor in the student’s field of study\nComplete resumé of work/experience/roles/teaching experience/technical experience\, etc.\n500 word essay on why you would make a good candidate for this internship.\n\nAPPLICATION DEADLINE \nApplications and attachments should be emailed / postmarked  no later than Friday\, January 30\, 2026\, and sent to: \npreston@texastheatres.org with Subject Title: First Initial.Last Name Internship Application – i.e.: J.Doe Internship Application \nOr mailed to: \nMulticultural Initiatives Internship \nTheatre Network of Texas\, Inc. \nP.O. Box 470672 \nFort Worth\, TX 76147 \nAttachments may be sent separately from application\, but all materials must be in by the January deadline. Applications and/or attachments postmarked or emailed after January 30 will not be accepted. \nQuestions should be addressed to \nPreston Isham\, Programs Manager\, at the above address\, by email at preston@texastheatres.org. \nApplicants will be notified of acceptance for interview by early-February 2026. \n\n\n\n\n\nThank you to our generous sponsor\nThe Multicultural Initiatives Summer Paid Theatre Internship program is generously underwritten by a grant from the Jack K. Ayre Frank Ayre Lee Theatre Foundation.
URL:https://odessaarts.org/event/theatre-network-of-texas-college-paid-internship-program/
LOCATION:Online\, TX\, United States
CATEGORIES:Humanities,Music,Public Art,Theatre & Literary Arts,Visual Arts
END:VEVENT
END:VCALENDAR