BEGIN:VCALENDAR
VERSION:2.0
PRODID:-//Odessa Arts - ECPv6.15.20//NONSGML v1.0//EN
CALSCALE:GREGORIAN
METHOD:PUBLISH
X-ORIGINAL-URL:https://odessaarts.org
X-WR-CALDESC:Events for Odessa Arts
REFRESH-INTERVAL;VALUE=DURATION:PT1H
X-Robots-Tag:noindex
X-PUBLISHED-TTL:PT1H
BEGIN:VTIMEZONE
TZID:America/Chicago
BEGIN:DAYLIGHT
TZOFFSETFROM:-0600
TZOFFSETTO:-0500
TZNAME:CDT
DTSTART:20250309T080000
END:DAYLIGHT
BEGIN:STANDARD
TZOFFSETFROM:-0500
TZOFFSETTO:-0600
TZNAME:CST
DTSTART:20251102T070000
END:STANDARD
BEGIN:DAYLIGHT
TZOFFSETFROM:-0600
TZOFFSETTO:-0500
TZNAME:CDT
DTSTART:20260308T080000
END:DAYLIGHT
BEGIN:STANDARD
TZOFFSETFROM:-0500
TZOFFSETTO:-0600
TZNAME:CST
DTSTART:20261101T070000
END:STANDARD
BEGIN:DAYLIGHT
TZOFFSETFROM:-0600
TZOFFSETTO:-0500
TZNAME:CDT
DTSTART:20270314T080000
END:DAYLIGHT
BEGIN:STANDARD
TZOFFSETFROM:-0500
TZOFFSETTO:-0600
TZNAME:CST
DTSTART:20271107T070000
END:STANDARD
END:VTIMEZONE
BEGIN:VEVENT
DTSTART;TZID=America/Chicago:20260212T193000
DTEND;TZID=America/Chicago:20260212T193000
DTSTAMP:20260424T003011
CREATED:20260202T204504Z
LAST-MODIFIED:20260202T204504Z
UID:77726-1770924600-1770924600@odessaarts.org
SUMMARY:Colter Wall - Memories and Empties
DESCRIPTION:Colter Wall\, the no-nonsense rancher who hangs his hat in southwestern Saskatchewan\, is back with Memories and Empties\, his fifth studio album. \n“I wanted to make a straight ahead country album\,” Wall says. His brand-new LP is sure to evoke the two-stepping\, toe-tapping memories of Merle Haggard and The Strangers and their contemporaries. \nMemories and Empties — via La Honda Records and RCA Records — was recorded at the venerable RCA Studio A with Wall’s long-time co-producer\, Patrick Lyons. Wall wrote nine of the songs on the record\, with a cover of Ian Tyson’s “Summer Wages” rounding out the project. Guests Noeline Hofmann and Nikki Lane add their voices to the project with harmonies that complement Wall’s timeless baritone. Throughout the record\, his vocals interplay with a swinging pedal steel and classic-country bass notes as he sings relational stories which play out in rural communities. “This record is really about relationships\, I guess\,” Wall surmises. \nIn support of the record\, Wall is touring western Canada\, Texas and the Southwest\, with highlight shows during National Finals Rodeo in Las Vegas\, NV\, Austin’s iconic ACL Live at Moody Theater\, and the Will Rogers Coliseum in Fort Worth’s historic Stockyards.
URL:https://odessaarts.org/event/colter-wall-memories-and-empties-2/
LOCATION:Wagner Noël Performing Arts Center\, 1310 FM 1788\, Midland\, Texas
CATEGORIES:Music
END:VEVENT
END:VCALENDAR