BEGIN:VCALENDAR
VERSION:2.0
PRODID:-//Odessa Arts - ECPv6.15.20//NONSGML v1.0//EN
CALSCALE:GREGORIAN
METHOD:PUBLISH
X-WR-CALNAME:Odessa Arts
X-ORIGINAL-URL:https://odessaarts.org
X-WR-CALDESC:Events for Odessa Arts
REFRESH-INTERVAL;VALUE=DURATION:PT1H
X-Robots-Tag:noindex
X-PUBLISHED-TTL:PT1H
BEGIN:VTIMEZONE
TZID:America/Chicago
BEGIN:DAYLIGHT
TZOFFSETFROM:-0600
TZOFFSETTO:-0500
TZNAME:CDT
DTSTART:20250309T080000
END:DAYLIGHT
BEGIN:STANDARD
TZOFFSETFROM:-0500
TZOFFSETTO:-0600
TZNAME:CST
DTSTART:20251102T070000
END:STANDARD
BEGIN:DAYLIGHT
TZOFFSETFROM:-0600
TZOFFSETTO:-0500
TZNAME:CDT
DTSTART:20260308T080000
END:DAYLIGHT
BEGIN:STANDARD
TZOFFSETFROM:-0500
TZOFFSETTO:-0600
TZNAME:CST
DTSTART:20261101T070000
END:STANDARD
BEGIN:DAYLIGHT
TZOFFSETFROM:-0600
TZOFFSETTO:-0500
TZNAME:CDT
DTSTART:20270314T080000
END:DAYLIGHT
BEGIN:STANDARD
TZOFFSETFROM:-0500
TZOFFSETTO:-0600
TZNAME:CST
DTSTART:20271107T070000
END:STANDARD
END:VTIMEZONE
BEGIN:VEVENT
DTSTART;TZID=America/Chicago:20260221T193000
DTEND;TZID=America/Chicago:20260221T193000
DTSTAMP:20260424T020205
CREATED:20251031T144217Z
LAST-MODIFIED:20251031T144217Z
UID:76956-1771702200-1771702200@odessaarts.org
SUMMARY:TIG NOTARO: OUT OF NOWHERE
DESCRIPTION:Ticket Info\n\n\n\n\n\n\n\n\nTIG NOTARO: OUT OF NOWHERE\n\n\nWagner Noël Performing Arts Center\n\n   February 21\, 2026 7:30 PM\nDoors Open: 6:30 PM\n\n\n\n\n\n\n\nTICKET PRICES  $193.19 – $48.23All In Pricing Includes Convenience Fees\n\nRESERVED SEATING \n\n \n \n\nALL PERSONS\, INCLUDING LAP CHILDREN\, INFANTS & BABIES\, WILL REQUIRE A TICKET FOR ENTRY FOR ALL TICKETED PERFORMANCES. \n\n• TO SELECT YOUR SEATS\, CLICK ON ANY SECTION IN THE MAP BELOW\n• PLEASE REVIEW CART CAREFULLY BEFORE COMPLETING YOUR PURCHASE\n• NOTE: ORCH RIGHT IS EVEN NUMBERED SEATS\n• NOTE: ORCH LEFT IS ODD NUMBERED SEATS\n• ALL SALES FINAL. NO REFUNDS OR EXCHANGES
URL:https://odessaarts.org/event/tig-notaro-out-of-nowhere/
LOCATION:Wagner Noël Performing Arts Center\, 1310 FM 1788\, Midland\, Texas
CATEGORIES:Music
END:VEVENT
END:VCALENDAR