BEGIN:VCALENDAR
VERSION:2.0
PRODID:-//Odessa Arts - ECPv6.15.20//NONSGML v1.0//EN
CALSCALE:GREGORIAN
METHOD:PUBLISH
X-WR-CALNAME:Odessa Arts
X-ORIGINAL-URL:https://odessaarts.org
X-WR-CALDESC:Events for Odessa Arts
REFRESH-INTERVAL;VALUE=DURATION:PT1H
X-Robots-Tag:noindex
X-PUBLISHED-TTL:PT1H
BEGIN:VTIMEZONE
TZID:America/Chicago
BEGIN:DAYLIGHT
TZOFFSETFROM:-0600
TZOFFSETTO:-0500
TZNAME:CDT
DTSTART:20250309T080000
END:DAYLIGHT
BEGIN:STANDARD
TZOFFSETFROM:-0500
TZOFFSETTO:-0600
TZNAME:CST
DTSTART:20251102T070000
END:STANDARD
BEGIN:DAYLIGHT
TZOFFSETFROM:-0600
TZOFFSETTO:-0500
TZNAME:CDT
DTSTART:20260308T080000
END:DAYLIGHT
BEGIN:STANDARD
TZOFFSETFROM:-0500
TZOFFSETTO:-0600
TZNAME:CST
DTSTART:20261101T070000
END:STANDARD
BEGIN:DAYLIGHT
TZOFFSETFROM:-0600
TZOFFSETTO:-0500
TZNAME:CDT
DTSTART:20270314T080000
END:DAYLIGHT
BEGIN:STANDARD
TZOFFSETFROM:-0500
TZOFFSETTO:-0600
TZNAME:CST
DTSTART:20271107T070000
END:STANDARD
END:VTIMEZONE
BEGIN:VEVENT
DTSTART;TZID=America/Chicago:20260228T193000
DTEND;TZID=America/Chicago:20260228T193000
DTSTAMP:20260424T002946
CREATED:20250422T171137Z
LAST-MODIFIED:20250422T171137Z
UID:76103-1772307000-1772307000@odessaarts.org
SUMMARY:West Texas Symphony Double Trouble
DESCRIPTION:John Gilbert\, Violin\nGeorge Work\, Cello\nDouble Concerto – JOHANNES BRAHMS\nSymphony No. 5\, “Reformation” – FELIX MENDELSSOHN\nSYMPHONY SOUNDBITES DINNER AVAILABLE
URL:https://odessaarts.org/event/west-texas-symphony-double-trouble/
LOCATION:Wagner Noël Performing Arts Center\, 1310 FM 1788\, Midland\, Texas
CATEGORIES:Music
END:VEVENT
BEGIN:VEVENT
DTSTART;TZID=America/Chicago:20260228T193000
DTEND;TZID=America/Chicago:20260228T193000
DTSTAMP:20260424T002946
CREATED:20260206T225428Z
LAST-MODIFIED:20260206T225428Z
UID:77868-1772307000-1772307000@odessaarts.org
SUMMARY:Double Trouble - West Texas Symphony
DESCRIPTION:DOUBLE TROUBLE\nSaturday\, February 28\, 2026\n7:30 PM | Wagner Noël Performing Arts Center\nGary Lewis\, Conductor\nJohn Gilbert\, Violin\nGeorge Work\, Cello \nThe Impresario Overture – Wolfgang Amadeus Mozart\nConcerto for Violin and Cello in A Minor “Double Concerto” – Johannes Brahms\nSymphony No. 5 in D Major “Reformation” – Felix Mendelssohn \nTickets $12 – $83\, Students $12 (plus venue fees)\nCLICK TO PURCHASE TICKETS ONLINE\n800-514-3849\nScheduled programs and individuals are subject to change. Ticketing is handled by the Wagner Noël Performing Arts Center – all ticketing\, security\, and venue policies apply. \n\n2025-2026 SEASON SPONSORED BY:\nSharon & John Webb \nCONCERT SPONSORED BY:\nDiann & John McKee
URL:https://odessaarts.org/event/double-trouble-west-texas-symphony/
LOCATION:Wagner Noël Performing Arts Center\, 1310 FM 1788\, Midland\, Texas
CATEGORIES:Music
ORGANIZER;CN="West Texas Symphony":MAILTO:symphony@wtxs.org
END:VEVENT
BEGIN:VEVENT
DTSTART;TZID=America/Chicago:20260228T193000
DTEND;TZID=America/Chicago:20260228T223000
DTSTAMP:20260424T002946
CREATED:20260227T185428Z
LAST-MODIFIED:20260227T185913Z
UID:78253-1772307000-1772317800@odessaarts.org
SUMMARY:Music at the Marriott by the West Texas Jazz Society
DESCRIPTION:7:30-10:30 pm\nEvery Saturday\nIn The Odessa Marriott Lobby \nco-sponsored by the Jazz Society and Odessa Arts
URL:https://odessaarts.org/event/music-at-the-marriott-by-the-west-texas-jazz-society/2026-02-28/
LOCATION:Odessa Marriott Hotel & Conference Center\, 305 E. 5th Street\, Odessa\, Texas\, 79761
CATEGORIES:Music
END:VEVENT
END:VCALENDAR