BEGIN:VCALENDAR
VERSION:2.0
PRODID:-//Odessa Arts - ECPv6.15.20//NONSGML v1.0//EN
CALSCALE:GREGORIAN
METHOD:PUBLISH
X-ORIGINAL-URL:https://odessaarts.org
X-WR-CALDESC:Events for Odessa Arts
REFRESH-INTERVAL;VALUE=DURATION:PT1H
X-Robots-Tag:noindex
X-PUBLISHED-TTL:PT1H
BEGIN:VTIMEZONE
TZID:America/Chicago
BEGIN:DAYLIGHT
TZOFFSETFROM:-0600
TZOFFSETTO:-0500
TZNAME:CDT
DTSTART:20250309T080000
END:DAYLIGHT
BEGIN:STANDARD
TZOFFSETFROM:-0500
TZOFFSETTO:-0600
TZNAME:CST
DTSTART:20251102T070000
END:STANDARD
BEGIN:DAYLIGHT
TZOFFSETFROM:-0600
TZOFFSETTO:-0500
TZNAME:CDT
DTSTART:20260308T080000
END:DAYLIGHT
BEGIN:STANDARD
TZOFFSETFROM:-0500
TZOFFSETTO:-0600
TZNAME:CST
DTSTART:20261101T070000
END:STANDARD
BEGIN:DAYLIGHT
TZOFFSETFROM:-0600
TZOFFSETTO:-0500
TZNAME:CDT
DTSTART:20270314T080000
END:DAYLIGHT
BEGIN:STANDARD
TZOFFSETFROM:-0500
TZOFFSETTO:-0600
TZNAME:CST
DTSTART:20271107T070000
END:STANDARD
END:VTIMEZONE
BEGIN:VEVENT
DTSTART;VALUE=DATE:20260309
DTEND;VALUE=DATE:20260313
DTSTAMP:20260424T003108
CREATED:20260213T161309Z
LAST-MODIFIED:20260213T161309Z
UID:77935-1773014400-1773359999@odessaarts.org
SUMMARY:Disney The Movies\, The Music
DESCRIPTION:Spring Break Camp March 9-12\, 2026 \nCalling all K-8th graders!\nJoin us for a magical week exploring classic Disney movies and music.\nSing\, dance\, and bring some of your favorite Disney characters to life! \nGet ready for a week filled with Disney magic! Students will sing\, dance\, and act their way through the music and stories inspired by some of Disney’s most beloved films\, from timeless classics like Mary Poppins to  favorites The Lion King\,  all leading up to a special performance for family and friends. \n🗓 Dates: March 9–12\, 2026\n⏰ Times:\n• March 9–11 | 9:00 AM – 3:00 PM\n• March 12 | 9:00 AM – after the performance \n📍 Locations:\n• March 9–11 at First Presbyterian Church\, Odessa\n• March 12 performance location TBD \n🥪 Students will need to bring their own lunch each day (March 9–12). \n🎟 Limited spots available!\nReserve your place today with a $100 non-refundable deposit due at registration. The remaining balance is due by February 1\, 2026. \nDon’t miss this chance to make magical memories during Spring Break! 🌟
URL:https://odessaarts.org/event/disney-the-movies-the-music/
LOCATION:Basin Theatre Works\, 310 W. 42nd Street\, Odessa\, TX\, 79764\, United States
CATEGORIES:Humanities,Music,Theatre & Literary Arts
END:VEVENT
END:VCALENDAR