BEGIN:VCALENDAR
VERSION:2.0
PRODID:-//Odessa Arts - ECPv6.15.20//NONSGML v1.0//EN
CALSCALE:GREGORIAN
METHOD:PUBLISH
X-WR-CALNAME:Odessa Arts
X-ORIGINAL-URL:https://odessaarts.org
X-WR-CALDESC:Events for Odessa Arts
REFRESH-INTERVAL;VALUE=DURATION:PT1H
X-Robots-Tag:noindex
X-PUBLISHED-TTL:PT1H
BEGIN:VTIMEZONE
TZID:America/Chicago
BEGIN:DAYLIGHT
TZOFFSETFROM:-0600
TZOFFSETTO:-0500
TZNAME:CDT
DTSTART:20250309T080000
END:DAYLIGHT
BEGIN:STANDARD
TZOFFSETFROM:-0500
TZOFFSETTO:-0600
TZNAME:CST
DTSTART:20251102T070000
END:STANDARD
BEGIN:DAYLIGHT
TZOFFSETFROM:-0600
TZOFFSETTO:-0500
TZNAME:CDT
DTSTART:20260308T080000
END:DAYLIGHT
BEGIN:STANDARD
TZOFFSETFROM:-0500
TZOFFSETTO:-0600
TZNAME:CST
DTSTART:20261101T070000
END:STANDARD
BEGIN:DAYLIGHT
TZOFFSETFROM:-0600
TZOFFSETTO:-0500
TZNAME:CDT
DTSTART:20270314T080000
END:DAYLIGHT
BEGIN:STANDARD
TZOFFSETFROM:-0500
TZOFFSETTO:-0600
TZNAME:CST
DTSTART:20271107T070000
END:STANDARD
END:VTIMEZONE
BEGIN:VEVENT
DTSTART;TZID=America/Chicago:20260318T100000
DTEND;TZID=America/Chicago:20260318T110000
DTSTAMP:20260424T003002
CREATED:20260227T165604Z
LAST-MODIFIED:20260227T165604Z
UID:78125-1773828000-1773831600@odessaarts.org
SUMMARY:Aladdin and the Magic Lamp
DESCRIPTION:Art-loving preschoolers ages 3-5 and their grown-ups are invited to join us at the Museum for a beautifully illustrated story and art activity. Free! \nOn March 18\, join us for a special edition of Art Tales featuring the story Aladdin & the Magic Lamp\, followed by a special dance performance by Midland Festival Ballet. All ages welcome!
URL:https://odessaarts.org/event/aladdin-and-the-magic-lamp/
LOCATION:Ellen Noel Art Museum\, 4909 E. University\, Odessa\, TX\, 79762\, United States
CATEGORIES:Museum,Music
END:VEVENT
END:VCALENDAR