BEGIN:VCALENDAR
VERSION:2.0
PRODID:-//Odessa Arts - ECPv6.15.20//NONSGML v1.0//EN
CALSCALE:GREGORIAN
METHOD:PUBLISH
X-ORIGINAL-URL:https://odessaarts.org
X-WR-CALDESC:Events for Odessa Arts
REFRESH-INTERVAL;VALUE=DURATION:PT1H
X-Robots-Tag:noindex
X-PUBLISHED-TTL:PT1H
BEGIN:VTIMEZONE
TZID:America/Chicago
BEGIN:DAYLIGHT
TZOFFSETFROM:-0600
TZOFFSETTO:-0500
TZNAME:CDT
DTSTART:20250309T080000
END:DAYLIGHT
BEGIN:STANDARD
TZOFFSETFROM:-0500
TZOFFSETTO:-0600
TZNAME:CST
DTSTART:20251102T070000
END:STANDARD
BEGIN:DAYLIGHT
TZOFFSETFROM:-0600
TZOFFSETTO:-0500
TZNAME:CDT
DTSTART:20260308T080000
END:DAYLIGHT
BEGIN:STANDARD
TZOFFSETFROM:-0500
TZOFFSETTO:-0600
TZNAME:CST
DTSTART:20261101T070000
END:STANDARD
BEGIN:DAYLIGHT
TZOFFSETFROM:-0600
TZOFFSETTO:-0500
TZNAME:CDT
DTSTART:20270314T080000
END:DAYLIGHT
BEGIN:STANDARD
TZOFFSETFROM:-0500
TZOFFSETTO:-0600
TZNAME:CST
DTSTART:20271107T070000
END:STANDARD
END:VTIMEZONE
BEGIN:VEVENT
DTSTART;TZID=America/Chicago:20260325T180000
DTEND;TZID=America/Chicago:20260325T180000
DTSTAMP:20260424T020424
CREATED:20260204T222744Z
LAST-MODIFIED:20260204T222744Z
UID:77851-1774461600-1774461600@odessaarts.org
SUMMARY:Little Red Riding Hood - Midland College
DESCRIPTION:  \n\n\n\n\n\nEvent by Permian Basin Opera\n\n\n\n\n\n\n\n\n\n\n\n\n3600 N Garfield St\, Midland\, TX 79705-6329\, United States\n\n\n\n\n\n\n\n\n\n\n\n\n\nPublic  · Anyone on or off Facebook\n\n\n\n\n\n\n\nOpera in the Schools is ready for another amazing year. Permian Basin Opera\, in collaboration with Opera of the Plains\, will be bringing back The Little Red Riding Hood for 4th graders. If you would like us to come to your school (private or homeschool) please reach out to PBO at info@mypbo.org. We are also working with MISD and EISD schools to set up fieldtrips\, so be watching for this wonderful opportunity. There will be a free community performance held at Midland College at the Allison Fine Arts Building Wagner and Brown Auditorium March 25th at 6pm. If you would like to reserve your FREE spot\, just sign up at this link. https://www.mypbo.org/…/opera-in-the-schools-community…. We hope to see you there! \nSee less\n\n\n\n\n\n\n\n\n 
URL:https://odessaarts.org/event/little-red-riding-hood-midland-college/
LOCATION:Midland College\, 3600 N. Garfield Street\, Midland\, TX\, 79705\, United States
CATEGORIES:Music
ORGANIZER;CN="Midland College Foundation":MAILTO:foundation@midland.edu
END:VEVENT
BEGIN:VEVENT
DTSTART;TZID=America/Chicago:20260325T180000
DTEND;TZID=America/Chicago:20260325T200000
DTSTAMP:20260424T020424
CREATED:20260203T155138Z
LAST-MODIFIED:20260203T155138Z
UID:77813-1774461600-1774468800@odessaarts.org
SUMMARY:Little Red Riding Hood by Opera of the Plains in collaboration with Permian Basin Opera
DESCRIPTION:Music and Original Libretto by Brian Kuhnert Based\non Orphée aux enfers by Jacques Offenbach\nLibretto based on Le Petit Chaperon Rouge by Charles Perrault\nDirected by Cloyce Kuhnert Music\nDirection by Brian Kuhnert\nFREE to the public and\n4th Grade Private/MISD/EISD Schools \nCommunity Performance at Midland College\nMarch 25\, 2026 in the\nWagner and Brown Auditorium\n@ 6рm
URL:https://odessaarts.org/event/little-red-riding-hood-by-opera-of-the-plains-in-collaboration-with-permian-basin-opera/
LOCATION:Midland College\, 3600 N. Garfield Street\, Midland\, TX\, 79705\, United States
CATEGORIES:Music
END:VEVENT
END:VCALENDAR