BEGIN:VCALENDAR
VERSION:2.0
PRODID:-//Odessa Arts - ECPv6.15.20//NONSGML v1.0//EN
CALSCALE:GREGORIAN
METHOD:PUBLISH
X-ORIGINAL-URL:https://odessaarts.org
X-WR-CALDESC:Events for Odessa Arts
REFRESH-INTERVAL;VALUE=DURATION:PT1H
X-Robots-Tag:noindex
X-PUBLISHED-TTL:PT1H
BEGIN:VTIMEZONE
TZID:America/Chicago
BEGIN:DAYLIGHT
TZOFFSETFROM:-0600
TZOFFSETTO:-0500
TZNAME:CDT
DTSTART:20250309T080000
END:DAYLIGHT
BEGIN:STANDARD
TZOFFSETFROM:-0500
TZOFFSETTO:-0600
TZNAME:CST
DTSTART:20251102T070000
END:STANDARD
BEGIN:DAYLIGHT
TZOFFSETFROM:-0600
TZOFFSETTO:-0500
TZNAME:CDT
DTSTART:20260308T080000
END:DAYLIGHT
BEGIN:STANDARD
TZOFFSETFROM:-0500
TZOFFSETTO:-0600
TZNAME:CST
DTSTART:20261101T070000
END:STANDARD
BEGIN:DAYLIGHT
TZOFFSETFROM:-0600
TZOFFSETTO:-0500
TZNAME:CDT
DTSTART:20270314T080000
END:DAYLIGHT
BEGIN:STANDARD
TZOFFSETFROM:-0500
TZOFFSETTO:-0600
TZNAME:CST
DTSTART:20271107T070000
END:STANDARD
END:VTIMEZONE
BEGIN:VEVENT
DTSTART;TZID=America/Chicago:20260331T193000
DTEND;TZID=America/Chicago:20260331T193000
DTSTAMP:20260423T211340
CREATED:20260212T160000Z
LAST-MODIFIED:20260212T160000Z
UID:77897-1774985400-1774985400@odessaarts.org
SUMMARY:Broadway In The Basin Presents SIX The Musical
DESCRIPTION:Event information \nFrom Tudor Queens to Pop Icons\, the SIX wives of Henry VIII take the microphone to remix five hundred years of historical heartbreak into a Euphoric Celebration of 21st century girl power! This new original musical is the global sensation that everyone is losing their head over! \nThe New York Times says SIX “TOTALLY RULES!” (Critic’s Pick) and The Washington Post hails SIXas “Exactly the kind of energizing\, inspirational illumination this town aches for!” \nThe SIX: LIVE ON OPENING NIGHT Broadway album debuted at Number 1 on the Billboard cast album charts and surpassed one billion streams worldwide! \nTicket information \n\n\n\nRESERVED $124.00 – $64.00\nGROUP (10+) – 10% OFF RESERVED PRICE\nTo access the Group Discount use code GROUP in the ENTER OFFER CODE box at top of map\nOnce you cart all seats\, select Group (10+) from the drop down for each seat. \n\n\n\n\nRecommended for ages 10 and older. \n\nMar 31 / Tuesday7:30 PM \nApr 1 / Wednesday7:30 PM
URL:https://odessaarts.org/event/broadway-in-the-basin-presents-six-the-musical/2026-03-31/
LOCATION:Wagner Noël Performing Arts Center\, 1310 FM 1788\, Midland\, Texas
CATEGORIES:Music
END:VEVENT
END:VCALENDAR