BEGIN:VCALENDAR
VERSION:2.0
PRODID:-//Odessa Arts - ECPv6.15.20//NONSGML v1.0//EN
CALSCALE:GREGORIAN
METHOD:PUBLISH
X-WR-CALNAME:Odessa Arts
X-ORIGINAL-URL:https://odessaarts.org
X-WR-CALDESC:Events for Odessa Arts
REFRESH-INTERVAL;VALUE=DURATION:PT1H
X-Robots-Tag:noindex
X-PUBLISHED-TTL:PT1H
BEGIN:VTIMEZONE
TZID:America/Chicago
BEGIN:DAYLIGHT
TZOFFSETFROM:-0600
TZOFFSETTO:-0500
TZNAME:CDT
DTSTART:20250309T080000
END:DAYLIGHT
BEGIN:STANDARD
TZOFFSETFROM:-0500
TZOFFSETTO:-0600
TZNAME:CST
DTSTART:20251102T070000
END:STANDARD
BEGIN:DAYLIGHT
TZOFFSETFROM:-0600
TZOFFSETTO:-0500
TZNAME:CDT
DTSTART:20260308T080000
END:DAYLIGHT
BEGIN:STANDARD
TZOFFSETFROM:-0500
TZOFFSETTO:-0600
TZNAME:CST
DTSTART:20261101T070000
END:STANDARD
BEGIN:DAYLIGHT
TZOFFSETFROM:-0600
TZOFFSETTO:-0500
TZNAME:CDT
DTSTART:20270314T080000
END:DAYLIGHT
BEGIN:STANDARD
TZOFFSETFROM:-0500
TZOFFSETTO:-0600
TZNAME:CST
DTSTART:20271107T070000
END:STANDARD
END:VTIMEZONE
BEGIN:VEVENT
DTSTART;TZID=America/Chicago:20260404T193000
DTEND;TZID=America/Chicago:20260404T223000
DTSTAMP:20260423T211143
CREATED:20260227T185428Z
LAST-MODIFIED:20260227T185428Z
UID:78304-1775331000-1775341800@odessaarts.org
SUMMARY:Music at the Marriott by the West Texas Jazz Society
DESCRIPTION:7:30-10:30 pm\nEvery Saturday\nIn The Odessa Marriott Lobby \nco-sponsored by the Jazz Society and Odessa Arts
URL:https://odessaarts.org/event/music-at-the-marriott-by-the-west-texas-jazz-society/2026-04-04/
LOCATION:Odessa Marriott Hotel & Conference Center\, 305 E. 5th Street\, Odessa\, Texas\, 79761
CATEGORIES:Music
END:VEVENT
BEGIN:VEVENT
DTSTART;TZID=America/Chicago:20260404T210000
DTEND;TZID=America/Chicago:20260404T210000
DTSTAMP:20260423T211143
CREATED:20260303T170607Z
LAST-MODIFIED:20260303T170607Z
UID:78359-1775336400-1775336400@odessaarts.org
SUMMARY:Polo Urias y Su Maquina Norteña
DESCRIPTION:Este SÁBADO 04 DE ABRIL 2026 prepárate para una noche histórica  Celebrando 30 AÑOS de trayectoria Directamente al escenario: Polo Urías y Su Maquina Norteña Y para completar el bailazo… @La Tropa Del Norte432 MEDIA Dos Amigos4700 N Golder Ave\, Odessa\, TX
URL:https://odessaarts.org/event/polo-urias-y-su-maquina-nortena/
LOCATION:Dos Amigos\, 4700 N.Golder Ave\, Odessa\, TX\, 79764\, United States
CATEGORIES:Music
END:VEVENT
END:VCALENDAR