BEGIN:VCALENDAR
VERSION:2.0
PRODID:-//Odessa Arts - ECPv6.15.20//NONSGML v1.0//EN
CALSCALE:GREGORIAN
METHOD:PUBLISH
X-WR-CALNAME:Odessa Arts
X-ORIGINAL-URL:https://odessaarts.org
X-WR-CALDESC:Events for Odessa Arts
REFRESH-INTERVAL;VALUE=DURATION:PT1H
X-Robots-Tag:noindex
X-PUBLISHED-TTL:PT1H
BEGIN:VTIMEZONE
TZID:America/Chicago
BEGIN:DAYLIGHT
TZOFFSETFROM:-0600
TZOFFSETTO:-0500
TZNAME:CDT
DTSTART:20250309T080000
END:DAYLIGHT
BEGIN:STANDARD
TZOFFSETFROM:-0500
TZOFFSETTO:-0600
TZNAME:CST
DTSTART:20251102T070000
END:STANDARD
BEGIN:DAYLIGHT
TZOFFSETFROM:-0600
TZOFFSETTO:-0500
TZNAME:CDT
DTSTART:20260308T080000
END:DAYLIGHT
BEGIN:STANDARD
TZOFFSETFROM:-0500
TZOFFSETTO:-0600
TZNAME:CST
DTSTART:20261101T070000
END:STANDARD
BEGIN:DAYLIGHT
TZOFFSETFROM:-0600
TZOFFSETTO:-0500
TZNAME:CDT
DTSTART:20270314T080000
END:DAYLIGHT
BEGIN:STANDARD
TZOFFSETFROM:-0500
TZOFFSETTO:-0600
TZNAME:CST
DTSTART:20271107T070000
END:STANDARD
END:VTIMEZONE
BEGIN:VEVENT
DTSTART;TZID=America/Chicago:20260418T180000
DTEND;TZID=America/Chicago:20260418T193000
DTSTAMP:20260423T211113
CREATED:20260227T202344Z
LAST-MODIFIED:20260227T202344Z
UID:78346-1776535200-1776540600@odessaarts.org
SUMMARY:Symphony SoundBites by the West Texas Symphony
DESCRIPTION:Add the pre-concert dinner on any of the following dates. Held in the Rea-Greathouse Recital Hall at WNPAC\, enjoy a catered meal while the Maestro provides you with an insider’s view of the evening’s music.\n$30 / Dinner  \nApril 18\, 2026\nMENU – Chicken Fried Steak\, Green Chili Chicken Breast\, Loaded Mashed Potatoes\, Homestyle Green Beans\, Garden Salad\, Bread\, Lemon Berry Cake\, Texas Sheet Cake\nProudly sponsored by Gregg Blain \nDinner includes sides\, dessert and beverage. Cash bar available. Tickets are limited and based on a first-come-first-serve basis. *Menus are subject to change.
URL:https://odessaarts.org/event/symphony-soundbites-by-the-west-texas-symphony/
LOCATION:Wagner Noël Performing Arts Center\, 1310 FM 1788\, Midland\, Texas
CATEGORIES:Music
END:VEVENT
BEGIN:VEVENT
DTSTART;TZID=America/Chicago:20260418T193000
DTEND;TZID=America/Chicago:20260418T193000
DTSTAMP:20260423T211113
CREATED:20260209T212826Z
LAST-MODIFIED:20260209T212826Z
UID:77872-1776540600-1776540600@odessaarts.org
SUMMARY:Blue Cathedral - West Texas Symphony
DESCRIPTION:  \nSaturday\, April 18\, 2026\n7:30 PM | Wagner Noël Performing Arts Center\nGary Lewis\, Conductor\nDr. Peter Martens\, Organ \nBlue Cathedral – Jennifer Higdon\nSymphony No. 3\, “Organ” – Camille Saint-Saëns\nFeaturing a custom-built electric organ designed and performed by Dr. Martens! \nTickets $12 – $83\, Students $12 (plus venue fees)\nCLICK TO PURCHASE TICKETS ONLINE\n800-514-3849
URL:https://odessaarts.org/event/blue-cathedral-west-texas-symphony/
LOCATION:Wagner Noël Performing Arts Center\, 1310 FM 1788\, Midland\, Texas
CATEGORIES:Music
ORGANIZER;CN="West Texas Symphony":MAILTO:symphony@wtxs.org
END:VEVENT
BEGIN:VEVENT
DTSTART;TZID=America/Chicago:20260418T193000
DTEND;TZID=America/Chicago:20260418T223000
DTSTAMP:20260423T211113
CREATED:20260227T185428Z
LAST-MODIFIED:20260227T185428Z
UID:78306-1776540600-1776551400@odessaarts.org
SUMMARY:Music at the Marriott by the West Texas Jazz Society
DESCRIPTION:7:30-10:30 pm\nEvery Saturday\nIn The Odessa Marriott Lobby \nco-sponsored by the Jazz Society and Odessa Arts
URL:https://odessaarts.org/event/music-at-the-marriott-by-the-west-texas-jazz-society/2026-04-18/
LOCATION:Odessa Marriott Hotel & Conference Center\, 305 E. 5th Street\, Odessa\, Texas\, 79761
CATEGORIES:Music
END:VEVENT
BEGIN:VEVENT
DTSTART;TZID=America/Chicago:20260418T200000
DTEND;TZID=America/Chicago:20260418T200000
DTSTAMP:20260423T211113
CREATED:20260408T214831Z
LAST-MODIFIED:20260408T214831Z
UID:78533-1776542400-1776542400@odessaarts.org
SUMMARY:Los Altenos de la Sierra
DESCRIPTION:Sábado de los que se viven al cien \nLos Alteños De La Sierra junto con Los Nuevos Cadetes soltando rolitas pa’ cantar\, pistear y prender el ambiente como se debe \n\n\nLa raza ya sabe… noche maciza\, música en vivo y puro cotorreo desde que arranca \n\n\n Compra tus boletos en www.dosamigostickets.com\n\n\n 8PM | 21+\n 4700 N Golder Ave\, Odessa\, TX\n (432) 888-0877\n432 MEDIA
URL:https://odessaarts.org/event/los-altenos-de-la-sierra/
LOCATION:Dos Amigos\, 4700 N.Golder Ave\, Odessa\, TX\, 79764\, United States
CATEGORIES:Music
END:VEVENT
END:VCALENDAR