BEGIN:VCALENDAR
VERSION:2.0
PRODID:-//Odessa Arts - ECPv6.15.20//NONSGML v1.0//EN
CALSCALE:GREGORIAN
METHOD:PUBLISH
X-ORIGINAL-URL:https://odessaarts.org
X-WR-CALDESC:Events for Odessa Arts
REFRESH-INTERVAL;VALUE=DURATION:PT1H
X-Robots-Tag:noindex
X-PUBLISHED-TTL:PT1H
BEGIN:VTIMEZONE
TZID:America/Chicago
BEGIN:DAYLIGHT
TZOFFSETFROM:-0600
TZOFFSETTO:-0500
TZNAME:CDT
DTSTART:20250309T080000
END:DAYLIGHT
BEGIN:STANDARD
TZOFFSETFROM:-0500
TZOFFSETTO:-0600
TZNAME:CST
DTSTART:20251102T070000
END:STANDARD
BEGIN:DAYLIGHT
TZOFFSETFROM:-0600
TZOFFSETTO:-0500
TZNAME:CDT
DTSTART:20260308T080000
END:DAYLIGHT
BEGIN:STANDARD
TZOFFSETFROM:-0500
TZOFFSETTO:-0600
TZNAME:CST
DTSTART:20261101T070000
END:STANDARD
BEGIN:DAYLIGHT
TZOFFSETFROM:-0600
TZOFFSETTO:-0500
TZNAME:CDT
DTSTART:20270314T080000
END:DAYLIGHT
BEGIN:STANDARD
TZOFFSETFROM:-0500
TZOFFSETTO:-0600
TZNAME:CST
DTSTART:20271107T070000
END:STANDARD
END:VTIMEZONE
BEGIN:VEVENT
DTSTART;TZID=America/Chicago:20260420T193000
DTEND;TZID=America/Chicago:20260420T193000
DTSTAMP:20260423T211206
CREATED:20260202T210525Z
LAST-MODIFIED:20260202T210525Z
UID:77741-1776713400-1776713400@odessaarts.org
SUMMARY:Randy Travis:  The More Life Tour
DESCRIPTION:he Randy Travis: More Life Tour features the legendary country singer and his co-star in independent film The Price\, James Dupré. The Country Music Hall of Fame member’s long-time touring band rejoins “Hoss\,” as they affectionately call Travis\, on the road for the first time since right before his stroke in 2013. The show will consist of Dupré and the band performing all of his iconic number ones including “On The Other Hand\,” “Forever and Ever\, Amen” and “Three Wooden Crosses.” \nRandy Travis will make a special appearance\, engaging with the audience and taking part in the show. Please note: While he will not be singing\, his presence will make for an unforgettable experience. VIP passes are available in most markets that include a meet and greet with the country icon\, himself. Tickets for the shows will be listed at RandyTravis.com as they go on sale. \n“We are incredibly excited to be back on the road and give Randy’s fans a chance to hear his music live again\, and who better to sing his many hits than James Dupré?” said Mary and Randy Travis. \nAlways wanting to please his fans\, and not willing to give up creating despite the after-effects of the stroke\, the long-time Grand Ole Opry star stunned the world by releasing two songs newly created with the use of advanced technology over the past two years\, “Where That Came From” and “Horses in Heaven.” \nFor more information about the More Life Tour and everything Randy Travis\, please visit www.RandyTravis.com.
URL:https://odessaarts.org/event/randy-travis-the-more-life-tour/
LOCATION:Wagner Noël Performing Arts Center\, 1310 FM 1788\, Midland\, Texas
CATEGORIES:Music,Theatre & Literary Arts
END:VEVENT
END:VCALENDAR