BEGIN:VCALENDAR
VERSION:2.0
PRODID:-//Odessa Arts - ECPv6.15.20//NONSGML v1.0//EN
CALSCALE:GREGORIAN
METHOD:PUBLISH
X-WR-CALNAME:Odessa Arts
X-ORIGINAL-URL:https://odessaarts.org
X-WR-CALDESC:Events for Odessa Arts
REFRESH-INTERVAL;VALUE=DURATION:PT1H
X-Robots-Tag:noindex
X-PUBLISHED-TTL:PT1H
BEGIN:VTIMEZONE
TZID:America/Chicago
BEGIN:DAYLIGHT
TZOFFSETFROM:-0600
TZOFFSETTO:-0500
TZNAME:CDT
DTSTART:20250309T080000
END:DAYLIGHT
BEGIN:STANDARD
TZOFFSETFROM:-0500
TZOFFSETTO:-0600
TZNAME:CST
DTSTART:20251102T070000
END:STANDARD
BEGIN:DAYLIGHT
TZOFFSETFROM:-0600
TZOFFSETTO:-0500
TZNAME:CDT
DTSTART:20260308T080000
END:DAYLIGHT
BEGIN:STANDARD
TZOFFSETFROM:-0500
TZOFFSETTO:-0600
TZNAME:CST
DTSTART:20261101T070000
END:STANDARD
BEGIN:DAYLIGHT
TZOFFSETFROM:-0600
TZOFFSETTO:-0500
TZNAME:CDT
DTSTART:20270314T080000
END:DAYLIGHT
BEGIN:STANDARD
TZOFFSETFROM:-0500
TZOFFSETTO:-0600
TZNAME:CST
DTSTART:20271107T070000
END:STANDARD
END:VTIMEZONE
BEGIN:VEVENT
DTSTART;TZID=America/Chicago:20260421T190000
DTEND;TZID=America/Chicago:20260421T190000
DTSTAMP:20260423T211134
CREATED:20260202T210744Z
LAST-MODIFIED:20260202T210744Z
UID:77743-1776798000-1776798000@odessaarts.org
SUMMARY:The Limeliters
DESCRIPTION:For more than 60 years the Limeliters have entertained audiences from coast to coast with their soaring vocal harmonies and screwball sense of humor. They first made their mark in folk clubs and on college campuses during the height of the folk music boom of the early 60’s. Before long\, founding members Alex Hassilev\, Lou Gottlieb and Glenn Yarbrough emerged as one of the dominant voices of the early 1960’s folk music scene. \nA string of best-selling albums for RCA Records and frequent appearances on dozens of major TV shows quickly made them a household name. For three years they were the musical representatives for Coca-Cola\, and their rendition of the jingle “Things Go Better with Coke” became a national hit. \nTime Magazine summed up their appeal with the following memorable quote: “If the button down scrubbed looking Kingston Trio are the undergraduates of big-time folk singing\, The Limeliters are the faculty.”  \nOver the years\, the lineup of the group has featured several spectacularly talented new members\, but The Limeliters have never deviated from the integrity of the fabulous sound that they pioneered and they are still one of the most exciting and entertaining vocal acts touring the country.
URL:https://odessaarts.org/event/the-limeliters/
LOCATION:Wagner Noël Performing Arts Center\, 1310 FM 1788\, Midland\, Texas
CATEGORIES:Music
END:VEVENT
END:VCALENDAR