BEGIN:VCALENDAR
VERSION:2.0
PRODID:-//Odessa Arts - ECPv6.15.20//NONSGML v1.0//EN
CALSCALE:GREGORIAN
METHOD:PUBLISH
X-ORIGINAL-URL:https://odessaarts.org
X-WR-CALDESC:Events for Odessa Arts
REFRESH-INTERVAL;VALUE=DURATION:PT1H
X-Robots-Tag:noindex
X-PUBLISHED-TTL:PT1H
BEGIN:VTIMEZONE
TZID:America/Chicago
BEGIN:DAYLIGHT
TZOFFSETFROM:-0600
TZOFFSETTO:-0500
TZNAME:CDT
DTSTART:20250309T080000
END:DAYLIGHT
BEGIN:STANDARD
TZOFFSETFROM:-0500
TZOFFSETTO:-0600
TZNAME:CST
DTSTART:20251102T070000
END:STANDARD
BEGIN:DAYLIGHT
TZOFFSETFROM:-0600
TZOFFSETTO:-0500
TZNAME:CDT
DTSTART:20260308T080000
END:DAYLIGHT
BEGIN:STANDARD
TZOFFSETFROM:-0500
TZOFFSETTO:-0600
TZNAME:CST
DTSTART:20261101T070000
END:STANDARD
BEGIN:DAYLIGHT
TZOFFSETFROM:-0600
TZOFFSETTO:-0500
TZNAME:CDT
DTSTART:20270314T080000
END:DAYLIGHT
BEGIN:STANDARD
TZOFFSETFROM:-0500
TZOFFSETTO:-0600
TZNAME:CST
DTSTART:20271107T070000
END:STANDARD
END:VTIMEZONE
BEGIN:VEVENT
DTSTART;VALUE=DATE:20260501
DTEND;VALUE=DATE:20260504
DTSTAMP:20260423T225627
CREATED:20260219T154527Z
LAST-MODIFIED:20260219T154527Z
UID:78062-1777593600-1777852799@odessaarts.org
SUMMARY:Viva La Fiesta!
DESCRIPTION:Celebrate 30 years of culture\, music\, and community at one of West Texas’ most beloved traditions – Viva La Fiesta! For three incredible days\, Ector County Coliseum transforms into a vibrant festival filled with live entertainment\, incredible food\, local vendors\, and family-friendly fun. \nMusic Line-Up: \nVIERNES • MAYO 1 \nLa Mafia • De Parranda • Erick y Massore \nSÁBADO • MAYO 2 \nLos Rieleros del Norte • Conjunto Relincho • Tropicalísimo Apache \nDOMINGO • MAYO 3 \nLa Fiera de Ojinaga • Keith Nieto • Sonora Skandalo \nWhat to Expect: \n🎶 Live music & performances all weekend long \n🌮 Authentic food vendors serving delicious food favorites \n🛍 Local marketplace with artisans & small businesses \n🎡 Carnival rides\, games\, and entertainment \n💃 A lively celebration of culture\, community & tradition
URL:https://odessaarts.org/event/viva-la-fiesta/
LOCATION:Ector County Coliseum\, 4201 Andrews Highway\, Odessa\, TX\, 79762\, United States
CATEGORIES:Music
END:VEVENT
BEGIN:VEVENT
DTSTART;TZID=America/Chicago:20260502T193000
DTEND;TZID=America/Chicago:20260502T223000
DTSTAMP:20260423T225627
CREATED:20260227T185428Z
LAST-MODIFIED:20260227T185428Z
UID:78308-1777750200-1777761000@odessaarts.org
SUMMARY:Music at the Marriott by the West Texas Jazz Society
DESCRIPTION:7:30-10:30 pm\nEvery Saturday\nIn The Odessa Marriott Lobby \nco-sponsored by the Jazz Society and Odessa Arts
URL:https://odessaarts.org/event/music-at-the-marriott-by-the-west-texas-jazz-society/2026-05-02/
LOCATION:Odessa Marriott Hotel & Conference Center\, 305 E. 5th Street\, Odessa\, Texas\, 79761
CATEGORIES:Music
END:VEVENT
END:VCALENDAR