BEGIN:VCALENDAR
VERSION:2.0
PRODID:-//Odessa Arts - ECPv6.15.20//NONSGML v1.0//EN
CALSCALE:GREGORIAN
METHOD:PUBLISH
X-WR-CALNAME:Odessa Arts
X-ORIGINAL-URL:https://odessaarts.org
X-WR-CALDESC:Events for Odessa Arts
REFRESH-INTERVAL;VALUE=DURATION:PT1H
X-Robots-Tag:noindex
X-PUBLISHED-TTL:PT1H
BEGIN:VTIMEZONE
TZID:America/Chicago
BEGIN:DAYLIGHT
TZOFFSETFROM:-0600
TZOFFSETTO:-0500
TZNAME:CDT
DTSTART:20250309T080000
END:DAYLIGHT
BEGIN:STANDARD
TZOFFSETFROM:-0500
TZOFFSETTO:-0600
TZNAME:CST
DTSTART:20251102T070000
END:STANDARD
BEGIN:DAYLIGHT
TZOFFSETFROM:-0600
TZOFFSETTO:-0500
TZNAME:CDT
DTSTART:20260308T080000
END:DAYLIGHT
BEGIN:STANDARD
TZOFFSETFROM:-0500
TZOFFSETTO:-0600
TZNAME:CST
DTSTART:20261101T070000
END:STANDARD
BEGIN:DAYLIGHT
TZOFFSETFROM:-0600
TZOFFSETTO:-0500
TZNAME:CDT
DTSTART:20270314T080000
END:DAYLIGHT
BEGIN:STANDARD
TZOFFSETFROM:-0500
TZOFFSETTO:-0600
TZNAME:CST
DTSTART:20271107T070000
END:STANDARD
END:VTIMEZONE
BEGIN:VEVENT
DTSTART;TZID=America/Chicago:20260529T193000
DTEND;TZID=America/Chicago:20260529T193000
DTSTAMP:20260424T002947
CREATED:20260202T211613Z
LAST-MODIFIED:20260202T211613Z
UID:77750-1780083000-1780083000@odessaarts.org
SUMMARY:Permian Basin String Quartet
DESCRIPTION:ADULT $25.00\nSTUDENT $12.00 (with purchase of Adult Ticket or Valid College ID) \nGENERAL ADMISSION SEATING  ||  REA-GREATHOUSE HALL
URL:https://odessaarts.org/event/permian-basin-string-quartet-3/
LOCATION:Rea-Greathouse Recital Hall\, 1310 Farm to Market 1788\, Midlan\, TX\, 79707\, United States
CATEGORIES:Music
END:VEVENT
END:VCALENDAR