BEGIN:VCALENDAR
VERSION:2.0
PRODID:-//Odessa Arts - ECPv6.15.20//NONSGML v1.0//EN
CALSCALE:GREGORIAN
METHOD:PUBLISH
X-ORIGINAL-URL:https://odessaarts.org
X-WR-CALDESC:Events for Odessa Arts
REFRESH-INTERVAL;VALUE=DURATION:PT1H
X-Robots-Tag:noindex
X-PUBLISHED-TTL:PT1H
BEGIN:VTIMEZONE
TZID:America/Chicago
BEGIN:DAYLIGHT
TZOFFSETFROM:-0600
TZOFFSETTO:-0500
TZNAME:CDT
DTSTART:20250309T080000
END:DAYLIGHT
BEGIN:STANDARD
TZOFFSETFROM:-0500
TZOFFSETTO:-0600
TZNAME:CST
DTSTART:20251102T070000
END:STANDARD
BEGIN:DAYLIGHT
TZOFFSETFROM:-0600
TZOFFSETTO:-0500
TZNAME:CDT
DTSTART:20260308T080000
END:DAYLIGHT
BEGIN:STANDARD
TZOFFSETFROM:-0500
TZOFFSETTO:-0600
TZNAME:CST
DTSTART:20261101T070000
END:STANDARD
BEGIN:DAYLIGHT
TZOFFSETFROM:-0600
TZOFFSETTO:-0500
TZNAME:CDT
DTSTART:20270314T080000
END:DAYLIGHT
BEGIN:STANDARD
TZOFFSETFROM:-0500
TZOFFSETTO:-0600
TZNAME:CST
DTSTART:20271107T070000
END:STANDARD
END:VTIMEZONE
BEGIN:VEVENT
DTSTART;VALUE=DATE:20260601
DTEND;VALUE=DATE:20260614
DTSTAMP:20260424T003007
CREATED:20260217T154228Z
LAST-MODIFIED:20260217T155018Z
UID:77944-1780272000-1781395199@odessaarts.org
SUMMARY:Alice in Wonderland Jr. Summer Camp
DESCRIPTION:SUMMER CAMP ANNOUNCEMENT!\n\n\n Don’t be late for this very important date… Summer Camp registration is Here! \n\n\nWe have three magical summer camps headed your way\, and registration is officially open! Spots are limited\, so hop down and secure your student’s spot today!\n\n\nFirst up: Alice in Wonderland Jr.\n• Grades: 2nd–12th\n• Dates: June 1 – June 13\n• LIMITED SPOTS\n\n\nYour students will tumble into a world of wonder\, meet curious characters\, and follow the white rabbit into an adventure! \n\n\nRegister here: https://docs.google.com/…/1FAIpQLSdV1TE…/viewform…\n\n\nDon’t let this adventure slip through the looking glass!
URL:https://odessaarts.org/event/alice-in-wonderland-jr-summer-camp/
LOCATION:Basin Theatre Works\, 310 W. 42nd Street\, Odessa\, TX\, 79764\, United States
CATEGORIES:Music,Theatre & Literary Arts
END:VEVENT
BEGIN:VEVENT
DTSTART;TZID=America/Chicago:20260613T193000
DTEND;TZID=America/Chicago:20260613T223000
DTSTAMP:20260424T003007
CREATED:20260227T185428Z
LAST-MODIFIED:20260227T185428Z
UID:78314-1781379000-1781389800@odessaarts.org
SUMMARY:Music at the Marriott by the West Texas Jazz Society
DESCRIPTION:7:30-10:30 pm\nEvery Saturday\nIn The Odessa Marriott Lobby \nco-sponsored by the Jazz Society and Odessa Arts
URL:https://odessaarts.org/event/music-at-the-marriott-by-the-west-texas-jazz-society/2026-06-13/
LOCATION:Odessa Marriott Hotel & Conference Center\, 305 E. 5th Street\, Odessa\, Texas\, 79761
CATEGORIES:Music
END:VEVENT
END:VCALENDAR