BEGIN:VCALENDAR
VERSION:2.0
PRODID:-//Odessa Arts - ECPv6.15.20//NONSGML v1.0//EN
CALSCALE:GREGORIAN
METHOD:PUBLISH
X-ORIGINAL-URL:https://odessaarts.org
X-WR-CALDESC:Events for Odessa Arts
REFRESH-INTERVAL;VALUE=DURATION:PT1H
X-Robots-Tag:noindex
X-PUBLISHED-TTL:PT1H
BEGIN:VTIMEZONE
TZID:America/Chicago
BEGIN:DAYLIGHT
TZOFFSETFROM:-0600
TZOFFSETTO:-0500
TZNAME:CDT
DTSTART:20250309T080000
END:DAYLIGHT
BEGIN:STANDARD
TZOFFSETFROM:-0500
TZOFFSETTO:-0600
TZNAME:CST
DTSTART:20251102T070000
END:STANDARD
BEGIN:DAYLIGHT
TZOFFSETFROM:-0600
TZOFFSETTO:-0500
TZNAME:CDT
DTSTART:20260308T080000
END:DAYLIGHT
BEGIN:STANDARD
TZOFFSETFROM:-0500
TZOFFSETTO:-0600
TZNAME:CST
DTSTART:20261101T070000
END:STANDARD
BEGIN:DAYLIGHT
TZOFFSETFROM:-0600
TZOFFSETTO:-0500
TZNAME:CDT
DTSTART:20270314T080000
END:DAYLIGHT
BEGIN:STANDARD
TZOFFSETFROM:-0500
TZOFFSETTO:-0600
TZNAME:CST
DTSTART:20271107T070000
END:STANDARD
END:VTIMEZONE
BEGIN:VEVENT
DTSTART;TZID=America/Chicago:20260620T130000
DTEND;TZID=America/Chicago:20260630T160000
DTSTAMP:20260424T003011
CREATED:20260217T172259Z
LAST-MODIFIED:20260217T172259Z
UID:77975-1781960400-1782835200@odessaarts.org
SUMMARY:Beginning Pointe Workshop
DESCRIPTION:For dancers beginning En Pointe training. \nJuly 20-30\nMondays – Thursdays 1:00-4:00pm \n$500\nRegistration closes May 1\, Full amount due July 1. \nMFB’s Beginning Pointe Workshop is designed to give dancers the knowledge\, strength\, and confidence needed for a safe and successful transition to pointe. They’ll begin with a ballet class\, and then move on to foundational pointe exercises at the barre and center that build stability and alignment\, helping prevent injury and promote long-term success. They’ll also sew their shoes and learn about proper shoe care. Dancers that are beginning En Pointe training are strongly encouraged to attend. Dancers moving up to En Pointe training will be notified by March 6. \nDress Code: Leotard\, Tights\, Ballet Slippers\, Pointe Shoes. Hair must be worn in a ballet bun. \nATTN: COMPANY & JUNIOR COMPANY DANCERS \nYou MUST take at least 2 weeks of training over the summer. This is for your safety\, as regular class attendance is the #1 way to prevent injury. Failure to comply will jeopardize Company placement. Please reach out with any questions or concerns.
URL:https://odessaarts.org/event/beginning-pointe-workshop/
LOCATION:Midland Festival Ballet\, 4410 N Midkiff Rd suite c-1\, Midland\, TX\, 79705\, United States
CATEGORIES:Humanities,Music,Public Art
END:VEVENT
BEGIN:VEVENT
DTSTART;TZID=America/Chicago:20260622T093000
DTEND;TZID=America/Chicago:20260625T113000
DTSTAMP:20260424T003011
CREATED:20260217T165748Z
LAST-MODIFIED:20260217T165748Z
UID:77954-1782120600-1782387000@odessaarts.org
SUMMARY:Prince & Princess Camp: Session 3 by Midland Festival Ballet
DESCRIPTION:For dancers ages 3-4 by May 15\, 2026. Must be potty trained. \n\n\n\n\n\n\n\n\nSESSION 1\nMon. June 1 – Thurs. June 4\n9:30-11:30am \n\n\n\n\n\n\n\n\nSESSION 2\nMon. June 15 – Thurs. June 18\n9:30-11:30am \n\n\n\n\n\n\n\n\nSESSION 3\nMon. June 22 – Thurs. June 25\n9:30-11:30am \n\n\n\n\n\n\n\n\n$155/session\nFull amount due at registration. \nOur most popular camp incorporates basic ballet\, creative movement\, crafts\, and story-time. Coordination\, rhythm\, and ballet class discipline are emphasized throughout the camp while creating the opportunity for your dancer to express themselves through dance. \nDress Code\nGirls: Leotard\, Socks\, Ballet Slippers. Hair must be worn in a ballet bun.\nBoys: White T-Shirt\, Black Shorts\, Ballet Slippers.
URL:https://odessaarts.org/event/prince-princess-camp-session-3-by-midland-festival-ballet/
LOCATION:Midland Festival Ballet\, 4410 N Midkiff Rd suite c-1\, Midland\, TX\, 79705\, United States
CATEGORIES:Humanities,Music,Public Art
END:VEVENT
BEGIN:VEVENT
DTSTART;TZID=America/Chicago:20260622T130000
DTEND;TZID=America/Chicago:20260625T150000
DTSTAMP:20260424T003011
CREATED:20260217T170550Z
LAST-MODIFIED:20260217T170550Z
UID:77960-1782133200-1782399600@odessaarts.org
SUMMARY:Ballet Camp: The Nutcracker by Midland Festival Ballet
DESCRIPTION:For dancers ages 5-7 by May 15\, 2026. \n\n\n\n\n\n\n\n\nSLEEPING BEAUTY\nMon. June 8 – Thurs. June 11\n9:30-11:30am \n\n\n\n\n\n\n\n\nSWAN LAKE\nMon. June 15 – Thurs. June 18\n1:00-3:00pm \n\n\n\n\n\n\n\n\nTHE NUTCRACKER\nMon. June 22 – Thurs. June 25\n1:00-3:00pm \n\n\n\n\n\n\n\n\n$155/session\nFull amount due at registration. \nOur ballet camps incorporate the choreography\, music\, and history of some of the world’s most famous ballets! It’s a great introduction to the art of story-telling through dance. Ballet technique\, coordination\, rhythm\, and ballet class discipline are emphasized throughout the camp while creating the opportunity for your dancer to express themselves through dance! \nDress Code\nGirls: Leotard\, Tights\, Ballet Slippers. Hair must be worn in a ballet bun.\nBoys: White T-Shirt\, Black Shorts\, Ballet Slippers.
URL:https://odessaarts.org/event/ballet-camp-the-nutcracker-by-midland-festival-ballet/
LOCATION:Midland Festival Ballet\, 4410 N Midkiff Rd suite c-1\, Midland\, TX\, 79705\, United States
CATEGORIES:Humanities,Music,Public Art
END:VEVENT
END:VCALENDAR