BEGIN:VCALENDAR
VERSION:2.0
PRODID:-//Odessa Arts - ECPv6.15.20//NONSGML v1.0//EN
CALSCALE:GREGORIAN
METHOD:PUBLISH
X-WR-CALNAME:Odessa Arts
X-ORIGINAL-URL:https://odessaarts.org
X-WR-CALDESC:Events for Odessa Arts
REFRESH-INTERVAL;VALUE=DURATION:PT1H
X-Robots-Tag:noindex
X-PUBLISHED-TTL:PT1H
BEGIN:VTIMEZONE
TZID:America/Chicago
BEGIN:DAYLIGHT
TZOFFSETFROM:-0600
TZOFFSETTO:-0500
TZNAME:CDT
DTSTART:20250309T080000
END:DAYLIGHT
BEGIN:STANDARD
TZOFFSETFROM:-0500
TZOFFSETTO:-0600
TZNAME:CST
DTSTART:20251102T070000
END:STANDARD
BEGIN:DAYLIGHT
TZOFFSETFROM:-0600
TZOFFSETTO:-0500
TZNAME:CDT
DTSTART:20260308T080000
END:DAYLIGHT
BEGIN:STANDARD
TZOFFSETFROM:-0500
TZOFFSETTO:-0600
TZNAME:CST
DTSTART:20261101T070000
END:STANDARD
BEGIN:DAYLIGHT
TZOFFSETFROM:-0600
TZOFFSETTO:-0500
TZNAME:CDT
DTSTART:20270314T080000
END:DAYLIGHT
BEGIN:STANDARD
TZOFFSETFROM:-0500
TZOFFSETTO:-0600
TZNAME:CST
DTSTART:20271107T070000
END:STANDARD
END:VTIMEZONE
BEGIN:VEVENT
DTSTART;TZID=America/Chicago:20261116T190000
DTEND;TZID=America/Chicago:20261116T210000
DTSTAMP:20260424T075804
CREATED:20260401T152135Z
LAST-MODIFIED:20260401T152135Z
UID:78514-1794855600-1794862800@odessaarts.org
SUMMARY:Nutcracker! Magical Christmas Ballet
DESCRIPTION:Make this the Christmas they’ll never forget with NUTCRACKER! Magical Christmas Ballet. Experience the largest Nutcracker production in North America — a breathtaking holiday spectacle featuring world-class international dancers\, gravity-defying acrobatics\, magnificent costumes\, and towering puppets. Set to Tchaikovsky’s iconic score\, this grand production transforms the stage into an unforgettable celebration of the season — one your family will treasure for years to come.
URL:https://odessaarts.org/event/nutcracker-magical-christmas-ballet-4/
LOCATION:Wagner Noël Performing Arts Center\, 1310 FM 1788\, Midland\, Texas
CATEGORIES:Music,Performing Arts
END:VEVENT
END:VCALENDAR