BEGIN:VCALENDAR
VERSION:2.0
PRODID:-//Odessa Arts - ECPv6.15.20//NONSGML v1.0//EN
CALSCALE:GREGORIAN
METHOD:PUBLISH
X-ORIGINAL-URL:https://odessaarts.org
X-WR-CALDESC:Events for Odessa Arts
REFRESH-INTERVAL;VALUE=DURATION:PT1H
X-Robots-Tag:noindex
X-PUBLISHED-TTL:PT1H
BEGIN:VTIMEZONE
TZID:America/Chicago
BEGIN:DAYLIGHT
TZOFFSETFROM:-0600
TZOFFSETTO:-0500
TZNAME:CDT
DTSTART:20250309T080000
END:DAYLIGHT
BEGIN:STANDARD
TZOFFSETFROM:-0500
TZOFFSETTO:-0600
TZNAME:CST
DTSTART:20251102T070000
END:STANDARD
BEGIN:DAYLIGHT
TZOFFSETFROM:-0600
TZOFFSETTO:-0500
TZNAME:CDT
DTSTART:20260308T080000
END:DAYLIGHT
BEGIN:STANDARD
TZOFFSETFROM:-0500
TZOFFSETTO:-0600
TZNAME:CST
DTSTART:20261101T070000
END:STANDARD
BEGIN:DAYLIGHT
TZOFFSETFROM:-0600
TZOFFSETTO:-0500
TZNAME:CDT
DTSTART:20270314T080000
END:DAYLIGHT
BEGIN:STANDARD
TZOFFSETFROM:-0500
TZOFFSETTO:-0600
TZNAME:CST
DTSTART:20271107T070000
END:STANDARD
END:VTIMEZONE
BEGIN:VEVENT
DTSTART;TZID=America/Chicago:20261202T170000
DTEND;TZID=America/Chicago:20261203T190000
DTSTAMP:20260424T075953
CREATED:20260401T153243Z
LAST-MODIFIED:20260401T153243Z
UID:78518-1796230800-1796324400@odessaarts.org
SUMMARY:Bluey's Big Play Tour
DESCRIPTION:This is Bluey’s Big Play\, For Real Life. When Dad feels like a little bit of time out\, Bluey and Bingo have other plans! Join them as they pull out all of the games and cleverness at their disposal to get Dad off that bean bag. Bluey’s Big Play is a theatrical adaptation of the Emmy awardwinning children’s television series\, with an original story by Bluey creator Joe Brumm\, and new music by Bluey composer\, Joff Bush. Join the Heelers in their first live theatre show made just for you\, featuring brilliantly created puppets\, this is Bluey as you’ve never seen it before\, brought to real life. Bluey’s Big Play is presented by BBC Studios and Andrew Kay in association with Windmill Theatre Co. Website: blueylive.com Facebook / Instagram: @OfficialBlueyTV #BlueysBigPlay
URL:https://odessaarts.org/event/blueys-big-play-tour/
LOCATION:Wagner Noël Performing Arts Center\, 1310 FM 1788\, Midland\, Texas
CATEGORIES:Music,Performing Arts
END:VEVENT
END:VCALENDAR