BEGIN:VCALENDAR
VERSION:2.0
PRODID:-//Odessa Arts - ECPv6.15.20//NONSGML v1.0//EN
CALSCALE:GREGORIAN
METHOD:PUBLISH
X-ORIGINAL-URL:https://odessaarts.org
X-WR-CALDESC:Events for Odessa Arts
REFRESH-INTERVAL;VALUE=DURATION:PT1H
X-Robots-Tag:noindex
X-PUBLISHED-TTL:PT1H
BEGIN:VTIMEZONE
TZID:America/Chicago
BEGIN:DAYLIGHT
TZOFFSETFROM:-0600
TZOFFSETTO:-0500
TZNAME:CDT
DTSTART:20250309T080000
END:DAYLIGHT
BEGIN:STANDARD
TZOFFSETFROM:-0500
TZOFFSETTO:-0600
TZNAME:CST
DTSTART:20251102T070000
END:STANDARD
BEGIN:DAYLIGHT
TZOFFSETFROM:-0600
TZOFFSETTO:-0500
TZNAME:CDT
DTSTART:20260308T080000
END:DAYLIGHT
BEGIN:STANDARD
TZOFFSETFROM:-0500
TZOFFSETTO:-0600
TZNAME:CST
DTSTART:20261101T070000
END:STANDARD
BEGIN:DAYLIGHT
TZOFFSETFROM:-0600
TZOFFSETTO:-0500
TZNAME:CDT
DTSTART:20270314T080000
END:DAYLIGHT
BEGIN:STANDARD
TZOFFSETFROM:-0500
TZOFFSETTO:-0600
TZNAME:CST
DTSTART:20271107T070000
END:STANDARD
END:VTIMEZONE
BEGIN:VEVENT
DTSTART;TZID=America/Chicago:20260710T183000
DTEND;TZID=America/Chicago:20260710T183000
DTSTAMP:20260425T081343
CREATED:20260129T215840Z
LAST-MODIFIED:20260129T215840Z
UID:77721-1783708200-1783708200@odessaarts.org
SUMMARY:TRACY LAWRENCE - No Alibis Tour 2026
DESCRIPTION:July 10\, 2026 7:45 PM\nDoors Open: 6:45 PM\n\n\n\n\n\nTICKET PRICES $96.34 – 47.63    AISLE SEATING $107.17 – $58.46 (sets of 2)\nChoose from the best available aisle seats and enjoy the convenience of easy\naccess to refreshments\, restrooms and venue exits. \nPLATINUM SEATING $164.95 – $47.63All In Pricing Includes Convenience FeesDynamically priced seats  – Prices may vary 
URL:https://odessaarts.org/event/tracy-lawrence-no-alibis-tour-2026/
LOCATION:Wagner Noël Performing Arts Center\, 1310 FM 1788\, Midland\, Texas
CATEGORIES:Music
END:VEVENT
BEGIN:VEVENT
DTSTART;TZID=America/Chicago:20260711T193000
DTEND;TZID=America/Chicago:20260711T223000
DTSTAMP:20260425T081343
CREATED:20260227T185428Z
LAST-MODIFIED:20260227T185428Z
UID:78318-1783798200-1783809000@odessaarts.org
SUMMARY:Music at the Marriott by the West Texas Jazz Society
DESCRIPTION:7:30-10:30 pm\nEvery Saturday\nIn The Odessa Marriott Lobby \nco-sponsored by the Jazz Society and Odessa Arts
URL:https://odessaarts.org/event/music-at-the-marriott-by-the-west-texas-jazz-society/2026-07-11/
LOCATION:Odessa Marriott Hotel & Conference Center\, 305 E. 5th Street\, Odessa\, Texas\, 79761
CATEGORIES:Music
END:VEVENT
BEGIN:VEVENT
DTSTART;TZID=America/Chicago:20260714T183000
DTEND;TZID=America/Chicago:20260714T183000
DTSTAMP:20260425T081343
CREATED:20260212T193626Z
LAST-MODIFIED:20260212T193626Z
UID:77921-1784053800-1784053800@odessaarts.org
SUMMARY:Brit Floyd - The Moon\, The Wall and Beyond
DESCRIPTION:Wagner Noël Performing Arts Center\n\n   July 14\, 2026 7:30 PM\nDoors Open: 6:30 PM\n\n\n\n\n\n\nRESERVED $84.19 – $61.88\nAll in pricing includes Convenience Fees.\n\n\nBRIT FLOYD’S VIP M&G SOUNDCHECK EXPERIENCE – $234.70\nAll in pricing includes Convenience Fees.\nSee Details Below\n\n\n\nBRIT FLOYD’S VIP M&G SOUNDCHECK EXPERIENCE – $234.70\n\nOn arrival at the venue at 5:00pm on the show day\, each guest will be given a special Brit Floyd VIP Performance with Meet and Greet\nExperience tour pass and lanyard and will have an exclusive opportunity to browse through all the show merchandise and to chat\nto the show personnel pre-show.\n\n\nThe VIPs will then be invited by Brit Floyd’s tour manager into the venue auditorium for the private soundcheck experience.\nBrit Floyd’s musicians will treat the VIP audience to a special bonus performance of two classic Pink Floyd songs not featured in the\nevening show\, and then afterwards will come down from the stage to meet all the guests.\n\nThe musicians will be happy to chat with the VIPs\, sign merchandise and have photos taken.\nBrit Floyd fans can expect to be treated to a\nmemorable and personal experience!\n\nALL PATRONS\, INCLUDING LAP CHILDREN\, INFANTS & BABIES\, WILL REQUIRE A TICKET FOR ENTRY FOR ALL TICKETED PERFORMANCES. \n• PLEASE REVIEW CART CAREFULLY BEFORE COMPLETING YOUR PURCHASE\n• ALL SALES FINAL. NO REFUNDS OR EXCHANGES\n\nThe Wagner Noël Performing Arts Center Box Office\, 1 (800) 514-3849 provided by ETIX and www.wagnernoel.com are the only authorized outlets for tickets to performances at the Wagner Noël Performing Arts Center. Tickets purchased from any other sources\, such as brokers or secondary market websites\, are purchased at your own risk. We urge patrons to purchase tickets only from the Wagner Noël Performing Arts Center. By purchasing from the official ticket provider\, you are assured that the ticket you receive is valid and being sold to you at face value. \nWhen you buy from someone other than the Wagner Noël Performing Arts Center:\n• We cannot guarantee that your tickets are genuine\n• You almost always pay more than face value\n• We cannot replace lost or stolen tickets or help to resolve any ticketing issues\n• We cannot contact you with information on show cancellations\, time changes or other useful information
URL:https://odessaarts.org/event/brit-floyd-the-moon-the-wall-and-beyond/
LOCATION:Wagner Noël Performing Arts Center\, 1310 FM 1788\, Midland\, Texas
CATEGORIES:Music
END:VEVENT
BEGIN:VEVENT
DTSTART;VALUE=DATE:20260717
DTEND;VALUE=DATE:20260720
DTSTAMP:20260425T081343
CREATED:20260317T175415Z
LAST-MODIFIED:20260317T175415Z
UID:78445-1784246400-1784505599@odessaarts.org
SUMMARY:2nd Annual Oil City Tattoo Expo
DESCRIPTION:MC MAGIC LIVE IN ODESSA\, TEXAS \nGet ready\, West Texas — MC Magic is taking the stage on Sunday\, July 19th at the Ector County Coliseum for an unforgettable night of music and energy!\n\n\nJoin us for a full weekend experience at the\n2nd Annual Oil City Tattoo & Art Expo\nPresented by All American Chevrolet of Midland\n\n\n July 17–19\, 2026\n Ector County Coliseum\n All Ages Welcome\n\n\nThis family-friendly event brings together world-class tattoo artists\, art\, vendors\, live entertainment\, and an epic Sunday concert you do NOT want to miss.\n\n\nClear your schedule. Request the days off. Make it a weekend.\n TAG YOUR FRIENDS for a chance to WIN a pair of WEEKEND PASSES \n\n\nWest Texas — we’re doing this BIG.
URL:https://odessaarts.org/event/2nd-annual-oil-city-tattoo-expo/
LOCATION:Ector County Coliseum\, 4201 Andrews Highway\, Odessa\, TX\, 79762\, United States
CATEGORIES:Music,Visual Arts
END:VEVENT
BEGIN:VEVENT
DTSTART;TZID=America/Chicago:20260718T193000
DTEND;TZID=America/Chicago:20260718T223000
DTSTAMP:20260425T081343
CREATED:20260227T185428Z
LAST-MODIFIED:20260227T185428Z
UID:78319-1784403000-1784413800@odessaarts.org
SUMMARY:Music at the Marriott by the West Texas Jazz Society
DESCRIPTION:7:30-10:30 pm\nEvery Saturday\nIn The Odessa Marriott Lobby \nco-sponsored by the Jazz Society and Odessa Arts
URL:https://odessaarts.org/event/music-at-the-marriott-by-the-west-texas-jazz-society/2026-07-18/
LOCATION:Odessa Marriott Hotel & Conference Center\, 305 E. 5th Street\, Odessa\, Texas\, 79761
CATEGORIES:Music
END:VEVENT
BEGIN:VEVENT
DTSTART;TZID=America/Chicago:20260720T153000
DTEND;TZID=America/Chicago:20260723T173000
DTSTAMP:20260425T081343
CREATED:20260217T172455Z
LAST-MODIFIED:20260217T172455Z
UID:77978-1784561400-1784827800@odessaarts.org
SUMMARY:Pre-Season Classes: Session 1 by Midland Festival Ballet
DESCRIPTION:For dancers ages 12+ and younger dancers who have 1+ year of En Pointe training.\nAge cutoff date is May 15\, 2026. \n\n\n\n\n\n\n\n\nSESSION 1\nMon. July 20 – Thurs. July 23\n3:30-5:30pm \n\n\n\n\n\n\n\n\nSESSION 2\nMon. July 27 – Thurs. July 30\n3:30-5:30pm \n\n\n\n\n\n\n\n\n$120/session\nFull amount due at registration. \nRegular dance class attendance isn’t just good for improving your technique. It’s also the #1 way to avoid injury! Register for Summer Classes today to maintain your strength and flexibility while protecting your body during the summer break. \nDress Code: Leotard\, Tights\, Ballet Slippers\, Pointe Shoes. Hair must be worn in a ballet bun. \nATTN: COMPANY & JUNIOR COMPANY DANCERS \nYou MUST take at least 2 weeks of training over the summer. This is for your safety\, as regular class attendance is the #1 way to prevent injury. Failure to comply will jeopardize Company placement. Please reach out with any questions or concerns.
URL:https://odessaarts.org/event/pre-season-classes-session-1-by-midland-festival-ballet/
LOCATION:Midland Festival Ballet\, 4410 N Midkiff Rd suite c-1\, Midland\, TX\, 79705\, United States
CATEGORIES:Humanities,Music,Public Art
END:VEVENT
BEGIN:VEVENT
DTSTART;TZID=America/Chicago:20260725T193000
DTEND;TZID=America/Chicago:20260725T223000
DTSTAMP:20260425T081343
CREATED:20260227T185428Z
LAST-MODIFIED:20260227T185428Z
UID:78320-1785007800-1785018600@odessaarts.org
SUMMARY:Music at the Marriott by the West Texas Jazz Society
DESCRIPTION:7:30-10:30 pm\nEvery Saturday\nIn The Odessa Marriott Lobby \nco-sponsored by the Jazz Society and Odessa Arts
URL:https://odessaarts.org/event/music-at-the-marriott-by-the-west-texas-jazz-society/2026-07-25/
LOCATION:Odessa Marriott Hotel & Conference Center\, 305 E. 5th Street\, Odessa\, Texas\, 79761
CATEGORIES:Music
END:VEVENT
BEGIN:VEVENT
DTSTART;TZID=America/Chicago:20260727T153000
DTEND;TZID=America/Chicago:20260730T173000
DTSTAMP:20260425T081343
CREATED:20260217T172805Z
LAST-MODIFIED:20260217T172805Z
UID:77982-1785166200-1785432600@odessaarts.org
SUMMARY:Pre-Season Classes: Session 2 by Midland Festival Ballet
DESCRIPTION:For dancers ages 12+ and younger dancers who have 1+ year of En Pointe training.\nAge cutoff date is May 15\, 2026. \n\n\n\n\n\n\n\n\nSESSION 1\nMon. July 20 – Thurs. July 23\n3:30-5:30pm \n\n\n\n\n\n\n\n\nSESSION 2\nMon. July 27 – Thurs. July 30\n3:30-5:30pm \n\n\n\n\n\n\n\n\n$120/session\nFull amount due at registration. \nRegular dance class attendance isn’t just good for improving your technique. It’s also the #1 way to avoid injury! Register for Summer Classes today to maintain your strength and flexibility while protecting your body during the summer break. \nDress Code: Leotard\, Tights\, Ballet Slippers\, Pointe Shoes. Hair must be worn in a ballet bun. \nATTN: COMPANY & JUNIOR COMPANY DANCERS \nYou MUST take at least 2 weeks of training over the summer. This is for your safety\, as regular class attendance is the #1 way to prevent injury. Failure to comply will jeopardize Company placement. Please reach out with any questions or concerns.
URL:https://odessaarts.org/event/pre-season-classes-session-2-by-midland-festival-ballet/
LOCATION:Midland Festival Ballet\, 4410 N Midkiff Rd suite c-1\, Midland\, TX\, 79705\, United States
CATEGORIES:Humanities,Music,Public Art
END:VEVENT
BEGIN:VEVENT
DTSTART;TZID=America/Chicago:20260801T193000
DTEND;TZID=America/Chicago:20260801T223000
DTSTAMP:20260425T081343
CREATED:20260227T185428Z
LAST-MODIFIED:20260227T185428Z
UID:78321-1785612600-1785623400@odessaarts.org
SUMMARY:Music at the Marriott by the West Texas Jazz Society
DESCRIPTION:7:30-10:30 pm\nEvery Saturday\nIn The Odessa Marriott Lobby \nco-sponsored by the Jazz Society and Odessa Arts
URL:https://odessaarts.org/event/music-at-the-marriott-by-the-west-texas-jazz-society/2026-08-01/
LOCATION:Odessa Marriott Hotel & Conference Center\, 305 E. 5th Street\, Odessa\, Texas\, 79761
CATEGORIES:Music
END:VEVENT
BEGIN:VEVENT
DTSTART;TZID=America/Chicago:20260807T180000
DTEND;TZID=America/Chicago:20260807T210000
DTSTAMP:20260425T081343
CREATED:20260114T175014Z
LAST-MODIFIED:20260114T175034Z
UID:77586-1786125600-1786136400@odessaarts.org
SUMMARY:First Friday ODTX!
DESCRIPTION:First Friday ODTX is a monthly gathering every first Friday of the month for residents and visitors of downtown Odessa. Each month\, the streets are lively and colorful with music\, games\, and delicious food. There are unbeatable deals from local businesses and exciting opportunities to collect amazing giveaways. The event is open to all ages and caters to everyone’s interests. For music lovers\, there are live performances by local bands and artists\, while foodies can indulge in a diverse range of street eats. Downtown shops and eateries will offer special promotions. First Friday ODTX event brings vibrancy and community spirit to downtown Odessa\, making it the perfect place to spend a Friday evening.
URL:https://odessaarts.org/event/first-friday-6/2026-08-07/
LOCATION:Downtown Odessa\, 79761\, United States
CATEGORIES:Humanities,Music,Public Art,Theatre & Literary Arts,Visual Arts
END:VEVENT
BEGIN:VEVENT
DTSTART;TZID=America/Chicago:20260808T193000
DTEND;TZID=America/Chicago:20260808T223000
DTSTAMP:20260425T081343
CREATED:20260227T185428Z
LAST-MODIFIED:20260227T185428Z
UID:78322-1786217400-1786228200@odessaarts.org
SUMMARY:Music at the Marriott by the West Texas Jazz Society
DESCRIPTION:7:30-10:30 pm\nEvery Saturday\nIn The Odessa Marriott Lobby \nco-sponsored by the Jazz Society and Odessa Arts
URL:https://odessaarts.org/event/music-at-the-marriott-by-the-west-texas-jazz-society/2026-08-08/
LOCATION:Odessa Marriott Hotel & Conference Center\, 305 E. 5th Street\, Odessa\, Texas\, 79761
CATEGORIES:Music
END:VEVENT
BEGIN:VEVENT
DTSTART;TZID=America/Chicago:20260815T193000
DTEND;TZID=America/Chicago:20260815T223000
DTSTAMP:20260425T081343
CREATED:20260227T185428Z
LAST-MODIFIED:20260227T185428Z
UID:78323-1786822200-1786833000@odessaarts.org
SUMMARY:Music at the Marriott by the West Texas Jazz Society
DESCRIPTION:7:30-10:30 pm\nEvery Saturday\nIn The Odessa Marriott Lobby \nco-sponsored by the Jazz Society and Odessa Arts
URL:https://odessaarts.org/event/music-at-the-marriott-by-the-west-texas-jazz-society/2026-08-15/
LOCATION:Odessa Marriott Hotel & Conference Center\, 305 E. 5th Street\, Odessa\, Texas\, 79761
CATEGORIES:Music
END:VEVENT
BEGIN:VEVENT
DTSTART;TZID=America/Chicago:20260821T193000
DTEND;TZID=America/Chicago:20260821T213000
DTSTAMP:20260425T081343
CREATED:20260401T151615Z
LAST-MODIFIED:20260401T151615Z
UID:78510-1787340600-1787347800@odessaarts.org
SUMMARY:Classic Albums Live Fleetwood Mac "Rumors"
DESCRIPTION:Experience Classic Albums Live as they perform Fleetwood Mac’s Rumours ‘note for note\, cut for cut\, live on stage at Wagner Noël PAC plus a Fleetwood Mac greatest hits set! Rumours became the fastest-selling album of all time and won the GRAMMY® in 1977 for Album of the Year. To date\, it has sold more than 40 million copies worldwide. The hit songs on the album\, (Go Your Own Way\, You Make Loving Fun\, Second Hand News\, Never Going Back Again\, The Chain and Gold Dust Woman) reflected the turmoil within the band itself and fueled the creativity that made the band a phenomenon.
URL:https://odessaarts.org/event/classic-albums-live-fleetwood-mac-rumors/
LOCATION:Wagner Noël Performing Arts Center\, 1310 FM 1788\, Midland\, Texas
CATEGORIES:Music
END:VEVENT
BEGIN:VEVENT
DTSTART;TZID=America/Chicago:20260822T193000
DTEND;TZID=America/Chicago:20260822T223000
DTSTAMP:20260425T081343
CREATED:20260227T185428Z
LAST-MODIFIED:20260227T185428Z
UID:78324-1787427000-1787437800@odessaarts.org
SUMMARY:Music at the Marriott by the West Texas Jazz Society
DESCRIPTION:7:30-10:30 pm\nEvery Saturday\nIn The Odessa Marriott Lobby \nco-sponsored by the Jazz Society and Odessa Arts
URL:https://odessaarts.org/event/music-at-the-marriott-by-the-west-texas-jazz-society/2026-08-22/
LOCATION:Odessa Marriott Hotel & Conference Center\, 305 E. 5th Street\, Odessa\, Texas\, 79761
CATEGORIES:Music
END:VEVENT
BEGIN:VEVENT
DTSTART;TZID=America/Chicago:20260829T193000
DTEND;TZID=America/Chicago:20260829T223000
DTSTAMP:20260425T081343
CREATED:20260227T185428Z
LAST-MODIFIED:20260227T185428Z
UID:78325-1788031800-1788042600@odessaarts.org
SUMMARY:Music at the Marriott by the West Texas Jazz Society
DESCRIPTION:7:30-10:30 pm\nEvery Saturday\nIn The Odessa Marriott Lobby \nco-sponsored by the Jazz Society and Odessa Arts
URL:https://odessaarts.org/event/music-at-the-marriott-by-the-west-texas-jazz-society/2026-08-29/
LOCATION:Odessa Marriott Hotel & Conference Center\, 305 E. 5th Street\, Odessa\, Texas\, 79761
CATEGORIES:Music
END:VEVENT
BEGIN:VEVENT
DTSTART;TZID=America/Chicago:20260904T180000
DTEND;TZID=America/Chicago:20260904T210000
DTSTAMP:20260425T081343
CREATED:20260114T175014Z
LAST-MODIFIED:20260114T175034Z
UID:77587-1788544800-1788555600@odessaarts.org
SUMMARY:First Friday ODTX!
DESCRIPTION:First Friday ODTX is a monthly gathering every first Friday of the month for residents and visitors of downtown Odessa. Each month\, the streets are lively and colorful with music\, games\, and delicious food. There are unbeatable deals from local businesses and exciting opportunities to collect amazing giveaways. The event is open to all ages and caters to everyone’s interests. For music lovers\, there are live performances by local bands and artists\, while foodies can indulge in a diverse range of street eats. Downtown shops and eateries will offer special promotions. First Friday ODTX event brings vibrancy and community spirit to downtown Odessa\, making it the perfect place to spend a Friday evening.
URL:https://odessaarts.org/event/first-friday-6/2026-09-04/
LOCATION:Downtown Odessa\, 79761\, United States
CATEGORIES:Humanities,Music,Public Art,Theatre & Literary Arts,Visual Arts
END:VEVENT
BEGIN:VEVENT
DTSTART;TZID=America/Chicago:20260905T193000
DTEND;TZID=America/Chicago:20260905T223000
DTSTAMP:20260425T081343
CREATED:20260227T185428Z
LAST-MODIFIED:20260227T185428Z
UID:78326-1788636600-1788647400@odessaarts.org
SUMMARY:Music at the Marriott by the West Texas Jazz Society
DESCRIPTION:7:30-10:30 pm\nEvery Saturday\nIn The Odessa Marriott Lobby \nco-sponsored by the Jazz Society and Odessa Arts
URL:https://odessaarts.org/event/music-at-the-marriott-by-the-west-texas-jazz-society/2026-09-05/
LOCATION:Odessa Marriott Hotel & Conference Center\, 305 E. 5th Street\, Odessa\, Texas\, 79761
CATEGORIES:Music
END:VEVENT
BEGIN:VEVENT
DTSTART;TZID=America/Chicago:20260912T193000
DTEND;TZID=America/Chicago:20260912T223000
DTSTAMP:20260425T081343
CREATED:20260227T185428Z
LAST-MODIFIED:20260227T185428Z
UID:78327-1789241400-1789252200@odessaarts.org
SUMMARY:Music at the Marriott by the West Texas Jazz Society
DESCRIPTION:7:30-10:30 pm\nEvery Saturday\nIn The Odessa Marriott Lobby \nco-sponsored by the Jazz Society and Odessa Arts
URL:https://odessaarts.org/event/music-at-the-marriott-by-the-west-texas-jazz-society/2026-09-12/
LOCATION:Odessa Marriott Hotel & Conference Center\, 305 E. 5th Street\, Odessa\, Texas\, 79761
CATEGORIES:Music
END:VEVENT
BEGIN:VEVENT
DTSTART;TZID=America/Chicago:20260919T193000
DTEND;TZID=America/Chicago:20260919T223000
DTSTAMP:20260425T081343
CREATED:20260227T185428Z
LAST-MODIFIED:20260227T185428Z
UID:78328-1789846200-1789857000@odessaarts.org
SUMMARY:Music at the Marriott by the West Texas Jazz Society
DESCRIPTION:7:30-10:30 pm\nEvery Saturday\nIn The Odessa Marriott Lobby \nco-sponsored by the Jazz Society and Odessa Arts
URL:https://odessaarts.org/event/music-at-the-marriott-by-the-west-texas-jazz-society/2026-09-19/
LOCATION:Odessa Marriott Hotel & Conference Center\, 305 E. 5th Street\, Odessa\, Texas\, 79761
CATEGORIES:Music
END:VEVENT
BEGIN:VEVENT
DTSTART;TZID=America/Chicago:20260926T193000
DTEND;TZID=America/Chicago:20260926T223000
DTSTAMP:20260425T081343
CREATED:20260227T185428Z
LAST-MODIFIED:20260227T185428Z
UID:78329-1790451000-1790461800@odessaarts.org
SUMMARY:Music at the Marriott by the West Texas Jazz Society
DESCRIPTION:7:30-10:30 pm\nEvery Saturday\nIn The Odessa Marriott Lobby \nco-sponsored by the Jazz Society and Odessa Arts
URL:https://odessaarts.org/event/music-at-the-marriott-by-the-west-texas-jazz-society/2026-09-26/
LOCATION:Odessa Marriott Hotel & Conference Center\, 305 E. 5th Street\, Odessa\, Texas\, 79761
CATEGORIES:Music
END:VEVENT
BEGIN:VEVENT
DTSTART;TZID=America/Chicago:20261002T180000
DTEND;TZID=America/Chicago:20261002T210000
DTSTAMP:20260425T081343
CREATED:20260114T175014Z
LAST-MODIFIED:20260114T175034Z
UID:77588-1790964000-1790974800@odessaarts.org
SUMMARY:First Friday ODTX!
DESCRIPTION:First Friday ODTX is a monthly gathering every first Friday of the month for residents and visitors of downtown Odessa. Each month\, the streets are lively and colorful with music\, games\, and delicious food. There are unbeatable deals from local businesses and exciting opportunities to collect amazing giveaways. The event is open to all ages and caters to everyone’s interests. For music lovers\, there are live performances by local bands and artists\, while foodies can indulge in a diverse range of street eats. Downtown shops and eateries will offer special promotions. First Friday ODTX event brings vibrancy and community spirit to downtown Odessa\, making it the perfect place to spend a Friday evening.
URL:https://odessaarts.org/event/first-friday-6/2026-10-02/
LOCATION:Downtown Odessa\, 79761\, United States
CATEGORIES:Humanities,Music,Public Art,Theatre & Literary Arts,Visual Arts
END:VEVENT
BEGIN:VEVENT
DTSTART;TZID=America/Chicago:20261003T193000
DTEND;TZID=America/Chicago:20261003T223000
DTSTAMP:20260425T081343
CREATED:20260227T185428Z
LAST-MODIFIED:20260227T185428Z
UID:78330-1791055800-1791066600@odessaarts.org
SUMMARY:Music at the Marriott by the West Texas Jazz Society
DESCRIPTION:7:30-10:30 pm\nEvery Saturday\nIn The Odessa Marriott Lobby \nco-sponsored by the Jazz Society and Odessa Arts
URL:https://odessaarts.org/event/music-at-the-marriott-by-the-west-texas-jazz-society/2026-10-03/
LOCATION:Odessa Marriott Hotel & Conference Center\, 305 E. 5th Street\, Odessa\, Texas\, 79761
CATEGORIES:Music
END:VEVENT
BEGIN:VEVENT
DTSTART;TZID=America/Chicago:20261010T193000
DTEND;TZID=America/Chicago:20261010T223000
DTSTAMP:20260425T081343
CREATED:20260227T185428Z
LAST-MODIFIED:20260227T185428Z
UID:78331-1791660600-1791671400@odessaarts.org
SUMMARY:Music at the Marriott by the West Texas Jazz Society
DESCRIPTION:7:30-10:30 pm\nEvery Saturday\nIn The Odessa Marriott Lobby \nco-sponsored by the Jazz Society and Odessa Arts
URL:https://odessaarts.org/event/music-at-the-marriott-by-the-west-texas-jazz-society/2026-10-10/
LOCATION:Odessa Marriott Hotel & Conference Center\, 305 E. 5th Street\, Odessa\, Texas\, 79761
CATEGORIES:Music
END:VEVENT
BEGIN:VEVENT
DTSTART;TZID=America/Chicago:20261017T193000
DTEND;TZID=America/Chicago:20261017T223000
DTSTAMP:20260425T081343
CREATED:20260227T185428Z
LAST-MODIFIED:20260227T185428Z
UID:78332-1792265400-1792276200@odessaarts.org
SUMMARY:Music at the Marriott by the West Texas Jazz Society
DESCRIPTION:7:30-10:30 pm\nEvery Saturday\nIn The Odessa Marriott Lobby \nco-sponsored by the Jazz Society and Odessa Arts
URL:https://odessaarts.org/event/music-at-the-marriott-by-the-west-texas-jazz-society/2026-10-17/
LOCATION:Odessa Marriott Hotel & Conference Center\, 305 E. 5th Street\, Odessa\, Texas\, 79761
CATEGORIES:Music
END:VEVENT
BEGIN:VEVENT
DTSTART;TZID=America/Chicago:20261024T193000
DTEND;TZID=America/Chicago:20261024T223000
DTSTAMP:20260425T081343
CREATED:20260227T185428Z
LAST-MODIFIED:20260227T185428Z
UID:78333-1792870200-1792881000@odessaarts.org
SUMMARY:Music at the Marriott by the West Texas Jazz Society
DESCRIPTION:7:30-10:30 pm\nEvery Saturday\nIn The Odessa Marriott Lobby \nco-sponsored by the Jazz Society and Odessa Arts
URL:https://odessaarts.org/event/music-at-the-marriott-by-the-west-texas-jazz-society/2026-10-24/
LOCATION:Odessa Marriott Hotel & Conference Center\, 305 E. 5th Street\, Odessa\, Texas\, 79761
CATEGORIES:Music
END:VEVENT
BEGIN:VEVENT
DTSTART;TZID=America/Chicago:20261031T193000
DTEND;TZID=America/Chicago:20261031T223000
DTSTAMP:20260425T081343
CREATED:20260227T185428Z
LAST-MODIFIED:20260227T185428Z
UID:78334-1793475000-1793485800@odessaarts.org
SUMMARY:Music at the Marriott by the West Texas Jazz Society
DESCRIPTION:7:30-10:30 pm\nEvery Saturday\nIn The Odessa Marriott Lobby \nco-sponsored by the Jazz Society and Odessa Arts
URL:https://odessaarts.org/event/music-at-the-marriott-by-the-west-texas-jazz-society/2026-10-31/
LOCATION:Odessa Marriott Hotel & Conference Center\, 305 E. 5th Street\, Odessa\, Texas\, 79761
CATEGORIES:Music
END:VEVENT
BEGIN:VEVENT
DTSTART;TZID=America/Chicago:20261106T180000
DTEND;TZID=America/Chicago:20261106T210000
DTSTAMP:20260425T081343
CREATED:20260114T175014Z
LAST-MODIFIED:20260114T175034Z
UID:77589-1793988000-1793998800@odessaarts.org
SUMMARY:First Friday ODTX!
DESCRIPTION:First Friday ODTX is a monthly gathering every first Friday of the month for residents and visitors of downtown Odessa. Each month\, the streets are lively and colorful with music\, games\, and delicious food. There are unbeatable deals from local businesses and exciting opportunities to collect amazing giveaways. The event is open to all ages and caters to everyone’s interests. For music lovers\, there are live performances by local bands and artists\, while foodies can indulge in a diverse range of street eats. Downtown shops and eateries will offer special promotions. First Friday ODTX event brings vibrancy and community spirit to downtown Odessa\, making it the perfect place to spend a Friday evening.
URL:https://odessaarts.org/event/first-friday-6/2026-11-06/
LOCATION:Downtown Odessa\, 79761\, United States
CATEGORIES:Humanities,Music,Public Art,Theatre & Literary Arts,Visual Arts
END:VEVENT
BEGIN:VEVENT
DTSTART;TZID=America/Chicago:20261107T193000
DTEND;TZID=America/Chicago:20261107T223000
DTSTAMP:20260425T081343
CREATED:20260227T185428Z
LAST-MODIFIED:20260227T185428Z
UID:78335-1794079800-1794090600@odessaarts.org
SUMMARY:Music at the Marriott by the West Texas Jazz Society
DESCRIPTION:7:30-10:30 pm\nEvery Saturday\nIn The Odessa Marriott Lobby \nco-sponsored by the Jazz Society and Odessa Arts
URL:https://odessaarts.org/event/music-at-the-marriott-by-the-west-texas-jazz-society/2026-11-07/
LOCATION:Odessa Marriott Hotel & Conference Center\, 305 E. 5th Street\, Odessa\, Texas\, 79761
CATEGORIES:Music
END:VEVENT
BEGIN:VEVENT
DTSTART;TZID=America/Chicago:20261113T200000
DTEND;TZID=America/Chicago:20261113T200000
DTSTAMP:20260425T081343
CREATED:20260309T152522Z
LAST-MODIFIED:20260309T152522Z
UID:78372-1794600000-1794600000@odessaarts.org
SUMMARY:Mariachazo
DESCRIPTION:November 13\, 2026 8:00 PM\nDoors Open: 7:00 PM
URL:https://odessaarts.org/event/mariachazo/
LOCATION:Wagner Noël Performing Arts Center\, 1310 FM 1788\, Midland\, Texas
CATEGORIES:Music
END:VEVENT
BEGIN:VEVENT
DTSTART;TZID=America/Chicago:20261114T193000
DTEND;TZID=America/Chicago:20261114T223000
DTSTAMP:20260425T081343
CREATED:20260227T185428Z
LAST-MODIFIED:20260227T185428Z
UID:78336-1794684600-1794695400@odessaarts.org
SUMMARY:Music at the Marriott by the West Texas Jazz Society
DESCRIPTION:7:30-10:30 pm\nEvery Saturday\nIn The Odessa Marriott Lobby \nco-sponsored by the Jazz Society and Odessa Arts
URL:https://odessaarts.org/event/music-at-the-marriott-by-the-west-texas-jazz-society/2026-11-14/
LOCATION:Odessa Marriott Hotel & Conference Center\, 305 E. 5th Street\, Odessa\, Texas\, 79761
CATEGORIES:Music
END:VEVENT
END:VCALENDAR